Workbook

Sheet TKBGV-S
A1: BUỔI SÁNG | E1: THỜI KHÓA BIỂU HK2 2021 -2022 (CHÍNH THỨC - LẦN 01)
A2: Bắt đầu từ: 7h15' | E2: Thực hiện từ ngày: 17/01/2022
A4: Ngày | B4: Tiết | C4: 12A | D4: 12B | E4: 12C | F4: 12D | G4: 12E | H4: 12G | I4: 12H | J4: 12I | K4: 12K | L4: 12M | M4: 12N | N4: 12P | O4: 12Q | P4: 11A1 | Q4: 11A2 | R4: 11A3 | S4: 11A4 | T4: 11A5 | U4: 11A6 | V4: 11D1 | W4: 11D2 | X4: 11D3 | Y4: 11D4
A5: Thứ 2 | B5: 1 | C5: Vụ_L | D5: Hạnh_H | E5: Ngọ_T | F5: Hiếu_V | G5: Hạnh_V | H5: Hằng_V | I5: Nga_CD | J5: Tuyến_S | K5: Hồng_S | L5: Hoàn_S | M5: Hạnh_L | N5: V.Anh_H | O5: Hảo_H | P5: Len_T | Q5: Hiền | R5: Sâm_A | S5: Mẫn_A | T5: Hồng | U5: Cường | V5: Nga_A | W5: Thủy_V | X5: Tuyến_V | Y5: Nhung_V
B6: 2 | C6: Hảo_H | D6: Hồng_A | E6: Sâm_A | F6: Hiếu_V | G6: Hạnh_V | H6: Hoàn_S | I6: Hồng | J6: Tuyến_S | K6: Nghị_KT | L6: T.Hương_V | M6: Hạnh_H | N6: Vụ_L | O6: Dũng_KT | P6: Huyền_A | Q6: Hạnh_L | R6: Hằng_Đ | S6: V.Anh_H | T6: Hồng_S | U6: Cường | V6: Đ.Hương_V | W6: Nguyệt_H | X6: Ngọ_T | Y6: Nhung_V
B7: 3 | C7: Tuyến_V | D7: Nga_CD | E7: Sâm_A | F7: Hiếu_V | G7: Hảo_H | H7: Hằng_V | I7: Hồng_A | J7: Mẫn_A | K7: Quang_T | L7: T.Hương_V | M7: Hạnh_L | N7: Dũng_KT | O7: Nga_A | P7: Mạnh_QP | Q7: Châm | R7: Hồng_S | S7: Thủy_V | T7: Hải_L | U7: Nguyệt_H | V7: Đ.Hương_V | W7: Nghị_KT | X7: Ngọ_T | Y7: V.Anh_H
B8: 4 | C8: Quang_T | D8: Hiếu_V | E8: Nhung_V | F8: V.Anh_H | G8: Hằng_Đ | H8: Hằng_V | I8: Tuyến_S | J8: Mẫn_A | K8: Hạnh_H | L8: Hoàn_S | M8: Tuyến_V | N8: C.Hương_V | O8: Nga_A | P8: Sâm_V | Q8: Châm | R8: Dũng_KT | S8: Cường | T8: Thủy_A | U8: Nghị_KT | V8: Mạnh_QP | W8: Huyền_A | X8: Hải_L | Y8: Hồng_A
B9: 5 | C9: Quang_T | D9: Hạnh_H | E9: Ngọ_T | F9: Mạnh_QP | G9: Nghị_KT | H9: V.Anh_H | I9: Nhung_V | J9: Thương_T | K9: Hiếu_V | L9: Khanh_A | M9: Len_T | N9: C.Hương_V | O9: Hảo_H | P9: Sâm_V | Q9: Hằng_Đ | R9: Hoa_T | S9: Hồng_S | T9: Thủy_A | U9: Cường | V9: Nga_A | W9: Huyền_A | X9: Tuyến_V | Y9: Hồng_A
A10: Thứ 3 | B10: 1 | C10: Tuyến_V | D10: Mạnh_QP | E10: Thìn_CD | F10: Dũng_KT | G10: Hạnh_V | H10: Hiệp_Đ | I10: Hồng_A | J10: Hà_L | K10: Mẫn_A | L10: Sỹ_L | M10: Khanh_A | N10: Ng.Anh_QP | O10: T.Hương_V | P10: Len_T | Q10: Mai_S | R10: Sâm_A | S10: Yến_Su | T10: Nghị_KT | U10: H.Giang_S | V10: Đường_T | W10: Thảo_L | X10: Hường_Đ | Y10: Vụ_L
B11: 2 | C11: Tuyến_V | D11: Hà_L | E11: Sâm_A | F11: Hiệp_Đ | G11: Khanh_A | H11: Yến_Su | I11: Hường_Đ | J11: Hạnh_V | K11: Hằng_Đ | L11: Sỹ_L | M11: Len_T | N11: Châm | O11: T.Hương_V | P11: Dũng_KT | Q11: H.Giang_S | R11: Mai_S | S11: Mẫn_A | T11: Huyền_V | U11: Thảo_L | V11: Đường_T | W11: Mạnh_QP | X11: Nga_CD | Y11: Nghị_KT
B12: 3 | C12: Sâm_A | D12: Hồng_A | E12: Hằng_Đ | F12: Thủy_L | G12: Khanh_A | H12: Thìn_CD | I12: Nga_CD | J12: Thương_T | K12: Mẫn_A | L12: Hoa_T | M12: Mai_S | N12: Vụ_L | O12: Huế_T | P12: H.Giang_S | Q12: Châm | R12: Thảo_L | S12: Mạnh_QP | T12: Huyền_V | U12: Sâm_V | V12: T.Giang_S | W12: Yến_Su | X12: Nghị_KT | Y12: Hiệp_Đ
B13: 4 | C13: Vụ_L | D13: Đường_T | E13: Thủy_L | F13: Linh_Su | G13: Nga_CD | H13: Châm | I13: Yến_Su | J13: Thương_T | K13: Hà_L | L13: T.Hương_V | M13: Khanh_A | N13: C.Hương_V | O13: Huế_T | P13: Huyền_A | Q13: Dũng_KT | R13: Hoa_T | S13: Sỹ_L | T13: Mạnh_QP | U13: Sâm_V | V13: Thìn_CD | W13: Thìn_T | X13: Hồng_A | Y13: T.Giang_S
B14: 5 | C14: Nga_CD | D14: Đường_T | E14: Dũng_KT | F14: Thìn_CD | G14: Huế_T | H14: Châm | I14: Sỹ_L | J14: Ng.Anh_QP | K14: Linh_Su | L14: Hoa_T | M14: Hiệp_Đ | N14: Yến_Su | O14: Hà_L | P14: Sâm_V | Q14: H.Giang_S | R14: Sâm_A | S14: Mẫn_A | T14: Thủy_A | U14: Mạnh_QP | V14: Thủy_L | W14: Hằng_Đ | X14: T.Giang_S | Y14: Hồng_A
A15: Thứ 4 | B15: 1 | C15: Quang_T | D15: Hồng | E15: Thủy_L | F15: Thịnh | G15: Yến_Su | H15: Nghị_KT | I15: Hồng_A | J15: Hạnh_V | K15: Hiếu_V | L15: Hiền | M15: Khanh_A | N15: Hải | O15: Hà_L | P15: Dũng_KT | Q15: Hạnh_L | R15: Thảo_L | S15: Sỹ_L | T15: Cường | U15: Nguyệt_H | V15: Hằng_Đ | W15: Thủy_V | X15: T.Giang_S | Y15: V.Anh_H
B16: 2 | C16: Hiền | D16: Hà_L | E16: Thịnh | F16: T.Giang_S | G16: Hồng | H16: Thảo_L | I16: Sỹ_L | J16: Hạnh_V | K16: Ng.Anh_QP | L16: V.Anh_H | M16: Hải | N16: Hằng_T | O16: Huế_T | P16: Thủy_L | Q16: C.Hương_V | R16: Dũng_KT | S16: Nghị_KT | T16: Hải_L | U16: Châm | V16: Yến_Su | W16: Thìn_T | X16: Nguyệt_H | Y16: Vụ_L
B17: Học TB | C17: Sâm_A | D17: Đường_T | E17: Ngọ_T | F17: Hằng_T | G17: Huế_T | H17: Châm | I17: Thủy_T | J17: Thương_T | K17: Quang_T | L17: Khanh_A | M17: Len_T | N17: V.Anh_H | O17: Hảo_H | P17: Hạnh_H | Q17: Hoa_T | S17: Mẫn_A | T17: Quang_H | U17: Cường | V17: Nga_A | W17: Huyền_A | X17: Hồng_A
C18: Sâm_A | D18: Đường_T | E18: Ngọ_T | F18: Hằng_T | G18: Huế_T | H18: Châm | I18: Thủy_T | J18: Thương_T | K18: Quang_T | L18: Khanh_A | M18: Len_T | N18: V.Anh_H | O18: Hảo_H | P18: Hạnh_H | Q18: Hoa_T | S18: Mẫn_A | T18: Quang_H | U18: Cường | V18: Nga_A | W18: Huyền_A | X18: Hồng_A
C19: Sâm_A | D19: Đường_T | E19: Ngọ_T | F19: Hằng_T | G19: Huế_T | H19: Châm | I19: Thủy_T | J19: Thương_T | K19: Quang_T | L19: Khanh_A | M19: Len_T | N19: V.Anh_H | O19: Hảo_H | P19: Hạnh_H | Q19: Hoa_T | S19: Mẫn_A | T19: Quang_H | U19: Cường | V19: Nga_A | W19: Huyền_A | X19: Hồng_A
A20: Thứ 5 | B20: 1 | C20: Hảo_H | D20: Đường_T | E20: Linh_Su | F20: V.Anh_H | G20: Hạnh_V | H20: Yến_Su | I20: Hường_Đ | J20: Phương_Đ | K20: Mẫn_A | L20: Mai_S | M20: Hạnh_H | N20: T.Giang_S | O20: Ng.Anh_QP | P20: Huyền_A | Q20: Hạnh_L | R20: Đ.Hương_V | S20: Cường | T20: Huyền_V | U20: Nghị_KT | V20: Nguyệt_H | W20: Thìn_CD | X20: Mạnh_QP | Y20: Thương_T
B21: 2 | C21: Linh_Su | D21: Hường_Đ | E21: Hảo_H | F21: Nga_A | G21: Hạnh_V | H21: Mạnh_QP | I21: Yến_Su | J21: Mai_S | K21: Mẫn_A | L21: Phương_Đ | M21: Hạnh_L | N21: Châm | O21: Thìn_CD | P21: Huyền_A | Q21: Phượng_CD | R21: Đ.Hương_V | S21: V.Anh_H | T21: Nghị_KT | U21: Nguyệt_H | V21: Đường_T | W21: T.Giang_S | X21: Ngọ_T | Y21: Thương_T
B22: 3 | C22: Sâm_A | D22: Yến_Su | E22: Mạnh_QP | F22: Hiệp_Đ | G22: Hạnh_L | H22: Châm | I22: Thủy_T | J22: Mẫn_A | K22: Linh_Su | L22: Phượng_CD | M22: Thìn_CD | N22: C.Hương_V | O22: Nga_A | P22: Phương_Đ | Q22: V.Anh_H | R22: Hạnh_H | S22: Nghị_KT | T22: Huyền_V | U22: Cường | V22: Đường_T | W22: Huyền_A | X22: Hường_Đ | Y22: Mai_S
B23: 4 | C23: Hường_Đ | D23: Hà_L | E23: Nhung_V | F23: Hằng_T | G23: Huế_T | H23: Ngọ_T | I23: Mạnh_QP | J23: Nghị_KT | K23: Quang_T | L23: Khanh_A | M23: Hiệp_Đ | N23: Vụ_L | O23: Hảo_H | P23: Hạnh_H | Q23: Châm | R23: Sâm_A | S23: Phượng_CD | T23: Thủy_A | U23: Cường | V23: Nga_A | W23: Huyền_A | X23: Nguyệt_H | Y23: Thìn_CD
B24: 5 | C24: Vụ_L | D24: Đường_T | E24: Nhung_V | F24: Linh_Su | G24: Yến_Su | H24: Ngọ_T | I24: Thủy_T | J24: Hải | K24: Hà_L | L24: Khanh_A | M24: Ng.Anh_QP | N24: V.Anh_H | O24: Phương_Đ | P24: Phượng_CD | Q24: C.Hương_V | R24: Sâm_A | S24: Hồng_S | T24: Cường | U24: Châm | V24: Nga_A | W24: Nguyệt_H | X24: Mai_S | Y24: Mạnh_QP
A25: Thứ 6 | B25: 1 | C25: Hồng_S | D25: Hường_Đ | E25: Hằng_Đ | F25: Thủy_L | G25: Khanh_A | H25: Thảo_L | I25: Nhung_V | J25: Hạnh_H | K25: Hiếu_V | L25: Phương_Đ | M25: Tuyến_V | N25: Châm | O25: Mai_S | P25: H.Giang_S | Q25: Hoa_T | R25: Mạnh_QP | S25: V.Anh_H | T25: Hải_L | U25: Sâm_V | V25: Đ.Hương_V | W25: T.Giang_S | X25: Hồng_A | Y25: Nghị_KT
B26: 2 | C26: Hường_Đ | D26: Hồng_A | E26: Ngọ_T | F26: Hằng_T | G26: Mạnh_QP | H26: Hiệp_Đ | I26: Nhung_V | J26: Phương_Đ | K26: Hiếu_V | L26: Khanh_A | M26: Nghị_KT | N26: Hằng_Đ | O26: Hồng_S | P26: Thủy_L | Q26: Hoa_T | R26: Hạnh_H | S26: Mẫn_A | T26: Mai_S | U26: Thảo_L | V26: Đ.Hương_V | W26: Thủy_V | X26: Hải_L | Y26: T.Giang_S
B27: 3 | C27: Mạnh_QP | D27: Dũng_KT | E27: Thủy_L | F27: Hiếu_V | G27: Hằng_Đ | H27: Ngọ_T | I27: Nghị_KT | J27: Mẫn_A | K27: Hạnh_H | L27: T.Hương_V | M27: Khanh_A | N27: Châm | O27: Phương_Đ | P27: Len_T | Q27: V.Anh_H | R27: Hoa_T | S27: Hường_Đ | T27: Quang_H | U27: H.Giang_S | V27: Nga_A | W27: Thảo_L | X27: Tuyến_V | Y27: Hiệp_Đ
B28: 4 | C28: Dũng_KT | D28: Hồng_A | E28: Nhung_V | F28: Nga_A | G28: Khanh_A | H28: Châm | I28: V.Anh_H | J28: Mai_S | K28: Hằng_Đ | L28: Nghị_KT | M28: H.Giang_S | N28: Hằng_T | O28: T.Hương_V | P28: Len_T | Q28: Mạnh_QP | R28: Hạnh_H | S28: Thủy_V | T28: Hiệp_Đ | U28: Hợp_Su | V28: T.Giang_S | W28: Thìn_T | X28: Tuyến_V | Y28: Thương_T
B29: 5 | C29: Tuyến_V | D29: Hiếu_V | E29: Ngọ_T | F29: Nga_A | G29: H.Giang_S | H29: V.Anh_H | I29: Thủy_T | J29: Thương_T | K29: Hồng_S | L29: Mai_S | M29: Len_T | N29: Hằng_T | O29: T.Hương_V | P29: Hợp_Su | Q29: Dũng_KT | R29: Hoa_T | S29: Thủy_V | T29: Quang_H | U29: Châm | V29: Nguyệt_H | W29: Thìn_T | X29: Hồng_A | Y29: Nhung_V
A30: Thứ 7 | B30: 1 | C30: Quang_T | D30: Hạnh_H | E30: Sâm_A | F30: Hiếu_V | G30: Huế_T | H30: Ngọ_T | I30: V.Anh_H | J30: Hà_L | K30: Phượng_CD | L30: Ng.Anh_QP | M30: Tuyến_V | N30: Hằng_Đ | O30: Hiền | P30: Thủy_L | Q30: Hoa_T | R30: Đ.Hương_V | S30: Cường | T30: Hồng_S | U30: Nga_CD | V30: Nghị_KT | W30: Thủy_V | X30: Hồng_A | Y30: Nhung_V
B31: 2 | C31: Sâm_A | D31: Hiếu_V | E31: Hồng_S | F31: Nga_A | G31: Huế_T | H31: Hằng_V | I31: Hồng_A | J31: Hạnh_H | K31: Hiền | L31: Hoa_T | M31: Tuyến_V | N31: Hằng_T | O31: Hà_L | P31: Sâm_V | Q31: C.Hương_V | R31: Đ.Hương_V | S31: Cường | T31: Phượng_CD | U31: Hằng_Đ | V31: Thủy_L | W31: Thủy_V | X31: Nghị_KT | Y31: Nhung_V
B32: 3 | C32: Sâm_A | D32: Hiếu_V | E32: Hảo_H | F32: Hằng_T | G32: Hạnh_L | H32: Hằng_V | I32: Nhung_V | J32: Phượng_CD | K32: Quang_T | L32: Hoa_T | M32: Len_T | N32: V.Anh_H | O32: Nga_A | P32: Hạnh_H | Q32: C.Hương_V | R32: Nga_CD | S32: Thủy_V | T32: Cường | U32: Sâm_V | V32: Hằng_Đ | W32: Nghị_KT | X32: Ngọ_T | Y32: Hồng_A
B33: 4 | C33: Vụ_L | D33: Hoàn_S | E33: Ngọ_T | F33: Hằng_T | G33: Hảo_H | H33: Hồng | I33: Thủy_T | J33: Hạnh_V | K33: Quang_T | L33: V.Anh_H | M33: Hạnh_L | N33: Nga_CD | O33: Huế_T | P33: Len_T | Q33: Hoa_T | R33: Hồng_S | S33: Mẫn_A | T33: Cường | U33: Châm | V33: Nghị_KT | W33: Hằng_Đ | X33: Tuyến_V | Y33: Thương_T
B34: 5 | C34: Vụ_L | D34: Hạnh_H | E34: Ngọ_T | F34: Hiếu_V | G34: Hạnh_V | H34: Hằng_V | I34: Nga_CD | J34: Tuyến_S | K34: Hồng_S | L34: Hoàn_S | M34: Hạnh_L | N34: V.Anh_H | O34: Hảo_H | P34: Len_T | Q34: Hiền | R34: Sâm_A | S34: Mẫn_A | T34: Hồng | U34: Cường | V34: Nga_A | W34: Thủy_V | X34: Tuyến_V | Y34: Nhung_V

Sheet TKBGV-C
A1: BUỔI CHIỀU | F1: ='TKBGV-S'!$E$1 -> THỜI KHÓA BIỂU HK2 2021 -2022 (CHÍNH THỨC - LẦN 01)
A2: Bắt đầu từ: 12h45 | F2: ='TKBGV-S'!$E$2 -> Thực hiện từ ngày: 17/01/2022
A4: Ngày | B4: Tiết | C4: 10A1 | D4: 10A2 | E4: 10A3 | F4: 10A4 | G4: 10A5 | H4: 10A6 | I4: 10A7 | J4: 10A8 | K4: 10D1 | L4: 10D2 | M4: 10D3 | N4: 10D4 | O4: 10D5 | P4: 10D6 | Q4: 10D7 | R4: 11D5 | S4: 11D6 | T4: 11D7 | U4: 11D8 | V4: 11D9
A5: Thứ 2 | B5: 1 | C5: Thịnh | D5: Quang_T | E5: Huế_T | F5: Nội_CN | G5: Huyền_V | H5: Sỹ_L | I5: Hạnh_V | J5: Thủy_L | K5: Linh_Su | L5: Hằng_T | M5: Oanh_A | N5: Quang_H | O5: Hợp_Su | P5: Hà_L | Q5: ThùyAnh | R5: Hải_L | S5: Vụ_L | T5: Châm | U5: Dũng_T | V5: Lương_H
B6: 2 | C6: Thịnh | D6: Quang_T | E6: Hồng_S | F6: Hải_L | G6: Huyền_V | H6: Nguyệt_H | I6: Nội_CN | J6: ThùyAnh | K6: Lương_H | L6: Quang_H | M6: Linh_Su | N6: Phương_Đ | O6: Oanh_A | P6: Dũng_T | Q6: Mai_S | R6: Thủy_A | S6: Huyền_A | T6: Hằng_T | U6: Hường_Đ | V6: Dũng_KT
B7: 3 | C7: Vụ_L | D7: Phượng_CD | E7: Linh_Su | F7: Hải_L | G7: Hồng_S | H7: Thịnh | I7: Hợp_Su | J7: ThùyAnh | K7: Thủy_V | L7: Huyền_A | M7: Đ.Hương_V | N7: Mai_S | O7: Quang_H | P7: Nội_CN | Q7: Sâm_V | R7: Yến_Su | S7: Dũng_KT | T7: Châm | U7: Thủy_A | V7: Hường_Đ
B8: 4 | C8: ThùyAnh | D8: Hồng_V | E8: Nội_CN | F8: A.My_A | G8: Hiệp_Đ | H8: Hợp_Su | I8: Dũng_T | J8: Huyền_V | K8: Thủy_V | L8: Huyền_A | M8: Đ.Hương_V | N8: Vụ_L | O8: Oanh_A | P8: Thủy_A | Q8: Sâm_V | R8: H.Giang_S | S8: C.Hương_V | T8: Quang_H | U8: Thìn_CD | V8: T.Hương_V
B9: 5 | C9: Nguyệt_H | D9: Hồng_V | E9: Hà_L | F9: A.My_A | G9: Thủy_T | H9: H.Giang_S | I9: Hải_L | J9: Phương_Đ | K9: Oanh_A | L9: Huyền_A | M9: Đ.Hương_V | N9: Phượng_CD | O9: Hường_Đ | P9: Thủy_A | Q9: Sâm_V | R9: Yến_Su | S9: C.Hương_V | T9: Hiệp_Đ | U9: Thìn_CD | V9: T.Hương_V
A10: Thứ 3 | B10: 1 | C10: Vụ_L | D10: Thịnh | E10: Hạnh_V | F10: Hiếu_V | G10: Thảo_L | H10: Sỹ_L | I10: Hồng | J10: ThùyAnh | K10: Len_T | L10: Hải | M10: Hoàn_S | N10: Tuyến_S | O10: Hằng_V | P10: Nội_CN | Q10: Hảo_H | R10: Tuyến_V | S10: Thương_T | T10: Huyền_V | U10: Dũng_T | V10: Quang_T
B11: 2 | C11: Linh_Su | D11: Thịnh | E11: Hạnh_V | F11: Nội_CN | G11: Thảo_L | H11: Sỹ_L | I11: Hồng | J11: Thủy_L | K11: Len_T | L11: Hải | M11: Hạnh_L | N11: A.My_A | O11: Tuyến_S | P11: Hảo_H | Q11: ThùyAnh | R11: Quang_H | S11: Dũng_KT | T11: Huyền_V | U11: Dũng_T | V11: T.Hương_V
B12: 3 | C12: ThùyAnh | D12: A.My_A | E12: Hà_L | F12: Nga_CD | G12: Nội_CN | H12: Thịnh | I12: Dũng_T | J12: Hợp_Su | K12: Tuyến_S | L12: Sâm_V | M12: Linh_Su | N12: Quang_H | O12: Khương_T | P12: Thủy_A | Q12: Hiệp_Đ | R12: Hải_L | S12: Hoàn_S | T12: Hạnh_L | U12: Dũng_KT | V12: T.Hương_V
B13: 4 | C13: Đường_T | D13: Hiệp_Đ | E13: Hảo_H | F13: Hải_L | G13: Huyền_V | H13: ThùyAnh | I13: Hợp_Su | J13: Hồng | K13: Thủy_V | L13: Sâm_V | M13: Hải | N13: Mai_S | O13: Hà_L | P13: Hồng_V | Q13: Thảo_L | R13: Dũng_KT | S13: Huyền_A | T13: Hoàn_S | U13: Thủy_A | V13: Sỹ_L
B14: 5 | C14: Đường_T | D14: Hạnh_L | E14: Nội_CN | F14: Hợp_Su | G14: Mai_S | H14: ThùyAnh | I14: Nga_CD | J14: Hồng | K14: Thủy_V | L14: Huyền_A | M14: Hải | N14: Hồng_V | O14: Khương_T | P14: Thủy_A | Q14: Hảo_H | R14: Dũng_T | S14: Quang_H | T14: Hiệp_Đ | U14: Hải_L | V14: Hoàn_S
A15: Thứ 4 | B15: 1 | C15: Nội_CN | D15: A.My_A | E15: P.Lan_A | F15: T.Giang_S | G15: Lương_H | H15: Huyền_V | I15: Hạnh_V | J15: ThùyAnh | K15: Len_T | L15: Hằng_T | M15: Tuyến_S | N15: Yến_T | O15: Hồng_S | P15: Hà_L | Q15: Sâm_V | R15: Dũng_T | S15: Quang_H | T15: Dũng_KT | U15: Thủy_A | V15: Sỹ_L
B16: 2 | C16: Đường_T | D16: Quang_T | E16: P.Lan_A | F16: Hạnh_H | G16: Nội_CN | H16: Huyền_V | I16: Hạnh_V | J16: T.Giang_S | K16: Len_T | L16: Hiền_L | M16: Quang_H | N16: Yến_T | O16: Tuyến_S | P16: Hảo_H | Q16: ThùyAnh | R16: Thủy_A | S16: Hoàn_S | T16: Hằng_T | U16: Dũng_KT | V16: Khanh_A
B17: Học TB | C17: Vụ_L | D17: Hạnh_L | E17: Hà_L | F17: Hải_L | G17: Thảo_L | H17: Sỹ_L | J17: Thủy_L | K17: Thủy_V | L17: Sâm_V | M17: Đ.Hương_V | N17: Hồng_V | O17: Hằng_V | R17: Tuyến_V | S17: C.Hương_V | T17: Huyền_V | V17: T.Hương_V
C18: Vụ_L | D18: Hạnh_L | E18: Hà_L | F18: Hải_L | G18: Thảo_L | H18: Sỹ_L | J18: Thủy_L | K18: Thủy_V | L18: Sâm_V | M18: Đ.Hương_V | N18: Hồng_V | O18: Hằng_V | R18: Tuyến_V | S18: C.Hương_V | T18: Huyền_V | V18: T.Hương_V
C19: Vụ_L | D19: Hạnh_L | E19: Hà_L | F19: Hải_L | G19: Thảo_L | H19: Sỹ_L | J19: Thủy_L | K19: Thủy_V | L19: Sâm_V | M19: Đ.Hương_V | N19: Hồng_V | O19: Hằng_V | R19: Tuyến_V | S19: C.Hương_V | T19: Huyền_V | V19: T.Hương_V
A20: Thứ 5 | B20: 1 | C20: ThùyAnh | D20: Hạnh_L | E20: Hạnh_V | F20: A.My_A | G20: Thảo_L | H20: Nội_CN | I20: Hạnh_H | J20: Thủy_L | K20: Hồng | L20: Hằng_T | M20: Oanh_A | N20: Hồng_V | O20: Quang_H | P20: Hợp_Su | Q20: Thương_T | R20: Dũng_T | S20: Huyền_A | T20: Huyền_V | U20: Thủy_A | V20: Khanh_A
B21: 2 | C21: ThùyAnh | D21: Linh_Su | E21: Hà_L | F21: A.My_A | G21: Thịnh | H21: Nguyệt_H | I21: Hường_Đ | J21: Nội_CN | K21: Thủy_L | L21: Huyền_A | M21: Tuyến_S | N21: Hồng_V | O21: Hải | P21: Dũng_T | Q21: Thương_T | R21: Quang_H | S21: Vụ_L | T21: Huyền_V | U21: C.Hương_V | V21: Mạnh_QP
B22: 3 | C22: Nguyệt_H | D22: A.My_A | E22: Linh_Su | F22: Thủy_T | G22: Thịnh | H22: ThùyAnh | I22: Phương_A | J22: Huyền_V | K22: Tuyến_S | L22: Quang_H | M22: Oanh_A | N22: Hải | O22: Hường_Đ | P22: Hồng_V | Q22: Thìn_CD | R22: Thủy_A | S22: Mạnh_QP | T22: Hợp_Su | U22: C.Hương_V | V22: Lương_H
B23: 4 | C23: Vụ_L | D23: Nguyệt_H | E23: P.Lan_A | F23: Thủy_T | G23: Phương_A | H23: ThùyAnh | I23: Nội_CN | J23: Huyền_V | K23: Lương_H | L23: Linh_Su | M23: Đ.Hương_V | N23: Hải | O23: Oanh_A | P23: Hồng_V | Q23: Tuyến_S | R23: Thủy_A | S23: Thương_T | T23: Châm | U23: Dũng_T | V23: Hợp_Su
B24: 5 | C24: Linh_Su | D24: Nội_CN | E24: P.Lan_A | F24: Hợp_Su | G24: Thủy_T | H24: Huyền_V | I24: Phương_A | J24: Lương_H | K24: Hồng | L24: Tuyến_S | M24: Đ.Hương_V | N24: Vụ_L | O24: Hải | P24: Thìn_CD | Q24: ThùyAnh | R24: Dũng_T | S24: C.Hương_V | T24: Châm | U24: Quang_H | V24: Hường_Đ
A25: Thứ 6 | B25: 1 | C25: Nội_CN | D25: Hạnh_L | E25: Phương_Đ | F25: Hằng_Đ | G25: Phương_A | H25: Sơn_T | I25: Hạnh_H | J25: Huế_T | K25: Thủy_L | L25: Nga_CD | M25: Oanh_A | N25: A.My_A | O25: Hằng_V | P25: Tuyến_S | Q25: Thảo_L | R25: Dũng_T | S25: Thìn_CD | T25: Mạnh_QP | U25: Hợp_Su | V25: Quang_T
B26: 2 | C26: Đường_T | D26: Quang_T | E26: Thịnh | F26: Hạnh_H | G26: Phương_A | H26: Sơn_T | I26: Hải_L | J26: Hợp_Su | K26: Oanh_A | L26: Tuyến_S | M26: Quang_H | N26: Hoàn_S | O26: Hằng_V | P26: Hồng_V | Q26: Nội_CN | R26: Hằng_Đ | S26: Thương_T | T26: Hạnh_L | U26: Mạnh_QP | V26: Dũng_KT
B27: 3 | C27: T.Giang_S | D27: Hồng_V | E27: Thịnh | F27: A.My_A | G27: Mai_S | H27: Nga_CD | I27: Dũng_T | J27: Huế_T | K27: Oanh_A | L27: Phương_Đ | M27: Hạnh_L | N27: Yến_T | O27: Khương_T | P27: Hợp_Su | Q27: Thương_T | R27: Dũng_KT | S27: Hằng_Đ | T27: Quang_H | U27: Hải_L | V27: Thìn_CD
B28: 4 | C28: Hằng_V | D28: Hồng_V | E28: Huế_T | F28: Thịnh | G28: Thủy_T | H28: Nội_CN | I28: Phương_A | J28: Phương_Đ | K28: Nga_CD | L28: Hiền_L | M28: Hoa_T | N28: Tuyến_S | O28: Hợp_Su | P28: Dũng_T | Q28: Thương_T | R28: Mạnh_QP | S28: Mai_S | T28: Thìn_CD | U28: Hoàn_S | V28: Khanh_A
B29: 5 | C29: Hằng_V | D29: Nội_CN | E29: Huế_T | F29: Thịnh | G29: Thủy_T | H29: Hợp_Su | I29: T.Giang_S | J29: Nga_CD | K29: Tuyến_S | L29: Hoàn_S | M29: Hoa_T | N29: Yến_T | O29: Khương_T | P29: Dũng_T | Q29: Mai_S | R29: Thìn_CD | S29: Thương_T | T29: Dũng_KT | U29: Quang_H | V29: Khanh_A
A30: Thứ 7 | B30: 1 | C30: Hường_Đ | D30: A.My_A | E30: Huế_T | F30: Thủy_T | G30: Phương_A | H30: Sơn_T | I30: Hải_L | J30: Lương_H | K30: Linh_Su | L30: Sâm_V | M30: Hoa_T | N30: Phượng_CD | O30: Oanh_A | P30: Hải | Q30: Nội_CN | R30: H.Giang_S | S30: Hằng_Đ | T30: Hằng_T | U30: C.Hương_V | V30: Quang_T
B31: 2 | C31: Phượng_CD | D31: Linh_Su | E31: Hảo_H | F31: Thủy_T | G31: Lương_H | H31: Sơn_T | I31: Phương_A | J31: Nội_CN | K31: Oanh_A | L31: Hằng_T | M31: Nga_CD | N31: A.My_A | O31: Hằng_V | P31: Hải | Q31: Sâm_V | R31: Hằng_Đ | S31: C.Hương_V | T31: Hoàn_S | U31: Dũng_T | V31: Quang_T
B32: 3 | C32: Hằng_V | D32: Nguyệt_H | E32: Phượng_CD | F32: Hiếu_V | G32: Nga_CD | H32: H.Giang_S | I32: Dũng_T | J32: Huế_T | K32: Hằng_Đ | L32: Sâm_V | M32: Hoa_T | N32: A.My_A | O32: Hà_L | P32: Hiệp_Đ | Q32: Hải | R32: Tuyến_V | S32: C.Hương_V | T32: Hằng_T | U32: Hường_Đ | V32: Hoàn_S
B33: 4 | C33: Nguyệt_H | D33: H.Giang_S | E33: Hà_L | F33: Hiếu_V | G33: Thủy_T | H33: Phương_Đ | I33: Dũng_T | J33: Huế_T | K33: Oanh_A | L33: Linh_Su | M33: Hường_Đ | N33: Hồng_V | O33: Thìn_CD | P33: Thủy_A | Q33: Hải | R33: Tuyến_V | S33: Huyền_A | T33: Hiệp_Đ | U33: Hoàn_S | V33: T.Hương_V
B34: 5 | C34: Nguyệt_H | D34: Hồng_V | E34: Hà_L | F34: A.My_A | G34: Thủy_T | H34: H.Giang_S | I34: Hải_L | J34: Phương_Đ | K34: Oanh_A | L34: Huyền_A | M34: Đ.Hương_V | N34: Phượng_CD | O34: Hường_Đ | P34: Thủy_A | Q34: Sâm_V | R34: Yến_Su | S34: C.Hương_V | T34: Hiệp_Đ | U34: Thìn_CD | V34: T.Hương_V

Sheet TKB GV-TB-S
A1: ='Phong TB_S'!A1 -> BUỔI SÁNG | E1: ='TKBGV-S'!$E$1 -> THỜI KHÓA BIỂU HK2 2021 -2022 (CHÍNH THỨC - LẦN 01)
A2: ='Phong TB_S'!A2 -> Bắt đầu từ: 7h15' | E2: ='TKBGV-S'!$E$2 -> Thực hiện từ ngày: 17/01/2022
E3: THỜI KHÓA BIỂU GV TRÁI BUỔI - SÁNG
A5: Ngày | B5: Tiết | C5: 10A1 | D5: 10A2 | E5: 10A3 | F5: 10A4 | G5: 10A5 | H5: 10A6 | I5: 10A7 | J5: 10A8 | K5: 10D1 | L5: 10D2 | M5: 10D3 | N5: 10D4 | O5: 10D5 | P5: 10D6 | Q5: 10D7 | R5: 11D5 | S5: 11D6 | T5: 11D7 | U5: 11D8 | V5: 11D9
A6: Thứ 2 | B6: 1 | H6: Linh_TD | R6: L.Anh_TD | T6: Hải | U6: Trưởng
B7: 2 | E7: Huế_T | F7: A.My_A | H7: Linh_TD | K7: Len_T | L7: Hằng_T | M7: Hoa_T | R7: L.Anh_TD | S7: Thương_T | T7: Hải | U7: Trưởng | V7: Khanh_A
B8: 3 | E8: Huế_T | F8: A.My_A | G8: Linh_TD | K8: Len_T | L8: Hằng_T | M8: Hoa_T | Q8: L.Anh_TD | R8: Hiền | S8: Thương_T | T8: Trưởng | U8: Hải | V8: Khanh_A
B9: 4 | E9: Huế_T | F9: A.My_A | G9: Linh_TD | K9: Len_T | L9: Hằng_T | M9: Hoa_T | Q9: L.Anh_TD | R9: Hiền | S9: Thương_T | T9: Trưởng | U9: Hải | V9: Khanh_A
B10: 5
A11: Thứ 3 | B11: 1 | E11: P.Lan_A | I11: Hải_L | L11: L.Anh_TD | N11: Yến_T | P11: Dũng_T | R11: Thủy_A | S11: Huyền_A | U11: C.Hương_V
B12: 2 | C12: Ng.Anh_QP | E12: P.Lan_A | I12: Hải_L | L12: L.Anh_TD | N12: Yến_T | P12: Dũng_T | R12: Thủy_A | S12: Huyền_A | U12: C.Hương_V
B13: 3 | C13: Linh_TD | E13: P.Lan_A | I13: Hải_L | L13: Ng.Anh_QP | N13: Yến_T | P13: Dũng_T | R13: Thủy_A | S13: Huyền_A | U13: C.Hương_V
B14: 4 | C14: Linh_TD | N14: Ng.Anh_QP
B15: 5
A16: Thứ 4 | B16: 1 | H16: Sơn_T | I16: Dũng_T | J16: ThùyAnh | M16: Oanh_A | N16: A.My_A | O16: Khương_T | P16: Thủy_A
B17: 2 | H17: Sơn_T | I17: Dũng_T | J17: ThùyAnh | M17: Oanh_A | N17: A.My_A | O17: Khương_T | P17: Thủy_A
B18: 3 | H18: Sơn_T | I18: Dũng_T | J18: ThùyAnh | M18: Oanh_A | N18: A.My_A | O18: Khương_T | P18: Thủy_A
B19: 4
B20: 5
A21: Thứ 5 | B21: 1 | D21: Quang_T | E21: Linh_TD | G21: Lương_H | J21: Huế_T | K21: Oanh_A | P21: L.Anh_TD | Q21: ThùyAnh | T21: Hằng_T | U21: Thủy_A | V21: Trưởng
B22: 2 | D22: Quang_T | E22: Linh_TD | F22: Ng.Anh_QP | G22: Lương_H | J22: Huế_T | K22: Oanh_A | P22: L.Anh_TD | Q22: ThùyAnh | T22: Hằng_T | U22: Thủy_A | V22: Trưởng
B23: 3 | D23: Quang_T | E23: Ng.Anh_QP | F23: Linh_TD | G23: Lương_H | J23: Huế_T | K23: Oanh_A | N23: L.Anh_TD | Q23: ThùyAnh | T23: Hằng_T | U23: Thủy_A | V23: Hải
B24: 4 | F24: Linh_TD | N24: L.Anh_TD | V24: Hải
B25: 5
A26: Thứ 6 | B26: 1 | C26: Đường_T | D26: A.My_A | F26: Thủy_T | H26: Nguyệt_H | I26: Linh_TD | K26: L.Anh_TD | O26: Oanh_A | P26: Hồng_V | Q26: Ng.Anh_QP | R26: Dũng_T | V26: Quang_T
B27: 2 | C27: Đường_T | D27: A.My_A | F27: Thủy_T | H27: Nguyệt_H | I27: Linh_TD | K27: L.Anh_TD | M27: Ng.Anh_QP | O27: Oanh_A | P27: Hồng_V | Q27: Sâm_V | R27: Dũng_T | V27: Quang_T
B28: 3 | C28: Đường_T | D28: A.My_A | F28: Thủy_T | H28: Nguyệt_H | I28: Trưởng | K28: Ng.Anh_QP | M28: L.Anh_TD | O28: Oanh_A | P28: Hồng_V | Q28: Sâm_V | R28: Dũng_T | V28: Quang_T
B29: 4 | H29: Trưởng | M29: L.Anh_TD | P29: Ng.Anh_QP | Q29: Sâm_V
B30: 5
A31: Thứ 7 | B31: 1 | C31: Nguyệt_H | G31: Thủy_T | I31: Phương_A | J31: Linh_TD | L31: Huyền_A | O31: L.Anh_TD | Q31: Thương_T | S31: Trưởng | T31: Châm | U31: Dũng_T
B32: 2 | C32: Nguyệt_H | D32: Ng.Anh_QP | G32: Thủy_T | I32: Phương_A | J32: Linh_TD | L32: Huyền_A | O32: L.Anh_TD | Q32: Thương_T | S32: Trưởng | T32: Châm | U32: Dũng_T
B33: 3 | C33: Nguyệt_H | D33: Linh_TD | G33: Thủy_T | I33: Phương_A | J33: Trưởng | L33: Huyền_A | O33: Ng.Anh_QP | Q33: Thương_T | S33: Hiền | T33: Châm | U33: Dũng_T
B34: 4 | D34: Linh_TD | G34: Trưởng | S34: Hiền
B35: 5
A36: CN | B36: 1 | C36: ThùyAnh
B37: 2 | C37: ThùyAnh
B38: 3 | C38: ThùyAnh

Sheet TKB GV-TB-C
A1: ='Phong TB_C'!A1 -> BUỔI CHIỀU | E1: ='TKB GV-TB-S'!$E$1 -> THỜI KHÓA BIỂU HK2 2021 -2022 (CHÍNH THỨC - LẦN 01)
A2: ='Phong TB_C'!A2 -> Bắt đầu từ: 12h45 | E2: ='TKB GV-TB-S'!$E$2 -> Thực hiện từ ngày: 17/01/2022
E3: THỜI KHÓA BIỂU GV TRÁI BUỔI - CHIỀU
A4: Chiều thứ 3, 4, 5, 6 các lớp học trái buổi học theo ca (Ca 1 [13h20-15h20]; Ca 2 [15h30-17h30]) (Khối chiều học TB học tại lớp chính khóa)
A5: Ngày | B5: Tiết | C5: 12A | D5: 12B | E5: 12C | F5: 12D | G5: 12E | H5: 12G | I5: 12H | J5: 12I | K5: 12K | L5: 12M | M5: 12N | N5: 12P | O5: 12Q | P5: 11A1 | Q5: 11A2 | R5: 11A3 | S5: 11A4 | T5: 11A5 | U5: 11A6 | V5: 11D1 | W5: 11D2 | X5: 11D3 | Y5: 11D4
A6: Thứ 2 | B6: 1
B7: 2 | D7: Hà_L | G7: Hạnh_V | I7: Thủy_T | J7: Lẫy_TD | K7: Mẫn_A | L7: Hoa_T | M7: Hạnh_H | O7: Huế_T | P7: Hùng_TD | S7: Sỹ_L | T7: Trưởng | U7: Hồng | X7: Hiền
B8: 3 | D8: Hà_L | G8: Hạnh_V | I8: Thủy_T | J8: Lẫy_TD | K8: Mẫn_A | L8: Hoa_T | M8: Hạnh_H | O8: Huế_T | P8: Hùng_TD | S8: Sỹ_L | T8: Trưởng | U8: Hồng | X8: Hiền
B9: 4 | D9: Hà_L | E9: Lẫy_TD | G9: Hạnh_V | I9: Thủy_T | K9: Mẫn_A | L9: Hoa_T | M9: Hạnh_H | O9: Huế_T | P9: Thịnh | S9: Sỹ_L | T9: Hồng | U9: Trưởng | X9: Hùng_TD
B10: 5 | E10: Lẫy_TD | P10: Thịnh | T10: Hồng | U10: Trưởng | X10: Hùng_TD
A11: Thứ 3 | B11: 1
B12: 2 | F12: Lẫy_TD | Q12: Hiền | W12: Hùng_TD
B13: 3 | C13: Quang_T | E13: Thủy_L | F13: Lẫy_TD | H13: Hằng_V | I13: Hồng_A | K13: Hiếu_V | N13: Vụ_L | P13: Len_T | Q13: Hiền | R13: Hoa_T | S13: Cường | W13: Hùng_TD | X13: Tuyến_V | Y13: Thương_T
B14: 4 | C14: Quang_T | E14: Thủy_L | H14: Hằng_V | I14: Hồng_A | K14: Hiếu_V | N14: Vụ_L | P14: Len_T | Q14: Hùng_TD | R14: Hoa_T | S14: Cường | W14: Thịnh | X14: Tuyến_V | Y14: Thương_T
B15: 5 | C15: Quang_T | E15: Thủy_L | H15: Hằng_V | I15: Hồng_A | K15: Hiếu_V | N15: Vụ_L | P15: Len_T | Q15: Hùng_TD | R15: Hoa_T | S15: Cường | W15: Thịnh | X15: Tuyến_V | Y15: Thương_T
A16: Thứ 4 | B16: 1
B17: 2 | C17: Hùng_TD | L17: Lẫy_TD | R17: Hiền | S17: Trưởng
B18: 3 | C18: Hùng_TD | L18: Lẫy_TD | R18: Hiền | S18: Trưởng | Y18: Nhung_V
B19: 4 | G19: Lẫy_TD | N19: Hùng_TD | R19: Trưởng | S19: Hiền | Y19: Nhung_V
B20: 5 | G20: Lẫy_TD | N20: Hùng_TD | R20: Trưởng | S20: Hiền | Y20: Nhung_V
A21: Thứ 5 | B21: 1
B22: 2 | K22: Lẫy_TD | V22: Hùng_TD | Y22: Hồng
B23: 3 | D23: Hạnh_H | G23: Khanh_A | I23: Nhung_V | J23: Hạnh_V | K23: Lẫy_TD | M23: Hạnh_L | N23: Hằng_T | O23: Hà_L | U23: Thảo_L | V23: Hùng_TD | W23: Thìn_T | Y23: Hồng
B24: 4 | D24: Hạnh_H | G24: Khanh_A | H24: Lẫy_TD | I24: Nhung_V | J24: Hạnh_V | M24: Hạnh_L | N24: Hằng_T | O24: Hà_L | U24: Thảo_L | V24: Thịnh | W24: Thìn_T | Y24: L.Anh_TD
B25: 5 | D25: Hạnh_H | G25: Khanh_A | H25: Lẫy_TD | I25: Nhung_V | J25: Hạnh_V | M25: Hạnh_L | N25: Hằng_T | O25: Hà_L | U25: Thảo_L | V25: Thịnh | W25: Thìn_T | Y25: L.Anh_TD
A26: Thứ 6 | B26: 1
B27: 2 | D27: Hùng_TD | M27: Lẫy_TD
B28: 3 | D28: Hùng_TD | F28: Hiếu_V | J28: Mẫn_A | L28: T.Hương_V | M28: Lẫy_TD | P28: Thủy_L | Q28: V.Anh_H | R28: Thảo_L | T28: Cường | U28: Châm | V28: Đường_T | W28: Thủy_V | X28: Ngọ_T | Y28: Hồng_A
B29: 4 | F29: Hiếu_V | I29: Lẫy_TD | J29: Mẫn_A | L29: T.Hương_V | O29: Hùng_TD | P29: Thủy_L | Q29: V.Anh_H | R29: Thảo_L | T29: Cường | U29: Châm | V29: Đường_T | W29: Thủy_V | X29: Ngọ_T | Y29: Hồng_A
B30: 5 | F30: Hiếu_V | I30: Lẫy_TD | J30: Mẫn_A | L30: T.Hương_V | O30: Hùng_TD | P30: Thủy_L | Q30: V.Anh_H | R30: Thảo_L | T30: Cường | U30: Châm | V30: Đường_T | W30: Thủy_V | X30: Ngọ_T | Y30: Hồng_A
A31: Thứ 7 | B31: 1
B32: 2 | T32: Hải_L | V32: Đ.Hương_V
B33: 3 | C33: Vụ_L | E33: Hảo_H | F33: Nga_A | H33: Ngọ_T | Q33: Hạnh_L | R33: Sâm_A | T33: Hải_L | V33: Đ.Hương_V
B34: 4 | C34: Vụ_L | E34: Hảo_H | F34: Nga_A | H34: Ngọ_T | Q34: Hạnh_L | R34: Sâm_A | T34: Hải_L | V34: Đ.Hương_V
B35: 5 | C35: Vụ_L | E35: Hảo_H | F35: Nga_A | H35: Ngọ_T | Q35: Hạnh_L | R35: Sâm_A

Sheet TKBGV_S
A1: BUỔI SÁNG | D1: ='TKBGV-S'!E1 -> THỜI KHÓA BIỂU HK2 2021 -2022 (CHÍNH THỨC - LẦN 01)
A2: Bắt đầu từ: 7h15' | H2: ='TKBGV-S'!E2 -> Thực hiện từ ngày: 17/01/2022
A4: Giáo viên | B4: Thứ 2 | G4: Thứ 3 | L4: Thứ 4 | Q4: Thứ 5 | V4: Thứ 6 | AA4: Thứ 7 | AF4: CN
B5: 1 | C5: 2 | D5: 3 | E5: 4 | F5: 5 | G5: 1 | H5: 2 | I5: 3 | J5: 4 | K5: 5 | L5: 1 | M5: 2 | N5: 3 | O5: 4 | P5: 5 | Q5: 1 | R5: 2 | S5: 3 | T5: 4 | U5: 5 | V5: 1 | W5: 2 | X5: 3 | Y5: 4 | Z5: 5 | AA5: 1 | AB5: 2 | AC5: 3 | AD5: 4 | AE5: 5 | AF5: 1 | AG5: 2 | AH5: 3 | AI5: 4 | AJ5: 5
A6: TO Thầy Thìn | F6: 11D2 | G6: 11D2 | H6: 11D2 | L6: 11D2 | M6: 11D2 | O6: HOP | P6: HOP
A7: TO Thầy Cường | B7: 11A6 | C7: 11A5 | D7: 11A4 | F7: 11A6 | G7: 11A5 | H7: 11A4 | I7: 11A6 | O7: HOP | P7: HOP | S7: 11A4 | T7: 11A6 | V7: 11A5 | W7: 11A5 | X7: 11A6 | Y7: 11A4 | AA7: 11A4 | AB7: 11A5 | AD7: 11A6 | AE7: 11A6
A8: TO Cô Huế | E8: 12E | F8: 12Q | G8: 10A3 | H8: 10A3 | I8: 10A3 | K8: 12Q | L8: 12E | M8: 12E | N8: 12Q | O8: HOP | P8: HOP | Q8: 10A8 | R8: 10A8 | S8: 10A8 | T8: 12E | AA8: 12E | AB8: 12Q | AC8: 12Q
A9: TO Thầy Dũng | G9: 11D8 | H9: 11D8 | I9: 11D8 | O9: HOP | P9: HOP
A10: TO Cô Hằng_T | C10: 12D | D10: 12P | E10: 12D | L10: 11D7 | M10: 11D7 | N10: 11D7 | O10: HOP | P10: HOP | Q10: 10D2 | R10: 10D2 | S10: 10D2 | T10: 12P | W10: 12D | X10: 12P | Y10: 12D | AB10: 12P | AC10: 12P | AD10: 12D
A11: TO Thầy Đường | C11: 10A1 | D11: 10A1 | E11: 10A1 | F11: 12B | I11: 11D1 | J11: 12B | K11: 11D1 | L11: 10A1 | M11: 10A1 | N11: 10A1 | O11: HOP | P11: HOP | V11: 11D1 | W11: 11D1 | Y11: 12B | AA11: 12B | AB11: 12B | AC11: 11D1
A12: TO Thầy Thương | H12: 12I | I12: 11D4 | J12: 11D4 | L12: 12I | M12: 12I | N12: 11D4 | O12: HOP | P12: HOP | Q12: 11D6 | R12: 11D6 | S12: 11D6 | V12: 12I | W12: 12I | X12: 11D4 | Y12: 11D4
A13: TO Cô Ngọ | B13: 12C | C13: 11D3 | D13: 12C | G13: 12G | H13: 12G | J13: 12C | K13: 11D3 | L13: 12G | N13: 11D3 | O13: HOP | P13: HOP | V13: 12C | W13: 12C | X13: 12G | Y13: 11D3 | AA13: 12G | AC13: 12C | AD13: 11D3 | AE13: 12C
A14: TO Cô Len | B14: 11A1 | C14: 12N | D14: 12N | E14: 11A1 | J14: 12N | K14: 12N | M14: 11A1 | O14: HOP | P14: HOP | V14: 10D1 | W14: 10D1 | X14: 10D1 | Y14: 11A1 | AA14: 11A1 | AB14: 11A1 | AC14: 12N | AE14: 11A1
A15: TO Thầy Quang | C15: 10A2 | D15: 10A2 | E15: 10A2 | F15: 12K | G15: 12A | H15: 12K | I15: 12A | K15: 12K | N15: 12K | O15: HOP | P15: HOP | S15: 12K | T15: 12A | V15: 12A | W15: 12A
A16: TO Cô Hoa | E16: 11A3 | F16: 11A3 | G16: 11A2 | H16: 11A3 | I16: 12M | L16: 11A2 | M16: 11A3 | N16: 11A2 | O16: HOP | P16: HOP | Q16: 10D3 | R16: 10D3 | S16: 10D3 | T16: 11A3 | V16: 11A2 | W16: 11A2 | X16: 12M | Y16: 12M | AA16: 12M | AB16: 12M
A17: TO Thủy_T | E17: 12H | F17: 12H | L17: 10A4 | M17: 10A4 | N17: 10A4 | O17: HOP | P17: HOP | Q17: 12H | S17: 12H | V17: 10A5 | W17: 10A5 | X17: 10A5 | AA17: 10A4 | AB17: 10A4 | AC17: 10A4 | AD17: 12H
A18: TO-KHƯƠNG_T | O18: HOP | P18: HOP
A19: TO SƠN_T | C19: 10A6 | D19: 10A6 | E19: 10A6 | O19: HOP | P19: HOP
A20: TO Cô YẾN | C20: 10D6 | D20: 10D6 | E20: 10D6 | O20: HOP | P20: HOP
A21: TI Thầy Thịnh | B21: 10A3 | C21: 10A3 | D21: 10A4 | E21: 10A4 | G21: 10A1 | H21: 10A1 | I21: 10A2 | J21: 10A2 | O21: HOP | P21: HOP | AA21: 10A5 | AB21: 10A5 | AC21: 10A6 | AD21: 10A6
A22: TI Cô Hiền | B22: 11A2 | D22: 11D6 | E22: 11D6 | O22: HOP | P22: HOP | AC22: 11D5 | AD22: 11D5 | AE22: 11A2
A23: TI Cô Hải | B23: 10D1 | C23: 10D1 | G23: 10D5 | H23: 10D5 | I23: 10D7 | J23: 10D7 | O23: HOP | P23: HOP | Q23: 10D6 | R23: 10D6 | S23: 10D4 | T23: 10D4 | V23: 10D3 | W23: 10D3 | X23: 10D2 | Y23: 10D2
A24: TI Cô Hồng_TIN | B24: 11A5 | O24: HOP | P24: HOP | Q24: 11D8 | R24: 11D8 | S24: 11D9 | T24: 11D9 | V24: 10A7 | W24: 10A7 | X24: 10A8 | Y24: 10A8 | AC24: 11D7 | AD24: 11D7 | AE24: 11A5
A25: LY Thầy Vụ | B25: 12A | C25: 12A | O25: HOP | P25: HOP | Q25: 12P | S25: 12A | T25: 11D4 | AC25: 11D4 | AD25: 12P | AE25: 12A
A26: LY Thầy Sỹ_L | I26: 12H | J26: 11A4 | K26: 11A4 | L26: 12M | M26: 12H | N26: 11A4 | O26: HOP | P26: HOP | Q26: 10A6 | R26: 10A6 | S26: 10A6 | T26: 12M
A27: LY Cô Hà | I27: 12Q | J27: 12I | K27: 12B | L27: 10A3 | M27: 10A3 | N27: 10A3 | O27: HOP | P27: HOP | V27: 12B | X27: 12Q | Y27: 12I
A28: LY Thầy Thủy_L | G28: 11D1 | H28: 12D | I28: 11A1 | N28: 11A1 | O28: HOP | P28: HOP | V28: 12D | X28: 11A1 | Y28: 12C | AA28: 11D1 | AB28: 12C
A29: LY Cô Hạnh_L | B29: 12N | C29: 11A2 | G29: 12E | H29: 11A2 | O29: HOP | P29: HOP | R29: 12E | T29: 12N | AC29: 11A2 | AD29: 12N | AE29: 12N
A30: LY_Hải | G30: 10A4 | H30: 10A4 | I30: 10A4 | J30: 11A5 | L30: 11D3 | N30: 11A5 | O30: HOP | P30: HOP | AA30: 11A5 | AB30: 11D3
A31: LY_Thảo | G31: 12K | I31: 11A3 | J31: 11A6 | L31: 11A3 | M31: 12G | N31: 11A6 | O31: HOP | P31: HOP | Q31: 11D2 | S31: 11A3 | T31: 12K | W31: 12G | X31: 11D2 | Y31: 11A6
A32: CN Dũng_KT | G32: 11A1 | H32: 12C | I32: 11A2 | J32: 12P | L32: 11D4 | N32: 11D1 | O32: HOP | P32: HOP | Q32: 11D3 | R32: 12D | S32: 12B | T32: 11D2 | W32: 12Q | X32: 11A3 | Y32: 12A
A33: CN Thầy Nghị | L33: 11A4 | M33: 12M | N33: 12I | O33: HOP | P33: HOP | Q33: 11A6 | R33: 12H | T33: 11A5 | V33: 12G | W33: 12N | X33: 12K | Y33: 12E
A34: HO Cô V.Anh | B34: 12P | C34: 12P | D34: 11D4 | F34: 12G | G34: 12M | H34: 12H | I34: 12D | K34: 12G | M34: 11A4 | N34: 12P | O34: HOP | P34: HOP | Q34: 12D | R34: 11A4 | S34: 11A2 | AA34: 12H | AB34: 11D4 | AC34: 12M | AD34: 11A2 | AE34: 12P
A35: HO Cô Hạnh_H | B35: 12B | C35: 11A1 | D35: 12I | E35: 12B | G35: 12I | H35: 12N | J35: 12K | K35: 11A3 | O35: HOP | P35: HOP | Q35: 12B | S35: 12N | AA35: 11A3 | AC35: 11A1 | AD35: 12K | AE35: 12B
A36: HO Cô Lương | O36: HOP | P36: HOP
A37: HO Cô Nguyệt | G37: 11A6 | H37: 11D1 | I37: 11D3 | K37: 11D2 | O37: HOP | P37: HOP | V37: 11A6 | W37: 11D2 | X37: 11D3 | Y37: 11D1 | AA37: 10A1 | AB37: 10A1 | AC37: 10A1
A38: HO Cô Hảo | B38: 12Q | C38: 12C | D38: 12Q | O38: HOP | P38: HOP | W38: 12E | X38: 12A | Y38: 12Q | AA38: 12A | AB38: 12E | AD38: 12C | AE38: 12Q
A39: HO Cô Hường | O39: HOP | P39: HOP
A40: HO-Quang_H | K40: 11A5 | O40: HOP | P40: HOP | Y40: 11A5
A41: SI Cô Hoàn | B41: 12M | D41: 12B | E41: 12G | G41: 12H | H41: 12M | O41: HOP | P41: HOP | V41: 12M | W41: 12H | X41: 12B | AD41: 12G | AE41: 12M
...

Sheet TKBGV_C
A1: ='TKBGV-C'!A1 -> BUỔI CHIỀU | E1: =TKBGV_S!D1 -> THỜI KHÓA BIỂU HK2 2021 -2022 (CHÍNH THỨC - LẦN 01)
A2: ='TKBGV-C'!A2 -> Bắt đầu từ: 12h45 | K2: =TKBGV_S!H2 -> Thực hiện từ ngày: 17/01/2022
A4: Giáo viên | B4: Thứ 2 | G4: Thứ 3 | L4: Thứ 4 | Q4: Thứ 5 | V4: Thứ 6 | AA4: Thứ 7 | AF4: CN
B5: 1 | C5: 2 | D5: 3 | E5: 4 | F5: 5 | G5: 1 | H5: 2 | I5: 3 | J5: 4 | K5: 5 | L5: 1 | M5: 2 | N5: 3 | O5: 4 | P5: 5 | Q5: 1 | R5: 2 | S5: 3 | T5: 4 | U5: 5 | V5: 1 | W5: 2 | X5: 3 | Y5: 4 | Z5: 5 | AA5: 1 | AB5: 2 | AC5: 3 | AD5: 4 | AE5: 5 | AF5: 1 | AG5: 2 | AH5: 3 | AI5: 4 | AJ5: 5
A6: TO Thầy Thìn | D6: HOP | E6: HOP | F6: HOP | Q6: 11D2 | R6: 11D2 | S6: 11D2 | AF6: 11D2 | AG6: 11D2 | AH6: 11D2
A7: TO Thầy Cường | I7: 11A4 | J7: 11A4 | K7: 11A4 | T7: 11A5 | U7: 11A5 | AC7: 11A6 | AD7: 11A6 | AE7: 11A6 | AF7: 11A4 | AG7: 11A4 | AH7: 11A4
A8: TO Cô Huế | C8: 12E | D8: 12E | E8: 12E | H8: 10A8 | I8: 10A3 | K8: 10A8 | L8: 12Q | M8: 12Q | N8: 12Q | O8: 10A3 | P8: 10A3 | Q8: 12E | R8: 12E | S8: 12E | V8: 10A3 | W8: 10A3 | AA8: 10A8 | AB8: 10A8 | AC8: 10A3
A9: TO Thầy Dũng | G9: 10A7 | H9: 10A7 | I9: 11D5 | K9: 11D8 | L9: 11D5 | M9: 11D5 | O9: 10A7 | P9: 10A7 | R9: 11D5 | S9: 11D8 | T9: 11D8 | V9: 10A7 | W9: 11D8 | Y9: 11D5 | Z9: 11D5 | AA9: 11D5 | AC9: 10A7 | AD9: 11D8
A10: TO Cô Hằng_T | B10: 10D2 | C10: 10D2 | G10: 10D2 | H10: 10D2 | J10: 11D7 | L10: 12P | M10: 12P | N10: 12P | O10: 10D2 | P10: 10D2 | Q10: 11D7 | S10: 11D7 | T10: 12D | U10: 12D | Y10: 11D7 | Z10: 11D7 | AA10: 11D7 | AB10: 11D7 | AC10: 12D | AD10: 12D | AE10: 12D | AF10: 12P | AG10: 12P | AH10: 12P
A11: TO Thầy Đường | D11: HOP | E11: HOP | F11: HOP | I11: 10A1 | J11: 10A1 | Q11: 11D1 | R11: 11D1 | S11: 11D1 | T11: 12B | U11: 12B | V11: 10A1 | W11: 10A1 | Y11: 12B | Z11: 12B | AF11: 11D1 | AG11: 11D1 | AH11: 11D1
A12: TO Thầy Thương | G12: 10D7 | I12: 11D6 | J12: 10D7 | L12: 11D4 | M12: 11D4 | N12: 11D4 | O12: 10D7 | P12: 10D7 | Q12: 10D7 | S12: 10D7 | T12: 12I | U12: 12I | V12: 11D6 | X12: 11D6 | AA12: 11D6 | AB12: 11D6
A13: TO Cô Ngọ | L13: 11D3 | M13: 11D3 | N13: 11D3 | O13: 12C | P13: 12C | V13: 11D3 | W13: 11D3 | X13: 11D3 | AC13: 12G | AD13: 12G | AE13: 12G | AI13: 12C | AJ13: 12C
A14: TO Cô Len | I14: 11A1 | J14: 11A1 | K14: 11A1 | O14: 10D1 | P14: 10D1 | Q14: 10D1 | R14: 10D1 | T14: 12N | U14: 12N | V14: 11A1 | W14: 11A1 | X14: 11A1 | AB14: 10D1 | AC14: 10D1
A15: TO Thầy Quang | I15: 10A2 | K15: 10A2 | L15: 12A | M15: 12A | N15: 12A | O15: 10A2 | P15: 10A2 | R15: 10A2 | S15: 10A2 | T15: 12K | U15: 12K | AF15: 12A | AG15: 12A | AH15: 12A
A16: TO Cô Hoa | C16: 11A2 | D16: 11A2 | E16: 11A2 | H16: 10D3 | J16: 10D3 | L16: 12M | M16: 12M | N16: 12M | O16: 10D3 | P16: 10D3 | Q16: 12M | R16: 12M | S16: 12M | U16: 10D3 | X16: 10D3 | Y16: 11A3 | Z16: 11A3 | AF16: 11A3 | AG16: 11A3 | AH16: 11A3 | AI16: 11A2 | AJ16: 11A2
A17: TO Thủy_T | D17: 10A5 | E17: 10A5 | F17: 10A5 | H17: 10A4 | I17: 10A5 | K17: 10A5 | T17: 10A4 | U17: 10A4 | V17: 12H | W17: 12H | X17: 12H | AD17: 10A4 | AE17: 10A5
A18: TO-KHƯƠNG_T | H18: 10D5 | J18: 11D9 | K18: 11D9 | L18: 10D5 | M18: 11D9 | O18: 10D5 | P18: 10D5 | W18: 10D5 | Y18: 11D9 | Z18: 11D9 | AA18: 11D9 | AB18: 11D9 | AD18: 10D5
A19: TO SƠN_T | O19: 10A6 | P19: 10A6 | V19: 10A6 | W19: 10A6 | AA19: 10A6 | AC19: 10A6
A20: TO Cô YẾN | G20: 10D4 | H20: 10D4 | I20: 10D6 | O20: 10D4 | P20: 10D4 | R20: 10D6 | S20: 10D6 | U20: 10D4 | V20: 10D6 | X20: 10D4
A21: TI Thầy Thịnh | C21: 11A1 | D21: 11A1 | M21: 12C | N21: 12C | O21: 12D | P21: 12D | W21: 11D2 | X21: 11D2 | Y21: 11D1 | Z21: 11D1
A22: TI Cô Hiền | C22: 12M | D22: 12M | E22: 11D3 | F22: 11D3 | H22: 12A | I22: 12A | J22: 12K | K22: 12K | M22: 11A4 | N22: 11A4 | O22: 12Q | P22: 12Q | AB22: 11A2 | AC22: 11A2 | AD22: 11A3 | AE22: 11A3
A23: TI Cô Hải | H23: 12N | I23: 12N | M23: 12I | N23: 12I | O23: 12P | P23: 12P
A24: TI Cô Hồng_TIN | C24: 11A6 | D24: 11A6 | E24: 11A5 | F24: 11A5 | H24: 12H | I24: 12H | J24: 12B | K24: 12B | R24: 11D4 | S24: 11D4 | W24: 12E | X24: 12E | Y24: 12G | Z24: 12G
A25: LY Thầy Vụ | C25: 12P | D25: 12P | E25: 12P | M25: 10D4 | N25: 11D8 | O25: 10A1 | P25: 10A1 | Q25: 11D8 | R25: 10D4 | T25: 12A | U25: 12A | AA25: 10A1 | AB25: 10A1
A26: LY Thầy Sỹ_L | G26: 11D9 | I26: 10A6 | L26: 11D9 | M26: 10A6 | O26: 11A4 | P26: 11A4
A27: LY Cô Hà | C27: 12B | D27: 12B | E27: 12B | F27: 10A3 | L27: 10A3 | M27: 10D6 | Q27: 10D6 | S27: 10A3 | AA27: 10A3 | AB27: 12Q | AC27: 12Q | AD27: 12Q | AE27: 10A3
A28: LY Thầy Thủy_L | D28: HOP | E28: HOP | F28: HOP | G28: 10A8 | I28: 10D1 | J28: 11D6 | K28: 10D2 | Q28: 10A8 | R28: 10A8 | T28: 11A1 | U28: 11A1 | W28: 11D6 | X28: 10D1 | Y28: 10A8 | Z28: 10A8 | AA28: 10D2 | AC28: 12C | AD28: 12C | AE28: 12C
A29: LY Cô Hạnh_L | C29: 11D7 | D29: 10A2 | E29: 10A2 | G29: 10D3 | I29: 11A2 | J29: 11A2 | K29: 11A2 | R29: 10D3 | T29: 10A2 | X29: 11D7 | Y29: 10A2 | Z29: 10A2 | AC29: 12N | AD29: 12N | AE29: 12N
A30: LY_Hải | B30: 11D5 | D30: 10A4 | E30: 10A7 | F30: 10A7 | J30: 10A4 | K30: 10A7 | L30: 11A5 | M30: 11A5 | N30: 11A5 | X30: 10A4 | Y30: 10A7 | Z30: 10A7 | AB30: 11D5 | AD30: 10A7 | AE30: 10A7
A31: LY_Thảo | H31: 10D7 | I31: 11A3 | J31: 11A3 | K31: 11A3 | L31: 11A6 | M31: 11A6 | N31: 11A6 | O31: 10A5 | P31: 10A5 | Q31: 10D5 | R31: 10D7 | S31: 10A5 | AA31: 10A5 | AC31: 10D5
A32: CN Dũng_KT | G32: 11D5 | H32: 11D8 | I32: 11D9 | M32: 11D6 | N32: 11D7
A33: CN Thầy Nghị
A34: HO Cô V.Anh | I34: 12P | J34: 12P | K34: 12P | O34: 11A2 | P34: 11A2
A35: HO Cô Hạnh_H | B35: 10A4 | C35: 12N | D35: 12N | E35: 12N | O35: 11A1 | P35: 11A1 | S35: 10A4 | T35: 10A7 | AB35: 10A7 | AC35: 12B | AD35: 12B | AE35: 12B
A36: HO Cô Lương | B36: 10A5 | C36: 11D9 | D36: HOP | E36: HOP | F36: HOP | H36: 10A5 | J36: 10A8 | K36: 10D1 | M36: 10A5 | N36: 11D9 | W36: 10D1 | X36: 10A8 | Y36: 10A5 | Z36: 10A5
A37: HO Cô Nguyệt | D37: HOP | E37: HOP | F37: 10A1 | L37: 10A6 | M37: 10A2 | N37: 10A1 | Q37: 10A1 | R37: 10A6 | X37: 10A2 | Y37: 10A6 | Z37: 10A6 | AB37: 10A6 | AC37: 10A1 | AE37: 10A1
A38: HO Cô Hảo | B38: 10A3 | C38: 12Q | D38: 12Q | E38: 12Q | J38: 10D6 | K38: 10D7 | Q38: 12C | R38: 12C | S38: 12C | U38: 10D7 | W38: 10D6 | X38: 10A3
A39: HO Cô Hường
A40: HO-Quang_H | B40: 11D7 | C40: 11D8 | D40: 10D5 | E40: 10D4 | G40: 11D6 | H40: 11D5 | I40: 10D3 | J40: 10D4 | L40: 11D6 | M40: 10D2 | Q40: 11D5 | R40: 11D7 | S40: 10D2 | U40: 11D8 | V40: 10D5 | W40: 10D3 | Y40: 11A5 | Z40: 11A5
A41: SI Cô Hoàn | G41: 11D8 | H41: 11D9 | I41: 11D7 | K41: 11D6
...

Sheet Lop_S
A1: BUỔI SÁNG | E1: =TKBGV_C!E1 -> THỜI KHÓA BIỂU HK2 2021 -2022 (CHÍNH THỨC - LẦN 01)
A2: Bắt đầu từ: 7h15' | E2: =TKBGV_C!K2 -> Thực hiện từ ngày: 17/01/2022
A5: Ngày | B5: Tiết | C5: 12A | D5: 12B | E5: 12C | F5: 12D | G5: 12E | H5: 12G | I5: 12H | J5: 12I | K5: 12K | L5: 12M | M5: 12N | N5: 12P | O5: 12Q | P5: 11A1 | Q5: 11A2 | R5: 11A3 | S5: 11A4 | T5: 11A5 | U5: 11A6 | V5: 11D1 | W5: 11D2 | X5: 11D3 | Y5: 11D4
A6: Thứ 2 | B6: 1 | C6: Chào cờ | D6: Chào cờ | E6: Chào cờ | F6: Chào cờ | G6: Chào cờ | H6: Chào cờ | I6: Chào cờ | J6: Chào cờ | K6: Chào cờ | L6: Chào cờ | M6: Chào cờ | N6: Chào cờ | O6: Chào cờ | P6: Chào cờ | Q6: Chào cờ | R6: Chào cờ | S6: Chào cờ | T6: Chào cờ | U6: Chào cờ | V6: Chào cờ | W6: Chào cờ | X6: Chào cờ | Y6: Chào cờ
B7: 2 | C7: Hóa học | D7: Ngoại ngữ 1 | E7: Ngoại ngữ 1 | F7: Ngữ Văn | G7: Ngữ Văn | H7: Sinh học | I7: Tin học | J7: Sinh học | K7: Công nghệ | L7: Ngữ Văn | M7: Hóa học | N7: Vật lí | O7: Công nghệ | P7: Ngoại ngữ 1 | Q7: Vật lí | R7: Địa lí | S7: Hóa học | T7: Sinh học | U7: Toán | V7: Ngữ Văn | W7: Hóa học | X7: Toán | Y7: Ngữ Văn
B8: 3 | C8: Ngữ Văn | D8: GDCD | E8: Ngoại ngữ 1 | F8: Ngữ Văn | G8: Hóa học | H8: Ngữ Văn | I8: Ngoại ngữ 1 | J8: Ngoại ngữ 1 | K8: Toán | L8: Ngữ Văn | M8: Vật lí | N8: Công nghệ | O8: Ngoại ngữ 1 | P8: GDQP-AN | Q8: Ngoại ngữ 1 | R8: Sinh học | S8: Ngữ Văn | T8: Vật lí | U8: Hóa học | V8: Ngữ Văn | W8: Công nghệ | X8: Toán | Y8: Hóa học
B9: 4 | C9: Toán | D9: Ngữ Văn | E9: Ngữ Văn | F9: Hóa học | G9: Địa lí | H9: Ngữ Văn | I9: Sinh học | J9: Ngoại ngữ 1 | K9: Hóa học | L9: Sinh học | M9: Ngữ Văn | N9: Ngữ Văn | O9: Ngoại ngữ 1 | P9: Ngữ Văn | Q9: Ngoại ngữ 1 | R9: Công nghệ | S9: Toán | T9: Ngoại ngữ 1 | U9: Công nghệ | V9: GDQP-AN | W9: Ngoại ngữ 1 | X9: Vật lí | Y9: Ngoại ngữ 1
B10: 5 | C10: Toán | D10: Hóa học | E10: Toán | F10: GDQP-AN | G10: Công nghệ | H10: Hóa học | I10: Ngữ Văn | J10: Toán | K10: Ngữ Văn | L10: Ngoại ngữ 1 | M10: Toán | N10: Ngữ Văn | O10: Hóa học | P10: Ngữ Văn | Q10: Địa lí | R10: Toán | S10: Sinh học | T10: Ngoại ngữ 1 | U10: Toán | V10: Ngoại ngữ 1 | W10: Ngoại ngữ 1 | X10: Ngữ Văn | Y10: Ngoại ngữ 1
A11: Thứ 3 | B11: 1 | C11: Ngữ Văn | D11: GDQP-AN | E11: GDCD | F11: Công nghệ | G11: Ngữ Văn | H11: Địa lí | I11: Ngoại ngữ 1 | J11: Vật lí | K11: Ngoại ngữ 1 | L11: Vật lí | M11: Ngoại ngữ 1 | N11: GDQP-AN | O11: Ngữ Văn | P11: Toán | Q11: Lịch sử | R11: Ngoại ngữ 1 | S11: Lịch sử | T11: Công nghệ | U11: Sinh học | V11: Toán | W11: Vật lí | X11: Địa lí | Y11: Vật lí
B12: 2 | C12: Ngữ Văn | D12: Vật lí | E12: Ngoại ngữ 1 | F12: Địa lí | G12: Ngoại ngữ 1 | H12: Lịch sử | I12: Địa lí | J12: Ngữ Văn | K12: Địa lí | L12: Vật lí | M12: Toán | N12: Ngoại ngữ 1 | O12: Ngữ Văn | P12: Công nghệ | Q12: Sinh học | R12: Lịch sử | S12: Ngoại ngữ 1 | T12: Ngữ Văn | U12: Vật lí | V12: Toán | W12: GDQP-AN | X12: GDCD | Y12: Công nghệ
B13: 3 | C13: Ngoại ngữ 1 | D13: Ngoại ngữ 1 | E13: Địa lí | F13: Vật lí | G13: Ngoại ngữ 1 | H13: GDCD | I13: GDCD | J13: Toán | K13: Ngoại ngữ 1 | L13: Toán | M13: Lịch sử | N13: Vật lí | O13: Toán | P13: Sinh học | Q13: Ngoại ngữ 1 | R13: Vật lí | S13: GDQP-AN | T13: Ngữ Văn | U13: Ngữ Văn | V13: Sinh học | W13: Lịch sử | X13: Công nghệ | Y13: Địa lí
B14: 4 | C14: Vật lí | D14: Toán | E14: Vật lí | F14: Lịch sử | G14: GDCD | H14: Ngoại ngữ 1 | I14: Lịch sử | J14: Toán | K14: Vật lí | L14: Ngữ Văn | M14: Ngoại ngữ 1 | N14: Ngữ Văn | O14: Toán | P14: Ngoại ngữ 1 | Q14: Công nghệ | R14: Toán | S14: Vật lí | T14: GDQP-AN | U14: Ngữ Văn | V14: GDCD | W14: Toán | X14: Ngoại ngữ 1 | Y14: Sinh học
B15: 5 | C15: GDCD | D15: Toán | E15: Công nghệ | F15: GDCD | G15: Toán | H15: Ngoại ngữ 1 | I15: Vật lí | J15: GDQP-AN | K15: Lịch sử | L15: Toán | M15: Địa lí | N15: Lịch sử | O15: Vật lí | P15: Ngữ Văn | Q15: Sinh học | R15: Ngoại ngữ 1 | S15: Ngoại ngữ 1 | T15: Ngoại ngữ 1 | U15: GDQP-AN | V15: Vật lí | W15: Địa lí | X15: Sinh học | Y15: Ngoại ngữ 1
A16: Thứ 4 | B16: 1 | C16: Toán | D16: Tin học | E16: Vật lí | F16: Tin học | G16: Lịch sử | H16: Công nghệ | I16: Ngoại ngữ 1 | J16: Ngữ Văn | K16: Ngữ Văn | L16: Tin học | M16: Ngoại ngữ 1 | N16: Tin học | O16: Vật lí | P16: Công nghệ | Q16: Vật lí | R16: Vật lí | S16: Vật lí | T16: Toán | U16: Hóa học | V16: Địa lí | W16: Ngữ Văn | X16: Sinh học | Y16: Hóa học
B17: 2 | C17: Tin học | D17: Vật lí | E17: Tin học | F17: Sinh học | G17: Tin học | H17: Vật lí | I17: Vật lí | J17: Ngữ Văn | K17: GDQP-AN | L17: Hóa học | M17: Tin học | N17: Toán | O17: Toán | P17: Vật lí | Q17: Ngữ Văn | R17: Công nghệ | S17: Công nghệ | T17: Vật lí | U17: Ngoại ngữ 1 | V17: Lịch sử | W17: Toán | X17: Hóa học | Y17: Vật lí
B18: 3 | C18: Anh_TB | D18: Toán_TB | E18: Toán_TB | F18: Toán_TB | G18: Toán_TB | H18: Anh_TB | I18: Toán_TB | J18: Toán_TB | K18: Toán_TB | L18: Anh_TB | M18: Toán_TB | N18: Hóa_TB | O18: Hóa_TB | P18: Hóa_TB | Q18: Toán_TB | S18: Anh_TB | T18: Hóa_TB | U18: Toán_TB | V18: Anh_TB | W18: Anh_TB | X18: Anh_TB
B19: 4 | C19: Anh_TB | D19: Toán_TB | E19: Toán_TB | F19: Toán_TB | G19: Toán_TB | H19: Anh_TB | I19: Toán_TB | J19: Toán_TB | K19: Toán_TB | L19: Anh_TB | M19: Toán_TB | N19: Hóa_TB | O19: Hóa_TB | P19: Hóa_TB | Q19: Toán_TB | S19: Anh_TB | T19: Hóa_TB | U19: Toán_TB | V19: Anh_TB | W19: Anh_TB | X19: Anh_TB
B20: 5 | C20: Anh_TB | D20: Toán_TB | E20: Toán_TB | F20: Toán_TB | G20: Toán_TB | H20: Anh_TB | I20: Toán_TB | J20: Toán_TB | K20: Toán_TB | L20: Anh_TB | M20: Toán_TB | N20: Hóa_TB | O20: Hóa_TB | P20: Hóa_TB | Q20: Toán_TB | S20: Anh_TB | T20: Hóa_TB | U20: Toán_TB | V20: Anh_TB | W20: Anh_TB | X20: Anh_TB
A21: Thứ 5 | B21: 1 | C21: Hóa học | D21: Toán | E21: Lịch sử | F21: Hóa học | G21: Ngữ Văn | H21: Lịch sử | I21: Địa lí | J21: Địa lí | K21: Ngoại ngữ 1 | L21: Lịch sử | M21: Hóa học | N21: Sinh học | O21: GDQP-AN | P21: Ngoại ngữ 1 | Q21: Vật lí | R21: Ngữ Văn | S21: Toán | T21: Ngữ Văn | U21: Công nghệ | V21: Hóa học | W21: GDCD | X21: GDQP-AN | Y21: Toán
B22: 2 | C22: Lịch sử | D22: Địa lí | E22: Hóa học | F22: Ngoại ngữ 1 | G22: Ngữ Văn | H22: GDQP-AN | I22: Lịch sử | J22: Lịch sử | K22: Ngoại ngữ 1 | L22: Địa lí | M22: Vật lí | N22: Ngoại ngữ 1 | O22: GDCD | P22: Ngoại ngữ 1 | Q22: GDCD | R22: Ngữ Văn | S22: Hóa học | T22: Công nghệ | U22: Hóa học | V22: Toán | W22: Sinh học | X22: Toán | Y22: Toán
B23: 3 | C23: Ngoại ngữ 1 | D23: Lịch sử | E23: GDQP-AN | F23: Địa lí | G23: Vật lí | H23: Ngoại ngữ 1 | I23: Toán | J23: Ngoại ngữ 1 | K23: Lịch sử | L23: GDCD | M23: GDCD | N23: Ngữ Văn | O23: Ngoại ngữ 1 | P23: Địa lí | Q23: Hóa học | R23: Hóa học | S23: Công nghệ | T23: Ngữ Văn | U23: Toán | V23: Toán | W23: Ngoại ngữ 1 | X23: Địa lí | Y23: Lịch sử
B24: 4 | C24: Địa lí | D24: Vật lí | E24: Ngữ Văn | F24: Toán | G24: Toán | H24: Toán | I24: GDQP-AN | J24: Công nghệ | K24: Toán | L24: Ngoại ngữ 1 | M24: Địa lí | N24: Vật lí | O24: Hóa học | P24: Hóa học | Q24: Ngoại ngữ 1 | R24: Ngoại ngữ 1 | S24: GDCD | T24: Ngoại ngữ 1 | U24: Toán | V24: Ngoại ngữ 1 | W24: Ngoại ngữ 1 | X24: Hóa học | Y24: GDCD
B25: 5 | C25: Vật lí | D25: Toán | E25: Ngữ Văn | F25: Lịch sử | G25: Lịch sử | H25: Toán | I25: Toán | J25: Tin học | K25: Vật lí | L25: Ngoại ngữ 1 | M25: GDQP-AN | N25: Hóa học | O25: Địa lí | P25: GDCD | Q25: Ngữ Văn | R25: Ngoại ngữ 1 | S25: Sinh học | T25: Toán | U25: Ngoại ngữ 1 | V25: Ngoại ngữ 1 | W25: Hóa học | X25: Lịch sử | Y25: GDQP-AN
A26: Thứ 6 | B26: 1 | C26: Sinh học | D26: Địa lí | E26: Địa lí | F26: Vật lí | G26: Ngoại ngữ 1 | H26: Vật lí | I26: Ngữ Văn | J26: Hóa học | K26: Ngữ Văn | L26: Địa lí | M26: Ngữ Văn | N26: Ngoại ngữ 1 | O26: Lịch sử | P26: Sinh học | Q26: Toán | R26: GDQP-AN | S26: Hóa học | T26: Vật lí | U26: Ngữ Văn | V26: Ngữ Văn | W26: Sinh học | X26: Ngoại ngữ 1 | Y26: Công nghệ
B27: 2 | C27: Địa lí | D27: Ngoại ngữ 1 | E27: Toán | F27: Toán | G27: GDQP-AN | H27: Địa lí | I27: Ngữ Văn | J27: Địa lí | K27: Ngữ Văn | L27: Ngoại ngữ 1 | M27: Công nghệ | N27: Địa lí | O27: Sinh học | P27: Vật lí | Q27: Toán | R27: Hóa học | S27: Ngoại ngữ 1 | T27: Lịch sử | U27: Vật lí | V27: Ngữ Văn | W27: Ngữ Văn | X27: Vật lí | Y27: Sinh học
B28: 3 | C28: GDQP-AN | D28: Công nghệ | E28: Vật lí | F28: Ngữ Văn | G28: Địa lí | H28: Toán | I28: Công nghệ | J28: Ngoại ngữ 1 | K28: Hóa học | L28: Ngữ Văn | M28: Ngoại ngữ 1 | N28: Ngoại ngữ 1 | O28: Địa lí | P28: Toán | Q28: Hóa học | R28: Toán | S28: Địa lí | T28: Hóa học | U28: Sinh học | V28: Ngoại ngữ 1 | W28: Vật lí | X28: Ngữ Văn | Y28: Địa lí
B29: 4 | C29: Công nghệ | D29: Ngoại ngữ 1 | E29: Ngữ Văn | F29: Ngoại ngữ 1 | G29: Ngoại ngữ 1 | H29: Ngoại ngữ 1 | I29: Hóa học | J29: Lịch sử | K29: Địa lí | L29: Công nghệ | M29: Sinh học | N29: Toán | O29: Ngữ Văn | P29: Toán | Q29: GDQP-AN | R29: Hóa học | S29: Ngữ Văn | T29: Địa lí | U29: Lịch sử | V29: Sinh học | W29: Toán | X29: Ngữ Văn | Y29: Toán
B30: 5 | C30: Ngữ Văn | D30: Ngữ Văn | E30: Toán | F30: Ngoại ngữ 1 | G30: Sinh học | H30: Hóa học | I30: Toán | J30: Toán | K30: Sinh học | L30: Lịch sử | M30: Toán | N30: Toán | O30: Ngữ Văn | P30: Lịch sử | Q30: Công nghệ | R30: Toán | S30: Ngữ Văn | T30: Hóa học | U30: Ngoại ngữ 1 | V30: Hóa học | W30: Toán | X30: Ngoại ngữ 1 | Y30: Ngữ Văn
A31: Thứ 7 | B31: 1 | C31: Toán | D31: Hóa học | E31: Ngoại ngữ 1 | F31: Ngữ Văn | G31: Toán | H31: Toán | I31: Hóa học | J31: Vật lí | K31: GDCD | L31: GDQP-AN | M31: Ngữ Văn | N31: Địa lí | O31: Tin học | P31: Vật lí | Q31: Toán | R31: Ngữ Văn | S31: Toán | T31: Sinh học | U31: GDCD | V31: Công nghệ | W31: Ngữ Văn | X31: Ngoại ngữ 1 | Y31: Ngữ Văn
B32: 2 | C32: Ngoại ngữ 1 | D32: Ngữ Văn | E32: Sinh học | F32: Ngoại ngữ 1 | G32: Toán | H32: Ngữ Văn | I32: Ngoại ngữ 1 | J32: Hóa học | K32: Tin học | L32: Toán | M32: Ngữ Văn | N32: Toán | O32: Vật lí | P32: Ngữ Văn | Q32: Ngữ Văn | R32: Ngữ Văn | S32: Toán | T32: GDCD | U32: Địa lí | V32: Vật lí | W32: Ngữ Văn | X32: Công nghệ | Y32: Ngữ Văn
B33: 3 | C33: Ngoại ngữ 1 | D33: Ngữ Văn | E33: Hóa học | F33: Toán | G33: Vật lí | H33: Ngữ Văn | I33: Ngữ Văn | J33: GDCD | K33: Toán | L33: Toán | M33: Toán | N33: Hóa học | O33: Ngoại ngữ 1 | P33: Hóa học | Q33: Ngữ Văn | R33: GDCD | S33: Ngữ Văn | T33: Toán | U33: Ngữ Văn | V33: Địa lí | W33: Công nghệ | X33: Toán | Y33: Ngoại ngữ 1
B34: 4 | C34: Vật lí | D34: Sinh học | E34: Toán | F34: Toán | G34: Hóa học | H34: Tin học | I34: Toán | J34: Ngữ Văn | K34: Toán | L34: Hóa học | M34: Vật lí | N34: GDCD | O34: Toán | P34: Toán | Q34: Toán | R34: Sinh học | S34: Ngoại ngữ 1 | T34: Toán | U34: Ngoại ngữ 1 | V34: Công nghệ | W34: Địa lí | X34: Ngữ Văn | Y34: Toán
B35: 5 | C35: Sinh hoạt | D35: Sinh hoạt | E35: Sinh hoạt | F35: Sinh hoạt | G35: Sinh hoạt | H35: Sinh hoạt | I35: Sinh hoạt | J35: Sinh hoạt | K35: Sinh hoạt | L35: Sinh hoạt | M35: Sinh hoạt | N35: Sinh hoạt | O35: Sinh hoạt | P35: Sinh hoạt | Q35: Sinh hoạt | R35: Sinh hoạt | S35: Sinh hoạt | T35: Sinh hoạt | U35: Sinh hoạt | V35: Sinh hoạt | W35: Sinh hoạt | X35: Sinh hoạt | Y35: Sinh hoạt

Sheet Lop_C
A1: =TKBGV_C!A1 -> BUỔI CHIỀU | E1: =Lop_S!E1 -> THỜI KHÓA BIỂU HK2 2021 -2022 (CHÍNH THỨC - LẦN 01)
A2: =TKBGV_C!A2 -> Bắt đầu từ: 12h45 | E2: =Lop_S!E2 -> Thực hiện từ ngày: 17/01/2022
A5: Ngày | B5: Tiết | C5: 10A1 | D5: 10A2 | E5: 10A3 | F5: 10A4 | G5: 10A5 | H5: 10A6 | I5: 10A7 | J5: 10A8 | K5: 10D1 | L5: 10D2 | M5: 10D3 | N5: 10D4 | O5: 10D5 | P5: 10D6 | Q5: 10D7 | R5: 11D5 | S5: 11D6 | T5: 11D7 | U5: 11D8 | V5: 11D9
A6: Thứ 2 | B6: 1 | C6: Tin học | D6: Toán | E6: Toán | F6: Công nghệ | G6: Ngữ Văn | H6: Vật lí | I6: Ngữ Văn | J6: Vật lí | K6: Lịch sử | L6: Toán | M6: Ngoại ngữ 1 | N6: Hóa học | O6: Lịch sử | P6: Vật lí | Q6: Ngoại ngữ 1 | R6: Vật lí | S6: Vật lí | T6: Ngoại ngữ 1 | U6: Toán | V6: Hóa học
B7: 2 | C7: Tin học | D7: Toán | E7: Sinh học | F7: Vật lí | G7: Ngữ Văn | H7: Hóa học | I7: Công nghệ | J7: Ngoại ngữ 1 | K7: Hóa học | L7: Hóa học | M7: Lịch sử | N7: Địa lí | O7: Ngoại ngữ 1 | P7: Toán | Q7: Lịch sử | R7: Ngoại ngữ 1 | S7: Ngoại ngữ 1 | T7: Toán | U7: Địa lí | V7: Công nghệ
B8: 3 | C8: Vật lí | D8: GDCD | E8: Lịch sử | F8: Vật lí | G8: Sinh học | H8: Tin học | I8: Lịch sử | J8: Ngoại ngữ 1 | K8: Ngữ Văn | L8: Ngoại ngữ 1 | M8: Ngữ Văn | N8: Lịch sử | O8: Hóa học | P8: Công nghệ | Q8: Ngữ Văn | R8: Lịch sử | S8: Công nghệ | T8: Ngoại ngữ 1 | U8: Ngoại ngữ 1 | V8: Địa lí
B9: 4 | C9: Ngoại ngữ 1 | D9: Ngữ Văn | E9: Công nghệ | F9: Ngoại ngữ 1 | G9: Địa lí | H9: Lịch sử | I9: Toán | J9: Ngữ Văn | K9: Ngữ Văn | L9: Ngoại ngữ 1 | M9: Ngữ Văn | N9: Vật lí | O9: Ngoại ngữ 1 | P9: Ngoại ngữ 1 | Q9: Ngữ Văn | R9: Sinh học | S9: Ngữ Văn | T9: Hóa học | U9: GDCD | V9: Ngữ Văn
B10: 5 | C10: Chào cờ | D10: Chào cờ | E10: Chào cờ | F10: Chào cờ | G10: Chào cờ | H10: Chào cờ | I10: Chào cờ | J10: Chào cờ | K10: Chào cờ | L10: Chào cờ | M10: Chào cờ | N10: Chào cờ | O10: Chào cờ | P10: Chào cờ | Q10: Chào cờ | R10: Chào cờ | S10: Chào cờ | T10: Chào cờ | U10: Chào cờ | V10: Chào cờ
A11: Thứ 3 | B11: 1 | C11: Vật lí | D11: Tin học | E11: Ngữ Văn | F11: Ngữ Văn | G11: Vật lí | H11: Vật lí | I11: Tin học | J11: Ngoại ngữ 1 | K11: Toán | L11: Tin học | M11: Sinh học | N11: Công nghệ | O11: Ngữ Văn | P11: Công nghệ | Q11: Hóa học | R11: Ngữ Văn | S11: Toán | T11: Ngữ Văn | U11: Toán | V11: Toán
B12: 2 | C12: Lịch sử | D12: Tin học | E12: Ngữ Văn | F12: Công nghệ | G12: Vật lí | H12: Vật lí | I12: Tin học | J12: Vật lí | K12: Toán | L12: Tin học | M12: Vật lí | N12: Ngoại ngữ 1 | O12: Công nghệ | P12: Hóa học | Q12: Ngoại ngữ 1 | R12: Hóa học | S12: Công nghệ | T12: Ngữ Văn | U12: Toán | V12: Ngữ Văn
B13: 3 | C13: Ngoại ngữ 1 | D13: Ngoại ngữ 1 | E13: Vật lí | F13: GDCD | G13: Công nghệ | H13: Tin học | I13: Toán | J13: Lịch sử | K13: Công nghệ | L13: Ngữ Văn | M13: Lịch sử | N13: Hóa học | O13: Toán | P13: Ngoại ngữ 1 | Q13: Địa lí | R13: Vật lí | S13: Sinh học | T13: Vật lí | U13: Công nghệ | V13: Ngữ Văn
B14: 4 | C14: Toán | D14: Địa lí | E14: Hóa học | F14: Vật lí | G14: Ngữ Văn | H14: Ngoại ngữ 1 | I14: Lịch sử | J14: Tin học | K14: Ngữ Văn | L14: Ngữ Văn | M14: Tin học | N14: Lịch sử | O14: Vật lí | P14: Ngữ Văn | Q14: Vật lí | R14: Công nghệ | S14: Ngoại ngữ 1 | T14: Sinh học | U14: Ngoại ngữ 1 | V14: Vật lí
B15: 5 | C15: Toán | D15: Vật lí | E15: Công nghệ | F15: Lịch sử | G15: Lịch sử | H15: Ngoại ngữ 1 | I15: GDCD | J15: Tin học | K15: Ngữ Văn | L15: Ngoại ngữ 1 | M15: Tin học | N15: Ngữ Văn | O15: Toán | P15: Ngoại ngữ 1 | Q15: Hóa học | R15: Toán | S15: Hóa học | T15: Địa lí | U15: Vật lí | V15: Sinh học
A16: Thứ 4 | B16: 1 | C16: Công nghệ | D16: Ngoại ngữ 1 | E16: Ngoại ngữ 1 | F16: Sinh học | G16: Hóa học | H16: Ngữ Văn | I16: Ngữ Văn | J16: Ngoại ngữ 1 | K16: Toán | L16: Toán | M16: Công nghệ | N16: Toán | O16: Sinh học | P16: Vật lí | Q16: Ngữ Văn | R16: Toán | S16: Hóa học | T16: Công nghệ | U16: Ngoại ngữ 1 | V16: Vật lí
B17: 2 | C17: Toán | D17: Toán | E17: Ngoại ngữ 1 | F17: Hóa học | G17: Công nghệ | H17: Ngữ Văn | I17: Ngữ Văn | J17: Sinh học | K17: Toán | L17: Vật lí | M17: Hóa học | N17: Toán | O17: Công nghệ | P17: Hóa học | Q17: Ngoại ngữ 1 | R17: Ngoại ngữ 1 | S17: Sinh học | T17: Toán | U17: Công nghệ | V17: Ngoại ngữ 1
B18: 3 | C18: Lý_TB | D18: Lý_TB | E18: Lý_TB | F18: Lý_TB | G18: Lý_TB | H18: Lý_TB | J18: Lý_TB | K18: Văn_TB | L18: Văn_TB | M18: Văn_TB | N18: Văn_TB | O18: Văn_TB | R18: Văn_TB | S18: Văn_TB | T18: Văn_TB | V18: Văn_TB
B19: 4 | C19: Lý_TB | D19: Lý_TB | E19: Lý_TB | F19: Lý_TB | G19: Lý_TB | H19: Lý_TB | J19: Lý_TB | K19: Văn_TB | L19: Văn_TB | M19: Văn_TB | N19: Văn_TB | O19: Văn_TB | R19: Văn_TB | S19: Văn_TB | T19: Văn_TB | V19: Văn_TB
B20: 5 | C20: Lý_TB | D20: Lý_TB | E20: Lý_TB | F20: Lý_TB | G20: Lý_TB | H20: Lý_TB | J20: Lý_TB | K20: Văn_TB | L20: Văn_TB | M20: Văn_TB | N20: Văn_TB | O20: Văn_TB | R20: Văn_TB | S20: Văn_TB | T20: Văn_TB | V20: Văn_TB
A21: Thứ 5 | B21: 1 | C21: Ngoại ngữ 1 | D21: Vật lí | E21: Ngữ Văn | F21: Ngoại ngữ 1 | G21: Vật lí | H21: Công nghệ | I21: Hóa học | J21: Vật lí | K21: Tin học | L21: Toán | M21: Ngoại ngữ 1 | N21: Ngữ Văn | O21: Hóa học | P21: Lịch sử | Q21: Toán | R21: Toán | S21: Ngoại ngữ 1 | T21: Ngữ Văn | U21: Ngoại ngữ 1 | V21: Ngoại ngữ 1
B22: 2 | C22: Ngoại ngữ 1 | D22: Lịch sử | E22: Vật lí | F22: Ngoại ngữ 1 | G22: Tin học | H22: Hóa học | I22: Địa lí | J22: Công nghệ | K22: Vật lí | L22: Ngoại ngữ 1 | M22: Công nghệ | N22: Ngữ Văn | O22: Tin học | P22: Toán | Q22: Toán | R22: Hóa học | S22: Vật lí | T22: Ngữ Văn | U22: Ngữ Văn | V22: GDQP-AN
B23: 3 | C23: Hóa học | D23: Ngoại ngữ 1 | E23: Lịch sử | F23: Toán | G23: Tin học | H23: Ngoại ngữ 1 | I23: Ngoại ngữ 1 | J23: Ngữ Văn | K23: Sinh học | L23: Hóa học | M23: Ngoại ngữ 1 | N23: Tin học | O23: Địa lí | P23: Ngữ Văn | Q23: GDCD | R23: Ngoại ngữ 1 | S23: GDQP-AN | T23: Lịch sử | U23: Ngữ Văn | V23: Hóa học
B24: 4 | C24: Vật lí | D24: Hóa học | E24: Ngoại ngữ 1 | F24: Toán | G24: Ngoại ngữ 1 | H24: Ngoại ngữ 1 | I24: Công nghệ | J24: Ngữ Văn | K24: Hóa học | L24: Lịch sử | M24: Ngữ Văn | N24: Tin học | O24: Ngoại ngữ 1 | P24: Ngữ Văn | Q24: Sinh học | R24: Ngoại ngữ 1 | S24: Toán | T24: Ngoại ngữ 1 | U24: Toán | V24: Lịch sử
B25: 5 | C25: Lịch sử | D25: Công nghệ | E25: Ngoại ngữ 1 | F25: Lịch sử | G25: Toán | H25: Ngữ Văn | I25: Ngoại ngữ 1 | J25: Hóa học | K25: Tin học | L25: Công nghệ | M25: Ngữ Văn | N25: Vật lí | O25: Tin học | P25: GDCD | Q25: Ngoại ngữ 1 | R25: Toán | S25: Ngữ Văn | T25: Ngoại ngữ 1 | U25: Hóa học | V25: Địa lí
A26: Thứ 6 | B26: 1 | C26: Công nghệ | D26: Vật lí | E26: Địa lí | F26: Địa lí | G26: Ngoại ngữ 1 | H26: Toán | I26: Hóa học | J26: Toán | K26: Vật lí | L26: GDCD | M26: Ngoại ngữ 1 | N26: Ngoại ngữ 1 | O26: Ngữ Văn | P26: Sinh học | Q26: Vật lí | R26: Toán | S26: GDCD | T26: GDQP-AN | U26: Lịch sử | V26: Toán
B27: 2 | C27: Toán | D27: Toán | E27: Tin học | F27: Hóa học | G27: Ngoại ngữ 1 | H27: Toán | I27: Vật lí | J27: Lịch sử | K27: Ngoại ngữ 1 | L27: Công nghệ | M27: Hóa học | N27: Sinh học | O27: Ngữ Văn | P27: Ngữ Văn | Q27: Công nghệ | R27: Địa lí | S27: Toán | T27: Vật lí | U27: GDQP-AN | V27: Công nghệ
B28: 3 | C28: Sinh học | D28: Ngữ Văn | E28: Tin học | F28: Ngoại ngữ 1 | G28: Lịch sử | H28: GDCD | I28: Toán | J28: Toán | K28: Ngoại ngữ 1 | L28: Địa lí | M28: Vật lí | N28: Toán | O28: Toán | P28: Lịch sử | Q28: Toán | R28: Công nghệ | S28: Địa lí | T28: Hóa học | U28: Vật lí | V28: GDCD
B29: 4 | C29: Ngữ Văn | D29: Ngữ Văn | E29: Toán | F29: Tin học | G29: Toán | H29: Công nghệ | I29: Ngoại ngữ 1 | J29: Địa lí | K29: GDCD | L29: Vật lí | M29: Toán | N29: Công nghệ | O29: Lịch sử | P29: Toán | Q29: Toán | R29: GDQP-AN | S29: Lịch sử | T29: GDCD | U29: Sinh học | V29: Ngoại ngữ 1
B30: 5 | C30: Ngữ Văn | D30: Công nghệ | E30: Toán | F30: Tin học | G30: Toán | H30: Lịch sử | I30: Sinh học | J30: GDCD | K30: Công nghệ | L30: Sinh học | M30: Toán | N30: Toán | O30: Toán | P30: Toán | Q30: Lịch sử | R30: GDCD | S30: Toán | T30: Công nghệ | U30: Hóa học | V30: Ngoại ngữ 1
A31: Thứ 7 | B31: 1 | C31: Địa lí | D31: Ngoại ngữ 1 | E31: Toán | F31: Toán | G31: Ngoại ngữ 1 | H31: Toán | I31: Vật lí | J31: Hóa học | K31: Lịch sử | L31: Ngữ Văn | M31: Toán | N31: GDCD | O31: Ngoại ngữ 1 | P31: Tin học | Q31: Công nghệ | R31: Sinh học | S31: Địa lí | T31: Toán | U31: Ngữ Văn | V31: Toán
B32: 2 | C32: GDCD | D32: Lịch sử | E32: Hóa học | F32: Toán | G32: Hóa học | H32: Toán | I32: Ngoại ngữ 1 | J32: Công nghệ | K32: Ngoại ngữ 1 | L32: Toán | M32: GDCD | N32: Ngoại ngữ 1 | O32: Ngữ Văn | P32: Tin học | Q32: Ngữ Văn | R32: Địa lí | S32: Ngữ Văn | T32: Sinh học | U32: Toán | V32: Toán
B33: 3 | C33: Ngữ Văn | D33: Hóa học | E33: GDCD | F33: Ngữ Văn | G33: GDCD | H33: Sinh học | I33: Toán | J33: Toán | K33: Địa lí | L33: Ngữ Văn | M33: Toán | N33: Ngoại ngữ 1 | O33: Vật lí | P33: Địa lí | Q33: Tin học | R33: Ngữ Văn | S33: Ngữ Văn | T33: Toán | U33: Địa lí | V33: Sinh học
B34: 4 | C34: Hóa học | D34: Sinh học | E34: Vật lí | F34: Ngữ Văn | G34: Toán | H34: Địa lí | I34: Toán | J34: Toán | K34: Ngoại ngữ 1 | L34: Lịch sử | M34: Địa lí | N34: Ngữ Văn | O34: GDCD | P34: Ngoại ngữ 1 | Q34: Tin học | R34: Ngữ Văn | S34: Ngoại ngữ 1 | T34: Địa lí | U34: Sinh học | V34: Ngữ Văn
B35: 5 | C35: Sinh hoạt | D35: Sinh hoạt | E35: Sinh hoạt | F35: Sinh hoạt | G35: Sinh hoạt | H35: Sinh hoạt | I35: Sinh hoạt | J35: Sinh hoạt | K35: Sinh hoạt | L35: Sinh hoạt | M35: Sinh hoạt | N35: Sinh hoạt | O35: Sinh hoạt | P35: Sinh hoạt | Q35: Sinh hoạt | R35: Sinh hoạt | S35: Sinh hoạt | T35: Sinh hoạt | U35: Sinh hoạt | V35: Sinh hoạt

Sheet LOP_TB_S
A1: =Lop_S!A1 -> BUỔI SÁNG | E1: =Lop_S!E1 -> THỜI KHÓA BIỂU HK2 2021 -2022 (CHÍNH THỨC - LẦN 01)
