Workbook

Sheet TKBGV-S
A1: BUỔI SÁNG | E1: THỜI KHÓA BIỂU HK2 2021 -2022 (CHÍNH THỨC - LẦN 01)
A2: Bắt đầu từ: 7h15' | E2: Thực hiện từ ngày: 17/01/2022
A4: Ngày | B4: Tiết | C4: 12A | D4: 12B | E4: 12C | F4: 12D | G4: 12E | H4: 12G | I4: 12H | J4: 12I | K4: 12K | L4: 12M | M4: 12N | N4: 12P | O4: 12Q | P4: 11A1 | Q4: 11A2 | R4: 11A3 | S4: 11A4 | T4: 11A5 | U4: 11A6 | V4: 11D1 | W4: 11D2 | X4: 11D3 | Y4: 11D4
A5: Thứ 2 | B5: 1 | C5: Vụ_L | D5: Hạnh_H | E5: Ngọ_T | F5: Hiếu_V | G5: Hạnh_V | H5: Hằng_V | I5: Nga_CD | J5: Tuyến_S | K5: Hồng_S | L5: Hoàn_S | M5: Hạnh_L | N5: V.Anh_H | O5: Hảo_H | P5: Len_T | Q5: Hiền | R5: Sâm_A | S5: Mẫn_A | T5: Hồng | U5: Cường | V5: Nga_A | W5: Thủy_V | X5: Tuyến_V | Y5: Nhung_V
B6: 2 | C6: Hảo_H | D6: Hồng_A | E6: Sâm_A | F6: Hiếu_V | G6: Hạnh_V | H6: Hoàn_S | I6: Hồng | J6: Tuyến_S | K6: Nghị_KT | L6: T.Hương_V | M6: Hạnh_H | N6: Vụ_L | O6: Dũng_KT | P6: Huyền_A | Q6: Hạnh_L | R6: Hằng_Đ | S6: V.Anh_H | T6: Hồng_S | U6: Cường | V6: Đ.Hương_V | W6: Nguyệt_H | X6: Ngọ_T | Y6: Nhung_V
B7: 3 | C7: Tuyến_V | D7: Nga_CD | E7: Sâm_A | F7: Hiếu_V | G7: Hảo_H | H7: Hằng_V | I7: Hồng_A | J7: Mẫn_A | K7: Quang_T | L7: T.Hương_V | M7: Hạnh_L | N7: Dũng_KT | O7: Nga_A | P7: Mạnh_QP | Q7: Châm | R7: Hồng_S | S7: Thủy_V | T7: Hải_L | U7: Nguyệt_H | V7: Đ.Hương_V | W7: Nghị_KT | X7: Ngọ_T | Y7: V.Anh_H
B8: 4 | C8: Quang_T | D8: Hiếu_V | E8: Nhung_V | F8: V.Anh_H | G8: Hằng_Đ | H8: Hằng_V | I8: Tuyến_S | J8: Mẫn_A | K8: Hạnh_H | L8: Hoàn_S | M8: Tuyến_V | N8: C.Hương_V | O8: Nga_A | P8: Sâm_V | Q8: Châm | R8: Dũng_KT | S8: Cường | T8: Thủy_A | U8: Nghị_KT | V8: Mạnh_QP | W8: Huyền_A | X8: Hải_L | Y8: Hồng_A
B9: 5 | C9: Quang_T | D9: Hạnh_H | E9: Ngọ_T | F9: Mạnh_QP | G9: Nghị_KT | H9: V.Anh_H | I9: Nhung_V | J9: Thương_T | K9: Hiếu_V | L9: Khanh_A | M9: Len_T | N9: C.Hương_V | O9: Hảo_H | P9: Sâm_V | Q9: Hằng_Đ | R9: Hoa_T | S9: Hồng_S | T9: Thủy_A | U9: Cường | V9: Nga_A | W9: Huyền_A | X9: Tuyến_V | Y9: Hồng_A
A10: Thứ 3 | B10: 1 | C10: Tuyến_V | D10: Mạnh_QP | E10: Thìn_CD | F10: Dũng_KT | G10: Hạnh_V | H10: Hiệp_Đ | I10: Hồng_A | J10: Hà_L | K10: Mẫn_A | L10: Sỹ_L | M10: Khanh_A | N10: Ng.Anh_QP | O10: T.Hương_V | P10: Len_T | Q10: Mai_S | R10: Sâm_A | S10: Yến_Su | T10: Nghị_KT | U10: H.Giang_S | V10: Đường_T | W10: Thảo_L | X10: Hường_Đ | Y10: Vụ_L
B11: 2 | C11: Tuyến_V | D11: Hà_L | E11: Sâm_A | F11: Hiệp_Đ | G11: Khanh_A | H11: Yến_Su | I11: Hường_Đ | J11: Hạnh_V | K11: Hằng_Đ | L11: Sỹ_L | M11: Len_T | N11: Châm | O11: T.Hương_V | P11: Dũng_KT | Q11: H.Giang_S | R11: Mai_S | S11: Mẫn_A | T11: Huyền_V | U11: Thảo_L | V11: Đường_T | W11: Mạnh_QP | X11: Nga_CD | Y11: Nghị_KT
B12: 3 | C12: Sâm_A | D12: Hồng_A | E12: Hằng_Đ | F12: Thủy_L | G12: Khanh_A | H12: Thìn_CD | I12: Nga_CD | J12: Thương_T | K12: Mẫn_A | L12: Hoa_T | M12: Mai_S | N12: Vụ_L | O12: Huế_T | P12: H.Giang_S | Q12: Châm | R12: Thảo_L | S12: Mạnh_QP | T12: Huyền_V | U12: Sâm_V | V12: T.Giang_S | W12: Yến_Su | X12: Nghị_KT | Y12: Hiệp_Đ
B13: 4 | C13: Vụ_L | D13: Đường_T | E13: Thủy_L | F13: Linh_Su | G13: Nga_CD | H13: Châm | I13: Yến_Su | J13: Thương_T | K13: Hà_L | L13: T.Hương_V | M13: Khanh_A | N13: C.Hương_V | O13: Huế_T | P13: Huyền_A | Q13: Dũng_KT | R13: Hoa_T | S13: Sỹ_L | T13: Mạnh_QP | U13: Sâm_V | V13: Thìn_CD | W13: Thìn_T | X13: Hồng_A | Y13: T.Giang_S
B14: 5 | C14: Nga_CD | D14: Đường_T | E14: Dũng_KT | F14: Thìn_CD | G14: Huế_T | H14: Châm | I14: Sỹ_L | J14: Ng.Anh_QP | K14: Linh_Su | L14: Hoa_T | M14: Hiệp_Đ | N14: Yến_Su | O14: Hà_L | P14: Sâm_V | Q14: H.Giang_S | R14: Sâm_A | S14: Mẫn_A | T14: Thủy_A | U14: Mạnh_QP | V14: Thủy_L | W14: Hằng_Đ | X14: T.Giang_S | Y14: Hồng_A
A15: Thứ 4 | B15: 1 | C15: Quang_T | D15: Hồng | E15: Thủy_L | F15: Thịnh | G15: Yến_Su | H15: Nghị_KT | I15: Hồng_A | J15: Hạnh_V | K15: Hiếu_V | L15: Hiền | M15: Khanh_A | N15: Hải | O15: Hà_L | P15: Dũng_KT | Q15: Hạnh_L | R15: Thảo_L | S15: Sỹ_L | T15: Cường | U15: Nguyệt_H | V15: Hằng_Đ | W15: Thủy_V | X15: T.Giang_S | Y15: V.Anh_H
B16: 2 | C16: Hiền | D16: Hà_L | E16: Thịnh | F16: T.Giang_S | G16: Hồng | H16: Thảo_L | I16: Sỹ_L | J16: Hạnh_V | K16: Ng.Anh_QP | L16: V.Anh_H | M16: Hải | N16: Hằng_T | O16: Huế_T | P16: Thủy_L | Q16: C.Hương_V | R16: Dũng_KT | S16: Nghị_KT | T16: Hải_L | U16: Châm | V16: Yến_Su | W16: Thìn_T | X16: Nguyệt_H | Y16: Vụ_L
B17: Học TB | C17: Sâm_A | D17: Đường_T | E17: Ngọ_T | F17: Hằng_T | G17: Huế_T | H17: Châm | I17: Thủy_T | J17: Thương_T | K17: Quang_T | L17: Khanh_A | M17: Len_T | N17: V.Anh_H | O17: Hảo_H | P17: Hạnh_H | Q17: Hoa_T | S17: Mẫn_A | T17: Quang_H | U17: Cường | V17: Nga_A | W17: Huyền_A | X17: Hồng_A
C18: Sâm_A | D18: Đường_T | E18: Ngọ_T | F18: Hằng_T | G18: Huế_T | H18: Châm | I18: Thủy_T | J18: Thương_T | K18: Quang_T | L18: Khanh_A | M18: Len_T | N18: V.Anh_H | O18: Hảo_H | P18: Hạnh_H | Q18: Hoa_T | S18: Mẫn_A | T18: Quang_H | U18: Cường | V18: Nga_A | W18: Huyền_A | X18: Hồng_A
C19: Sâm_A | D19: Đường_T | E19: Ngọ_T | F19: Hằng_T | G19: Huế_T | H19: Châm | I19: Thủy_T | J19: Thương_T | K19: Quang_T | L19: Khanh_A | M19: Len_T | N19: V.Anh_H | O19: Hảo_H | P19: Hạnh_H | Q19: Hoa_T | S19: Mẫn_A | T19: Quang_H | U19: Cường | V19: Nga_A | W19: Huyền_A | X19: Hồng_A
A20: Thứ 5 | B20: 1 | C20: Hảo_H | D20: Đường_T | E20: Linh_Su | F20: V.Anh_H | G20: Hạnh_V | H20: Yến_Su | I20: Hường_Đ | J20: Phương_Đ | K20: Mẫn_A | L20: Mai_S | M20: Hạnh_H | N20: T.Giang_S | O20: Ng.Anh_QP | P20: Huyền_A | Q20: Hạnh_L | R20: Đ.Hương_V | S20: Cường | T20: Huyền_V | U20: Nghị_KT | V20: Nguyệt_H | W20: Thìn_CD | X20: Mạnh_QP | Y20: Thương_T
B21: 2 | C21: Linh_Su | D21: Hường_Đ | E21: Hảo_H | F21: Nga_A | G21: Hạnh_V | H21: Mạnh_QP | I21: Yến_Su | J21: Mai_S | K21: Mẫn_A | L21: Phương_Đ | M21: Hạnh_L | N21: Châm | O21: Thìn_CD | P21: Huyền_A | Q21: Phượng_CD | R21: Đ.Hương_V | S21: V.Anh_H | T21: Nghị_KT | U21: Nguyệt_H | V21: Đường_T | W21: T.Giang_S | X21: Ngọ_T | Y21: Thương_T
B22: 3 | C22: Sâm_A | D22: Yến_Su | E22: Mạnh_QP | F22: Hiệp_Đ | G22: Hạnh_L | H22: Châm | I22: Thủy_T | J22: Mẫn_A | K22: Linh_Su | L22: Phượng_CD | M22: Thìn_CD | N22: C.Hương_V | O22: Nga_A | P22: Phương_Đ | Q22: V.Anh_H | R22: Hạnh_H | S22: Nghị_KT | T22: Huyền_V | U22: Cường | V22: Đường_T | W22: Huyền_A | X22: Hường_Đ | Y22: Mai_S
B23: 4 | C23: Hường_Đ | D23: Hà_L | E23: Nhung_V | F23: Hằng_T | G23: Huế_T | H23: Ngọ_T | I23: Mạnh_QP | J23: Nghị_KT | K23: Quang_T | L23: Khanh_A | M23: Hiệp_Đ | N23: Vụ_L | O23: Hảo_H | P23: Hạnh_H | Q23: Châm | R23: Sâm_A | S23: Phượng_CD | T23: Thủy_A | U23: Cường | V23: Nga_A | W23: Huyền_A | X23: Nguyệt_H | Y23: Thìn_CD
B24: 5 | C24: Vụ_L | D24: Đường_T | E24: Nhung_V | F24: Linh_Su | G24: Yến_Su | H24: Ngọ_T | I24: Thủy_T | J24: Hải | K24: Hà_L | L24: Khanh_A | M24: Ng.Anh_QP | N24: V.Anh_H | O24: Phương_Đ | P24: Phượng_CD | Q24: C.Hương_V | R24: Sâm_A | S24: Hồng_S | T24: Cường | U24: Châm | V24: Nga_A | W24: Nguyệt_H | X24: Mai_S | Y24: Mạnh_QP
A25: Thứ 6 | B25: 1 | C25: Hồng_S | D25: Hường_Đ | E25: Hằng_Đ | F25: Thủy_L | G25: Khanh_A | H25: Thảo_L | I25: Nhung_V | J25: Hạnh_H | K25: Hiếu_V | L25: Phương_Đ | M25: Tuyến_V | N25: Châm | O25: Mai_S | P25: H.Giang_S | Q25: Hoa_T | R25: Mạnh_QP | S25: V.Anh_H | T25: Hải_L | U25: Sâm_V | V25: Đ.Hương_V | W25: T.Giang_S | X25: Hồng_A | Y25: Nghị_KT
B26: 2 | C26: Hường_Đ | D26: Hồng_A | E26: Ngọ_T | F26: Hằng_T | G26: Mạnh_QP | H26: Hiệp_Đ | I26: Nhung_V | J26: Phương_Đ | K26: Hiếu_V | L26: Khanh_A | M26: Nghị_KT | N26: Hằng_Đ | O26: Hồng_S | P26: Thủy_L | Q26: Hoa_T | R26: Hạnh_H | S26: Mẫn_A | T26: Mai_S | U26: Thảo_L | V26: Đ.Hương_V | W26: Thủy_V | X26: Hải_L | Y26: T.Giang_S
B27: 3 | C27: Mạnh_QP | D27: Dũng_KT | E27: Thủy_L | F27: Hiếu_V | G27: Hằng_Đ | H27: Ngọ_T | I27: Nghị_KT | J27: Mẫn_A | K27: Hạnh_H | L27: T.Hương_V | M27: Khanh_A | N27: Châm | O27: Phương_Đ | P27: Len_T | Q27: V.Anh_H | R27: Hoa_T | S27: Hường_Đ | T27: Quang_H | U27: H.Giang_S | V27: Nga_A | W27: Thảo_L | X27: Tuyến_V | Y27: Hiệp_Đ
B28: 4 | C28: Dũng_KT | D28: Hồng_A | E28: Nhung_V | F28: Nga_A | G28: Khanh_A | H28: Châm | I28: V.Anh_H | J28: Mai_S | K28: Hằng_Đ | L28: Nghị_KT | M28: H.Giang_S | N28: Hằng_T | O28: T.Hương_V | P28: Len_T | Q28: Mạnh_QP | R28: Hạnh_H | S28: Thủy_V | T28: Hiệp_Đ | U28: Hợp_Su | V28: T.Giang_S | W28: Thìn_T | X28: Tuyến_V | Y28: Thương_T
B29: 5 | C29: Tuyến_V | D29: Hiếu_V | E29: Ngọ_T | F29: Nga_A | G29: H.Giang_S | H29: V.Anh_H | I29: Thủy_T | J29: Thương_T | K29: Hồng_S | L29: Mai_S | M29: Len_T | N29: Hằng_T | O29: T.Hương_V | P29: Hợp_Su | Q29: Dũng_KT | R29: Hoa_T | S29: Thủy_V | T29: Quang_H | U29: Châm | V29: Nguyệt_H | W29: Thìn_T | X29: Hồng_A | Y29: Nhung_V
A30: Thứ 7 | B30: 1 | C30: Quang_T | D30: Hạnh_H | E30: Sâm_A | F30: Hiếu_V | G30: Huế_T | H30: Ngọ_T | I30: V.Anh_H | J30: Hà_L | K30: Phượng_CD | L30: Ng.Anh_QP | M30: Tuyến_V | N30: Hằng_Đ | O30: Hiền | P30: Thủy_L | Q30: Hoa_T | R30: Đ.Hương_V | S30: Cường | T30: Hồng_S | U30: Nga_CD | V30: Nghị_KT | W30: Thủy_V | X30: Hồng_A | Y30: Nhung_V
B31: 2 | C31: Sâm_A | D31: Hiếu_V | E31: Hồng_S | F31: Nga_A | G31: Huế_T | H31: Hằng_V | I31: Hồng_A | J31: Hạnh_H | K31: Hiền | L31: Hoa_T | M31: Tuyến_V | N31: Hằng_T | O31: Hà_L | P31: Sâm_V | Q31: C.Hương_V | R31: Đ.Hương_V | S31: Cường | T31: Phượng_CD | U31: Hằng_Đ | V31: Thủy_L | W31: Thủy_V | X31: Nghị_KT | Y31: Nhung_V
B32: 3 | C32: Sâm_A | D32: Hiếu_V | E32: Hảo_H | F32: Hằng_T | G32: Hạnh_L | H32: Hằng_V | I32: Nhung_V | J32: Phượng_CD | K32: Quang_T | L32: Hoa_T | M32: Len_T | N32: V.Anh_H | O32: Nga_A | P32: Hạnh_H | Q32: C.Hương_V | R32: Nga_CD | S32: Thủy_V | T32: Cường | U32: Sâm_V | V32: Hằng_Đ | W32: Nghị_KT | X32: Ngọ_T | Y32: Hồng_A
B33: 4 | C33: Vụ_L | D33: Hoàn_S | E33: Ngọ_T | F33: Hằng_T | G33: Hảo_H | H33: Hồng | I33: Thủy_T | J33: Hạnh_V | K33: Quang_T | L33: V.Anh_H | M33: Hạnh_L | N33: Nga_CD | O33: Huế_T | P33: Len_T | Q33: Hoa_T | R33: Hồng_S | S33: Mẫn_A | T33: Cường | U33: Châm | V33: Nghị_KT | W33: Hằng_Đ | X33: Tuyến_V | Y33: Thương_T
B34: 5 | C34: Vụ_L | D34: Hạnh_H | E34: Ngọ_T | F34: Hiếu_V | G34: Hạnh_V | H34: Hằng_V | I34: Nga_CD | J34: Tuyến_S | K34: Hồng_S | L34: Hoàn_S | M34: Hạnh_L | N34: V.Anh_H | O34: Hảo_H | P34: Len_T | Q34: Hiền | R34: Sâm_A | S34: Mẫn_A | T34: Hồng | U34: Cường | V34: Nga_A | W34: Thủy_V | X34: Tuyến_V | Y34: Nhung_V

Sheet TKBGV-C
A1: BUỔI CHIỀU | F1: ='TKBGV-S'!$E$1 -> THỜI KHÓA BIỂU HK2 2021 -2022 (CHÍNH THỨC - LẦN 01)
A2: Bắt đầu từ: 12h45 | F2: ='TKBGV-S'!$E$2 -> Thực hiện từ ngày: 17/01/2022
A4: Ngày | B4: Tiết | C4: 10A1 | D4: 10A2 | E4: 10A3 | F4: 10A4 | G4: 10A5 | H4: 10A6 | I4: 10A7 | J4: 10A8 | K4: 10D1 | L4: 10D2 | M4: 10D3 | N4: 10D4 | O4: 10D5 | P4: 10D6 | Q4: 10D7 | R4: 11D5 | S4: 11D6 | T4: 11D7 | U4: 11D8 | V4: 11D9
A5: Thứ 2 | B5: 1 | C5: Thịnh | D5: Quang_T | E5: Huế_T | F5: Nội_CN | G5: Huyền_V | H5: Sỹ_L | I5: Hạnh_V | J5: Thủy_L | K5: Linh_Su | L5: Hằng_T | M5: Oanh_A | N5: Quang_H | O5: Hợp_Su | P5: Hà_L | Q5: ThùyAnh | R5: Hải_L | S5: Vụ_L | T5: Châm | U5: Dũng_T | V5: Lương_H
B6: 2 | C6: Thịnh | D6: Quang_T | E6: Hồng_S | F6: Hải_L | G6: Huyền_V | H6: Nguyệt_H | I6: Nội_CN | J6: ThùyAnh | K6: Lương_H | L6: Quang_H | M6: Linh_Su | N6: Phương_Đ | O6: Oanh_A | P6: Dũng_T | Q6: Mai_S | R6: Thủy_A | S6: Huyền_A | T6: Hằng_T | U6: Hường_Đ | V6: Dũng_KT
B7: 3 | C7: Vụ_L | D7: Phượng_CD | E7: Linh_Su | F7: Hải_L | G7: Hồng_S | H7: Thịnh | I7: Hợp_Su | J7: ThùyAnh | K7: Thủy_V | L7: Huyền_A | M7: Đ.Hương_V | N7: Mai_S | O7: Quang_H | P7: Nội_CN | Q7: Sâm_V | R7: Yến_Su | S7: Dũng_KT | T7: Châm | U7: Thủy_A | V7: Hường_Đ
B8: 4 | C8: ThùyAnh | D8: Hồng_V | E8: Nội_CN | F8: A.My_A | G8: Hiệp_Đ | H8: Hợp_Su | I8: Dũng_T | J8: Huyền_V | K8: Thủy_V | L8: Huyền_A | M8: Đ.Hương_V | N8: Vụ_L | O8: Oanh_A | P8: Thủy_A | Q8: Sâm_V | R8: H.Giang_S | S8: C.Hương_V | T8: Quang_H | U8: Thìn_CD | V8: T.Hương_V
B9: 5 | C9: Nguyệt_H | D9: Hồng_V | E9: Hà_L | F9: A.My_A | G9: Thủy_T | H9: H.Giang_S | I9: Hải_L | J9: Phương_Đ | K9: Oanh_A | L9: Huyền_A | M9: Đ.Hương_V | N9: Phượng_CD | O9: Hường_Đ | P9: Thủy_A | Q9: Sâm_V | R9: Yến_Su | S9: C.Hương_V | T9: Hiệp_Đ | U9: Thìn_CD | V9: T.Hương_V
A10: Thứ 3 | B10: 1 | C10: Vụ_L | D10: Thịnh | E10: Hạnh_V | F10: Hiếu_V | G10: Thảo_L | H10: Sỹ_L | I10: Hồng | J10: ThùyAnh | K10: Len_T | L10: Hải | M10: Hoàn_S | N10: Tuyến_S | O10: Hằng_V | P10: Nội_CN | Q10: Hảo_H | R10: Tuyến_V | S10: Thương_T | T10: Huyền_V | U10: Dũng_T | V10: Quang_T
B11: 2 | C11: Linh_Su | D11: Thịnh | E11: Hạnh_V | F11: Nội_CN | G11: Thảo_L | H11: Sỹ_L | I11: Hồng | J11: Thủy_L | K11: Len_T | L11: Hải | M11: Hạnh_L | N11: A.My_A | O11: Tuyến_S | P11: Hảo_H | Q11: ThùyAnh | R11: Quang_H | S11: Dũng_KT | T11: Huyền_V | U11: Dũng_T | V11: T.Hương_V
B12: 3 | C12: ThùyAnh | D12: A.My_A | E12: Hà_L | F12: Nga_CD | G12: Nội_CN | H12: Thịnh | I12: Dũng_T | J12: Hợp_Su | K12: Tuyến_S | L12: Sâm_V | M12: Linh_Su | N12: Quang_H | O12: Khương_T | P12: Thủy_A | Q12: Hiệp_Đ | R12: Hải_L | S12: Hoàn_S | T12: Hạnh_L | U12: Dũng_KT | V12: T.Hương_V
B13: 4 | C13: Đường_T | D13: Hiệp_Đ | E13: Hảo_H | F13: Hải_L | G13: Huyền_V | H13: ThùyAnh | I13: Hợp_Su | J13: Hồng | K13: Thủy_V | L13: Sâm_V | M13: Hải | N13: Mai_S | O13: Hà_L | P13: Hồng_V | Q13: Thảo_L | R13: Dũng_KT | S13: Huyền_A | T13: Hoàn_S | U13: Thủy_A | V13: Sỹ_L
B14: 5 | C14: Đường_T | D14: Hạnh_L | E14: Nội_CN | F14: Hợp_Su | G14: Mai_S | H14: ThùyAnh | I14: Nga_CD | J14: Hồng | K14: Thủy_V | L14: Huyền_A | M14: Hải | N14: Hồng_V | O14: Khương_T | P14: Thủy_A | Q14: Hảo_H | R14: Dũng_T | S14: Quang_H | T14: Hiệp_Đ | U14: Hải_L | V14: Hoàn_S
A15: Thứ 4 | B15: 1 | C15: Nội_CN | D15: A.My_A | E15: P.Lan_A | F15: T.Giang_S | G15: Lương_H | H15: Huyền_V | I15: Hạnh_V | J15: ThùyAnh | K15: Len_T | L15: Hằng_T | M15: Tuyến_S | N15: Yến_T | O15: Hồng_S | P15: Hà_L | Q15: Sâm_V | R15: Dũng_T | S15: Quang_H | T15: Dũng_KT | U15: Thủy_A | V15: Sỹ_L
B16: 2 | C16: Đường_T | D16: Quang_T | E16: P.Lan_A | F16: Hạnh_H | G16: Nội_CN | H16: Huyền_V | I16: Hạnh_V | J16: T.Giang_S | K16: Len_T | L16: Hiền_L | M16: Quang_H | N16: Yến_T | O16: Tuyến_S | P16: Hảo_H | Q16: ThùyAnh | R16: Thủy_A | S16: Hoàn_S | T16: Hằng_T | U16: Dũng_KT | V16: Khanh_A
B17: Học TB | C17: Vụ_L | D17: Hạnh_L | E17: Hà_L | F17: Hải_L | G17: Thảo_L | H17: Sỹ_L | J17: Thủy_L | K17: Thủy_V | L17: Sâm_V | M17: Đ.Hương_V | N17: Hồng_V | O17: Hằng_V | R17: Tuyến_V | S17: C.Hương_V | T17: Huyền_V | V17: T.Hương_V
C18: Vụ_L | D18: Hạnh_L | E18: Hà_L | F18: Hải_L | G18: Thảo_L | H18: Sỹ_L | J18: Thủy_L | K18: Thủy_V | L18: Sâm_V | M18: Đ.Hương_V | N18: Hồng_V | O18: Hằng_V | R18: Tuyến_V | S18: C.Hương_V | T18: Huyền_V | V18: T.Hương_V
C19: Vụ_L | D19: Hạnh_L | E19: Hà_L | F19: Hải_L | G19: Thảo_L | H19: Sỹ_L | J19: Thủy_L | K19: Thủy_V | L19: Sâm_V | M19: Đ.Hương_V | N19: Hồng_V | O19: Hằng_V | R19: Tuyến_V | S19: C.Hương_V | T19: Huyền_V | V19: T.Hương_V
A20: Thứ 5 | B20: 1 | C20: ThùyAnh | D20: Hạnh_L | E20: Hạnh_V | F20: A.My_A | G20: Thảo_L | H20: Nội_CN | I20: Hạnh_H | J20: Thủy_L | K20: Hồng | L20: Hằng_T | M20: Oanh_A | N20: Hồng_V | O20: Quang_H | P20: Hợp_Su | Q20: Thương_T | R20: Dũng_T | S20: Huyền_A | T20: Huyền_V | U20: Thủy_A | V20: Khanh_A
B21: 2 | C21: ThùyAnh | D21: Linh_Su | E21: Hà_L | F21: A.My_A | G21: Thịnh | H21: Nguyệt_H | I21: Hường_Đ | J21: Nội_CN | K21: Thủy_L | L21: Huyền_A | M21: Tuyến_S | N21: Hồng_V | O21: Hải | P21: Dũng_T | Q21: Thương_T | R21: Quang_H | S21: Vụ_L | T21: Huyền_V | U21: C.Hương_V | V21: Mạnh_QP
B22: 3 | C22: Nguyệt_H | D22: A.My_A | E22: Linh_Su | F22: Thủy_T | G22: Thịnh | H22: ThùyAnh | I22: Phương_A | J22: Huyền_V | K22: Tuyến_S | L22: Quang_H | M22: Oanh_A | N22: Hải | O22: Hường_Đ | P22: Hồng_V | Q22: Thìn_CD | R22: Thủy_A | S22: Mạnh_QP | T22: Hợp_Su | U22: C.Hương_V | V22: Lương_H
B23: 4 | C23: Vụ_L | D23: Nguyệt_H | E23: P.Lan_A | F23: Thủy_T | G23: Phương_A | H23: ThùyAnh | I23: Nội_CN | J23: Huyền_V | K23: Lương_H | L23: Linh_Su | M23: Đ.Hương_V | N23: Hải | O23: Oanh_A | P23: Hồng_V | Q23: Tuyến_S | R23: Thủy_A | S23: Thương_T | T23: Châm | U23: Dũng_T | V23: Hợp_Su
B24: 5 | C24: Linh_Su | D24: Nội_CN | E24: P.Lan_A | F24: Hợp_Su | G24: Thủy_T | H24: Huyền_V | I24: Phương_A | J24: Lương_H | K24: Hồng | L24: Tuyến_S | M24: Đ.Hương_V | N24: Vụ_L | O24: Hải | P24: Thìn_CD | Q24: ThùyAnh | R24: Dũng_T | S24: C.Hương_V | T24: Châm | U24: Quang_H | V24: Hường_Đ
A25: Thứ 6 | B25: 1 | C25: Nội_CN | D25: Hạnh_L | E25: Phương_Đ | F25: Hằng_Đ | G25: Phương_A | H25: Sơn_T | I25: Hạnh_H | J25: Huế_T | K25: Thủy_L | L25: Nga_CD | M25: Oanh_A | N25: A.My_A | O25: Hằng_V | P25: Tuyến_S | Q25: Thảo_L | R25: Dũng_T | S25: Thìn_CD | T25: Mạnh_QP | U25: Hợp_Su | V25: Quang_T
B26: 2 | C26: Đường_T | D26: Quang_T | E26: Thịnh | F26: Hạnh_H | G26: Phương_A | H26: Sơn_T | I26: Hải_L | J26: Hợp_Su | K26: Oanh_A | L26: Tuyến_S | M26: Quang_H | N26: Hoàn_S | O26: Hằng_V | P26: Hồng_V | Q26: Nội_CN | R26: Hằng_Đ | S26: Thương_T | T26: Hạnh_L | U26: Mạnh_QP | V26: Dũng_KT
B27: 3 | C27: T.Giang_S | D27: Hồng_V | E27: Thịnh | F27: A.My_A | G27: Mai_S | H27: Nga_CD | I27: Dũng_T | J27: Huế_T | K27: Oanh_A | L27: Phương_Đ | M27: Hạnh_L | N27: Yến_T | O27: Khương_T | P27: Hợp_Su | Q27: Thương_T | R27: Dũng_KT | S27: Hằng_Đ | T27: Quang_H | U27: Hải_L | V27: Thìn_CD
B28: 4 | C28: Hằng_V | D28: Hồng_V | E28: Huế_T | F28: Thịnh | G28: Thủy_T | H28: Nội_CN | I28: Phương_A | J28: Phương_Đ | K28: Nga_CD | L28: Hiền_L | M28: Hoa_T | N28: Tuyến_S | O28: Hợp_Su | P28: Dũng_T | Q28: Thương_T | R28: Mạnh_QP | S28: Mai_S | T28: Thìn_CD | U28: Hoàn_S | V28: Khanh_A
B29: 5 | C29: Hằng_V | D29: Nội_CN | E29: Huế_T | F29: Thịnh | G29: Thủy_T | H29: Hợp_Su | I29: T.Giang_S | J29: Nga_CD | K29: Tuyến_S | L29: Hoàn_S | M29: Hoa_T | N29: Yến_T | O29: Khương_T | P29: Dũng_T | Q29: Mai_S | R29: Thìn_CD | S29: Thương_T | T29: Dũng_KT | U29: Quang_H | V29: Khanh_A
A30: Thứ 7 | B30: 1 | C30: Hường_Đ | D30: A.My_A | E30: Huế_T | F30: Thủy_T | G30: Phương_A | H30: Sơn_T | I30: Hải_L | J30: Lương_H | K30: Linh_Su | L30: Sâm_V | M30: Hoa_T | N30: Phượng_CD | O30: Oanh_A | P30: Hải | Q30: Nội_CN | R30: H.Giang_S | S30: Hằng_Đ | T30: Hằng_T | U30: C.Hương_V | V30: Quang_T
B31: 2 | C31: Phượng_CD | D31: Linh_Su | E31: Hảo_H | F31: Thủy_T | G31: Lương_H | H31: Sơn_T | I31: Phương_A | J31: Nội_CN | K31: Oanh_A | L31: Hằng_T | M31: Nga_CD | N31: A.My_A | O31: Hằng_V | P31: Hải | Q31: Sâm_V | R31: Hằng_Đ | S31: C.Hương_V | T31: Hoàn_S | U31: Dũng_T | V31: Quang_T
B32: 3 | C32: Hằng_V | D32: Nguyệt_H | E32: Phượng_CD | F32: Hiếu_V | G32: Nga_CD | H32: H.Giang_S | I32: Dũng_T | J32: Huế_T | K32: Hằng_Đ | L32: Sâm_V | M32: Hoa_T | N32: A.My_A | O32: Hà_L | P32: Hiệp_Đ | Q32: Hải | R32: Tuyến_V | S32: C.Hương_V | T32: Hằng_T | U32: Hường_Đ | V32: Hoàn_S
B33: 4 | C33: Nguyệt_H | D33: H.Giang_S | E33: Hà_L | F33: Hiếu_V | G33: Thủy_T | H33: Phương_Đ | I33: Dũng_T | J33: Huế_T | K33: Oanh_A | L33: Linh_Su | M33: Hường_Đ | N33: Hồng_V | O33: Thìn_CD | P33: Thủy_A | Q33: Hải | R33: Tuyến_V | S33: Huyền_A | T33: Hiệp_Đ | U33: Hoàn_S | V33: T.Hương_V
B34: 5 | C34: Nguyệt_H | D34: Hồng_V | E34: Hà_L | F34: A.My_A | G34: Thủy_T | H34: H.Giang_S | I34: Hải_L | J34: Phương_Đ | K34: Oanh_A | L34: Huyền_A | M34: Đ.Hương_V | N34: Phượng_CD | O34: Hường_Đ | P34: Thủy_A | Q34: Sâm_V | R34: Yến_Su | S34: C.Hương_V | T34: Hiệp_Đ | U34: Thìn_CD | V34: T.Hương_V

Sheet TKB GV-TB-S
A1: ='Phong TB_S'!A1 -> BUỔI SÁNG | E1: ='TKBGV-S'!$E$1 -> THỜI KHÓA BIỂU HK2 2021 -2022 (CHÍNH THỨC - LẦN 01)
A2: ='Phong TB_S'!A2 -> Bắt đầu từ: 7h15' | E2: ='TKBGV-S'!$E$2 -> Thực hiện từ ngày: 17/01/2022
E3: THỜI KHÓA BIỂU GV TRÁI BUỔI - SÁNG
A5: Ngày | B5: Tiết | C5: 10A1 | D5: 10A2 | E5: 10A3 | F5: 10A4 | G5: 10A5 | H5: 10A6 | I5: 10A7 | J5: 10A8 | K5: 10D1 | L5: 10D2 | M5: 10D3 | N5: 10D4 | O5: 10D5 | P5: 10D6 | Q5: 10D7 | R5: 11D5 | S5: 11D6 | T5: 11D7 | U5: 11D8 | V5: 11D9
A6: Thứ 2 | B6: 1 | H6: Linh_TD | R6: L.Anh_TD | T6: Hải | U6: Trưởng
B7: 2 | E7: Huế_T | F7: A.My_A | H7: Linh_TD | K7: Len_T | L7: Hằng_T | M7: Hoa_T | R7: L.Anh_TD | S7: Thương_T | T7: Hải | U7: Trưởng | V7: Khanh_A
B8: 3 | E8: Huế_T | F8: A.My_A | G8: Linh_TD | K8: Len_T | L8: Hằng_T | M8: Hoa_T | Q8: L.Anh_TD | R8: Hiền | S8: Thương_T | T8: Trưởng | U8: Hải | V8: Khanh_A
B9: 4 | E9: Huế_T | F9: A.My_A | G9: Linh_TD | K9: Len_T | L9: Hằng_T | M9: Hoa_T | Q9: L.Anh_TD | R9: Hiền | S9: Thương_T | T9: Trưởng | U9: Hải | V9: Khanh_A
B10: 5
A11: Thứ 3 | B11: 1 | E11: P.Lan_A | I11: Hải_L | L11: L.Anh_TD | N11: Yến_T | P11: Dũng_T | R11: Thủy_A | S11: Huyền_A | U11: C.Hương_V
B12: 2 | C12: Ng.Anh_QP | E12: P.Lan_A | I12: Hải_L | L12: L.Anh_TD | N12: Yến_T | P12: Dũng_T | R12: Thủy_A | S12: Huyền_A | U12: C.Hương_V
B13: 3 | C13: Linh_TD | E13: P.Lan_A | I13: Hải_L | L13: Ng.Anh_QP | N13: Yến_T | P13: Dũng_T | R13: Thủy_A | S13: Huyền_A | U13: C.Hương_V
B14: 4 | C14: Linh_TD | N14: Ng.Anh_QP
B15: 5
A16: Thứ 4 | B16: 1 | H16: Sơn_T | I16: Dũng_T | J16: ThùyAnh | M16: Oanh_A | N16: A.My_A | O16: Khương_T | P16: Thủy_A
B17: 2 | H17: Sơn_T | I17: Dũng_T | J17: ThùyAnh | M17: Oanh_A | N17: A.My_A | O17: Khương_T | P17: Thủy_A
B18: 3 | H18: Sơn_T | I18: Dũng_T | J18: ThùyAnh | M18: Oanh_A | N18: A.My_A | O18: Khương_T | P18: Thủy_A
B19: 4
B20: 5
A21: Thứ 5 | B21: 1 | D21: Quang_T | E21: Linh_TD | G21: Lương_H | J21: Huế_T | K21: Oanh_A | P21: L.Anh_TD | Q21: ThùyAnh | T21: Hằng_T | U21: Thủy_A | V21: Trưởng
B22: 2 | D22: Quang_T | E22: Linh_TD | F22: Ng.Anh_QP | G22: Lương_H | J22: Huế_T | K22: Oanh_A | P22: L.Anh_TD | Q22: ThùyAnh | T22: Hằng_T | U22: Thủy_A | V22: Trưởng
B23: 3 | D23: Quang_T | E23: Ng.Anh_QP | F23: Linh_TD | G23: Lương_H | J23: Huế_T | K23: Oanh_A | N23: L.Anh_TD | Q23: ThùyAnh | T23: Hằng_T | U23: Thủy_A | V23: Hải
B24: 4 | F24: Linh_TD | N24: L.Anh_TD | V24: Hải
B25: 5
A26: Thứ 6 | B26: 1 | C26: Đường_T | D26: A.My_A | F26: Thủy_T | H26: Nguyệt_H | I26: Linh_TD | K26: L.Anh_TD | O26: Oanh_A | P26: Hồng_V | Q26: Ng.Anh_QP | R26: Dũng_T | V26: Quang_T
B27: 2 | C27: Đường_T | D27: A.My_A | F27: Thủy_T | H27: Nguyệt_H | I27: Linh_TD | K27: L.Anh_TD | M27: Ng.Anh_QP | O27: Oanh_A | P27: Hồng_V | Q27: Sâm_V | R27: Dũng_T | V27: Quang_T
B28: 3 | C28: Đường_T | D28: A.My_A | F28: Thủy_T | H28: Nguyệt_H | I28: Trưởng | K28: Ng.Anh_QP | M28: L.Anh_TD | O28: Oanh_A | P28: Hồng_V | Q28: Sâm_V | R28: Dũng_T | V28: Quang_T
B29: 4 | H29: Trưởng | M29: L.Anh_TD | P29: Ng.Anh_QP | Q29: Sâm_V
B30: 5
A31: Thứ 7 | B31: 1 | C31: Nguyệt_H | G31: Thủy_T | I31: Phương_A | J31: Linh_TD | L31: Huyền_A | O31: L.Anh_TD | Q31: Thương_T | S31: Trưởng | T31: Châm | U31: Dũng_T
B32: 2 | C32: Nguyệt_H | D32: Ng.Anh_QP | G32: Thủy_T | I32: Phương_A | J32: Linh_TD | L32: Huyền_A | O32: L.Anh_TD | Q32: Thương_T | S32: Trưởng | T32: Châm | U32: Dũng_T
B33: 3 | C33: Nguyệt_H | D33: Linh_TD | G33: Thủy_T | I33: Phương_A | J33: Trưởng | L33: Huyền_A | O33: Ng.Anh_QP | Q33: Thương_T | S33: Hiền | T33: Châm | U33: Dũng_T
B34: 4 | D34: Linh_TD | G34: Trưởng | S34: Hiền
B35: 5
A36: CN | B36: 1 | C36: ThùyAnh
B37: 2 | C37: ThùyAnh
B38: 3 | C38: ThùyAnh

Sheet TKB GV-TB-C
A1: ='Phong TB_C'!A1 -> BUỔI CHIỀU | E1: ='TKB GV-TB-S'!$E$1 -> THỜI KHÓA BIỂU HK2 2021 -2022 (CHÍNH THỨC - LẦN 01)
A2: ='Phong TB_C'!A2 -> Bắt đầu từ: 12h45 | E2: ='TKB GV-TB-S'!$E$2 -> Thực hiện từ ngày: 17/01/2022
E3: THỜI KHÓA BIỂU GV TRÁI BUỔI - CHIỀU
A4: Chiều thứ 3, 4, 5, 6 các lớp học trái buổi học theo ca (Ca 1 [13h20-15h20]; Ca 2 [15h30-17h30]) (Khối chiều học TB học tại lớp chính khóa)
A5: Ngày | B5: Tiết | C5: 12A | D5: 12B | E5: 12C | F5: 12D | G5: 12E | H5: 12G | I5: 12H | J5: 12I | K5: 12K | L5: 12M | M5: 12N | N5: 12P | O5: 12Q | P5: 11A1 | Q5: 11A2 | R5: 11A3 | S5: 11A4 | T5: 11A5 | U5: 11A6 | V5: 11D1 | W5: 11D2 | X5: 11D3 | Y5: 11D4
A6: Thứ 2 | B6: 1
B7: 2 | D7: Hà_L | G7: Hạnh_V | I7: Thủy_T | J7: Lẫy_TD | K7: Mẫn_A | L7: Hoa_T | M7: Hạnh_H | O7: Huế_T | P7: Hùng_TD | S7: Sỹ_L | T7: Trưởng | U7: Hồng | X7: Hiền
B8: 3 | D8: Hà_L | G8: Hạnh_V | I8: Thủy_T | J8: Lẫy_TD | K8: Mẫn_A | L8: Hoa_T | M8: Hạnh_H | O8: Huế_T | P8: Hùng_TD | S8: Sỹ_L | T8: Trưởng | U8: Hồng | X8: Hiền
B9: 4 | D9: Hà_L | E9: Lẫy_TD | G9: Hạnh_V | I9: Thủy_T | K9: Mẫn_A | L9: Hoa_T | M9: Hạnh_H | O9: Huế_T | P9: Thịnh | S9: Sỹ_L | T9: Hồng | U9: Trưởng | X9: Hùng_TD
B10: 5 | E10: Lẫy_TD | P10: Thịnh | T10: Hồng | U10: Trưởng | X10: Hùng_TD
A11: Thứ 3 | B11: 1
B12: 2 | F12: Lẫy_TD | Q12: Hiền | W12: Hùng_TD
B13: 3 | C13: Quang_T | E13: Thủy_L | F13: Lẫy_TD | H13: Hằng_V | I13: Hồng_A | K13: Hiếu_V | N13: Vụ_L | P13: Len_T | Q13: Hiền | R13: Hoa_T | S13: Cường | W13: Hùng_TD | X13: Tuyến_V | Y13: Thương_T
B14: 4 | C14: Quang_T | E14: Thủy_L | H14: Hằng_V | I14: Hồng_A | K14: Hiếu_V | N14: Vụ_L | P14: Len_T | Q14: Hùng_TD | R14: Hoa_T | S14: Cường | W14: Thịnh | X14: Tuyến_V | Y14: Thương_T
B15: 5 | C15: Quang_T | E15: Thủy_L | H15: Hằng_V | I15: Hồng_A | K15: Hiếu_V | N15: Vụ_L | P15: Len_T | Q15: Hùng_TD | R15: Hoa_T | S15: Cường | W15: Thịnh | X15: Tuyến_V | Y15: Thương_T
A16: Thứ 4 | B16: 1
B17: 2 | C17: Hùng_TD | L17: Lẫy_TD | R17: Hiền | S17: Trưởng
B18: 3 | C18: Hùng_TD | L18: Lẫy_TD | R18: Hiền | S18: Trưởng | Y18: Nhung_V
B19: 4 | G19: Lẫy_TD | N19: Hùng_TD | R19: Trưởng | S19: Hiền | Y19: Nhung_V
B20: 5 | G20: Lẫy_TD | N20: Hùng_TD | R20: Trưởng | S20: Hiền | Y20: Nhung_V
A21: Thứ 5 | B21: 1
B22: 2 | K22: Lẫy_TD | V22: Hùng_TD | Y22: Hồng
B23: 3 | D23: Hạnh_H | G23: Khanh_A | I23: Nhung_V | J23: Hạnh_V | K23: Lẫy_TD | M23: Hạnh_L | N23: Hằng_T | O23: Hà_L | U23: Thảo_L | V23: Hùng_TD | W23: Thìn_T | Y23: Hồng
B24: 4 | D24: Hạnh_H | G24: Khanh_A | H24: Lẫy_TD | I24: Nhung_V | J24: Hạnh_V | M24: Hạnh_L | N24: Hằng_T | O24: Hà_L | U24: Thảo_L | V24: Thịnh | W24: Thìn_T | Y24: L.Anh_TD
B25: 5 | D25: Hạnh_H | G25: Khanh_A | H25: Lẫy_TD | I25: Nhung_V | J25: Hạnh_V | M25: Hạnh_L | N25: Hằng_T | O25: Hà_L | U25: Thảo_L | V25: Thịnh | W25: Thìn_T | Y25: L.Anh_TD
A26: Thứ 6 | B26: 1
B27: 2 | D27: Hùng_TD | M27: Lẫy_TD
B28: 3 | D28: Hùng_TD | F28: Hiếu_V | J28: Mẫn_A | L28: T.Hương_V | M28: Lẫy_TD | P28: Thủy_L | Q28: V.Anh_H | R28: Thảo_L | T28: Cường | U28: Châm | V28: Đường_T | W28: Thủy_V | X28: Ngọ_T | Y28: Hồng_A
B29: 4 | F29: Hiếu_V | I29: Lẫy_TD | J29: Mẫn_A | L29: T.Hương_V | O29: Hùng_TD | P29: Thủy_L | Q29: V.Anh_H | R29: Thảo_L | T29: Cường | U29: Châm | V29: Đường_T | W29: Thủy_V | X29: Ngọ_T | Y29: Hồng_A
B30: 5 | F30: Hiếu_V | I30: Lẫy_TD | J30: Mẫn_A | L30: T.Hương_V | O30: Hùng_TD | P30: Thủy_L | Q30: V.Anh_H | R30: Thảo_L | T30: Cường | U30: Châm | V30: Đường_T | W30: Thủy_V | X30: Ngọ_T | Y30: Hồng_A
A31: Thứ 7 | B31: 1
B32: 2 | T32: Hải_L | V32: Đ.Hương_V
B33: 3 | C33: Vụ_L | E33: Hảo_H | F33: Nga_A | H33: Ngọ_T | Q33: Hạnh_L | R33: Sâm_A | T33: Hải_L | V33: Đ.Hương_V
B34: 4 | C34: Vụ_L | E34: Hảo_H | F34: Nga_A | H34: Ngọ_T | Q34: Hạnh_L | R34: Sâm_A | T34: Hải_L | V34: Đ.Hương_V
B35: 5 | C35: Vụ_L | E35: Hảo_H | F35: Nga_A | H35: Ngọ_T | Q35: Hạnh_L | R35: Sâm_A

Sheet TKBGV_S
A1: BUỔI SÁNG | D1: ='TKBGV-S'!E1 -> THỜI KHÓA BIỂU HK2 2021 -2022 (CHÍNH THỨC - LẦN 01)
A2: Bắt đầu từ: 7h15' | H2: ='TKBGV-S'!E2 -> Thực hiện từ ngày: 17/01/2022
A4: Giáo viên | B4: Thứ 2 | G4: Thứ 3 | L4: Thứ 4 | Q4: Thứ 5 | V4: Thứ 6 | AA4: Thứ 7 | AF4: CN
B5: 1 | C5: 2 | D5: 3 | E5: 4 | F5: 5 | G5: 1 | H5: 2 | I5: 3 | J5: 4 | K5: 5 | L5: 1 | M5: 2 | N5: 3 | O5: 4 | P5: 5 | Q5: 1 | R5: 2 | S5: 3 | T5: 4 | U5: 5 | V5: 1 | W5: 2 | X5: 3 | Y5: 4 | Z5: 5 | AA5: 1 | AB5: 2 | AC5: 3 | AD5: 4 | AE5: 5 | AF5: 1 | AG5: 2 | AH5: 3 | AI5: 4 | AJ5: 5
A6: TO Thầy Thìn | F6: 11D2 | G6: 11D2 | H6: 11D2 | L6: 11D2 | M6: 11D2 | O6: HOP | P6: HOP
A7: TO Thầy Cường | B7: 11A6 | C7: 11A5 | D7: 11A4 | F7: 11A6 | G7: 11A5 | H7: 11A4 | I7: 11A6 | O7: HOP | P7: HOP | S7: 11A4 | T7: 11A6 | V7: 11A5 | W7: 11A5 | X7: 11A6 | Y7: 11A4 | AA7: 11A4 | AB7: 11A5 | AD7: 11A6 | AE7: 11A6
A8: TO Cô Huế | E8: 12E | F8: 12Q | G8: 10A3 | H8: 10A3 | I8: 10A3 | K8: 12Q | L8: 12E | M8: 12E | N8: 12Q | O8: HOP | P8: HOP | Q8: 10A8 | R8: 10A8 | S8: 10A8 | T8: 12E | AA8: 12E | AB8: 12Q | AC8: 12Q
A9: TO Thầy Dũng | G9: 11D8 | H9: 11D8 | I9: 11D8 | O9: HOP | P9: HOP
A10: TO Cô Hằng_T | C10: 12D | D10: 12P | E10: 12D | L10: 11D7 | M10: 11D7 | N10: 11D7 | O10: HOP | P10: HOP | Q10: 10D2 | R10: 10D2 | S10: 10D2 | T10: 12P | W10: 12D | X10: 12P | Y10: 12D | AB10: 12P | AC10: 12P | AD10: 12D
A11: TO Thầy Đường | C11: 10A1 | D11: 10A1 | E11: 10A1 | F11: 12B | I11: 11D1 | J11: 12B | K11: 11D1 | L11: 10A1 | M11: 10A1 | N11: 10A1 | O11: HOP | P11: HOP | V11: 11D1 | W11: 11D1 | Y11: 12B | AA11: 12B | AB11: 12B | AC11: 11D1
A12: TO Thầy Thương | H12: 12I | I12: 11D4 | J12: 11D4 | L12: 12I | M12: 12I | N12: 11D4 | O12: HOP | P12: HOP | Q12: 11D6 | R12: 11D6 | S12: 11D6 | V12: 12I | W12: 12I | X12: 11D4 | Y12: 11D4
A13: TO Cô Ngọ | B13: 12C | C13: 11D3 | D13: 12C | G13: 12G | H13: 12G | J13: 12C | K13: 11D3 | L13: 12G | N13: 11D3 | O13: HOP | P13: HOP | V13: 12C | W13: 12C | X13: 12G | Y13: 11D3 | AA13: 12G | AC13: 12C | AD13: 11D3 | AE13: 12C
A14: TO Cô Len | B14: 11A1 | C14: 12N | D14: 12N | E14: 11A1 | J14: 12N | K14: 12N | M14: 11A1 | O14: HOP | P14: HOP | V14: 10D1 | W14: 10D1 | X14: 10D1 | Y14: 11A1 | AA14: 11A1 | AB14: 11A1 | AC14: 12N | AE14: 11A1
A15: TO Thầy Quang | C15: 10A2 | D15: 10A2 | E15: 10A2 | F15: 12K | G15: 12A | H15: 12K | I15: 12A | K15: 12K | N15: 12K | O15: HOP | P15: HOP | S15: 12K | T15: 12A | V15: 12A | W15: 12A
A16: TO Cô Hoa | E16: 11A3 | F16: 11A3 | G16: 11A2 | H16: 11A3 | I16: 12M | L16: 11A2 | M16: 11A3 | N16: 11A2 | O16: HOP | P16: HOP | Q16: 10D3 | R16: 10D3 | S16: 10D3 | T16: 11A3 | V16: 11A2 | W16: 11A2 | X16: 12M | Y16: 12M | AA16: 12M | AB16: 12M
A17: TO Thủy_T | E17: 12H | F17: 12H | L17: 10A4 | M17: 10A4 | N17: 10A4 | O17: HOP | P17: HOP | Q17: 12H | S17: 12H | V17: 10A5 | W17: 10A5 | X17: 10A5 | AA17: 10A4 | AB17: 10A4 | AC17: 10A4 | AD17: 12H
A18: TO-KHƯƠNG_T | O18: HOP | P18: HOP
A19: TO SƠN_T | C19: 10A6 | D19: 10A6 | E19: 10A6 | O19: HOP | P19: HOP
A20: TO Cô YẾN | C20: 10D6 | D20: 10D6 | E20: 10D6 | O20: HOP | P20: HOP
A21: TI Thầy Thịnh | B21: 10A3 | C21: 10A3 | D21: 10A4 | E21: 10A4 | G21: 10A1 | H21: 10A1 | I21: 10A2 | J21: 10A2 | O21: HOP | P21: HOP | AA21: 10A5 | AB21: 10A5 | AC21: 10A6 | AD21: 10A6
A22: TI Cô Hiền | B22: 11A2 | D22: 11D6 | E22: 11D6 | O22: HOP | P22: HOP | AC22: 11D5 | AD22: 11D5 | AE22: 11A2
A23: TI Cô Hải | B23: 10D1 | C23: 10D1 | G23: 10D5 | H23: 10D5 | I23: 10D7 | J23: 10D7 | O23: HOP | P23: HOP | Q23: 10D6 | R23: 10D6 | S23: 10D4 | T23: 10D4 | V23: 10D3 | W23: 10D3 | X23: 10D2 | Y23: 10D2
A24: TI Cô Hồng_TIN | B24: 11A5 | O24: HOP | P24: HOP | Q24: 11D8 | R24: 11D8 | S24: 11D9 | T24: 11D9 | V24: 10A7 | W24: 10A7 | X24: 10A8 | Y24: 10A8 | AC24: 11D7 | AD24: 11D7 | AE24: 11A5
A25: LY Thầy Vụ | B25: 12A | C25: 12A | O25: HOP | P25: HOP | Q25: 12P | S25: 12A | T25: 11D4 | AC25: 11D4 | AD25: 12P | AE25: 12A
A26: LY Thầy Sỹ_L | I26: 12H | J26: 11A4 | K26: 11A4 | L26: 12M | M26: 12H | N26: 11A4 | O26: HOP | P26: HOP | Q26: 10A6 | R26: 10A6 | S26: 10A6 | T26: 12M
A27: LY Cô Hà | I27: 12Q | J27: 12I | K27: 12B | L27: 10A3 | M27: 10A3 | N27: 10A3 | O27: HOP | P27: HOP | V27: 12B | X27: 12Q | Y27: 12I
A28: LY Thầy Thủy_L | G28: 11D1 | H28: 12D | I28: 11A1 | N28: 11A1 | O28: HOP | P28: HOP | V28: 12D | X28: 11A1 | Y28: 12C | AA28: 11D1 | AB28: 12C
A29: LY Cô Hạnh_L | B29: 12N | C29: 11A2 | G29: 12E | H29: 11A2 | O29: HOP | P29: HOP | R29: 12E | T29: 12N | AC29: 11A2 | AD29: 12N | AE29: 12N
A30: LY_Hải | G30: 10A4 | H30: 10A4 | I30: 10A4 | J30: 11A5 | L30: 11D3 | N30: 11A5 | O30: HOP | P30: HOP | AA30: 11A5 | AB30: 11D3
A31: LY_Thảo | G31: 12K | I31: 11A3 | J31: 11A6 | L31: 11A3 | M31: 12G | N31: 11A6 | O31: HOP | P31: HOP | Q31: 11D2 | S31: 11A3 | T31: 12K | W31: 12G | X31: 11D2 | Y31: 11A6
A32: CN Dũng_KT | G32: 11A1 | H32: 12C | I32: 11A2 | J32: 12P | L32: 11D4 | N32: 11D1 | O32: HOP | P32: HOP | Q32: 11D3 | R32: 12D | S32: 12B | T32: 11D2 | W32: 12Q | X32: 11A3 | Y32: 12A
A33: CN Thầy Nghị | L33: 11A4 | M33: 12M | N33: 12I | O33: HOP | P33: HOP | Q33: 11A6 | R33: 12H | T33: 11A5 | V33: 12G | W33: 12N | X33: 12K | Y33: 12E
A34: HO Cô V.Anh | B34: 12P | C34: 12P | D34: 11D4 | F34: 12G | G34: 12M | H34: 12H | I34: 12D | K34: 12G | M34: 11A4 | N34: 12P | O34: HOP | P34: HOP | Q34: 12D | R34: 11A4 | S34: 11A2 | AA34: 12H | AB34: 11D4 | AC34: 12M | AD34: 11A2 | AE34: 12P
A35: HO Cô Hạnh_H | B35: 12B | C35: 11A1 | D35: 12I | E35: 12B | G35: 12I | H35: 12N | J35: 12K | K35: 11A3 | O35: HOP | P35: HOP | Q35: 12B | S35: 12N | AA35: 11A3 | AC35: 11A1 | AD35: 12K | AE35: 12B
A36: HO Cô Lương | O36: HOP | P36: HOP
A37: HO Cô Nguyệt | G37: 11A6 | H37: 11D1 | I37: 11D3 | K37: 11D2 | O37: HOP | P37: HOP | V37: 11A6 | W37: 11D2 | X37: 11D3 | Y37: 11D1 | AA37: 10A1 | AB37: 10A1 | AC37: 10A1
A38: HO Cô Hảo | B38: 12Q | C38: 12C | D38: 12Q | O38: HOP | P38: HOP | W38: 12E | X38: 12A | Y38: 12Q | AA38: 12A | AB38: 12E | AD38: 12C | AE38: 12Q
A39: HO Cô Hường | O39: HOP | P39: HOP
A40: HO-Quang_H | K40: 11A5 | O40: HOP | P40: HOP | Y40: 11A5
A41: SI Cô Hoàn | B41: 12M | D41: 12B | E41: 12G | G41: 12H | H41: 12M | O41: HOP | P41: HOP | V41: 12M | W41: 12H | X41: 12B | AD41: 12G | AE41: 12M
A42: SI Cô T.Giang_S | C42: 11D2 | D42: 12D | H42: 11D3 | I42: 12P | J42: 12D | K42: 11D4 | L42: 12P | M42: 11D1 | O42: HOP | P42: HOP
A43: SI Cô Tuyến_S | B43: 12I | C43: 12I | O43: HOP | P43: HOP | AD43: 12I | AE43: 12I
A44: SI Cô H.Giang | H44: 12E | I44: 12N | K44: 11A1 | O44: HOP | P44: HOP | V44: 12E | W44: 11A6 | X44: 12N | Y44: 11A2
A45: SI Cô Hồng | B45: 12K | C45: 12Q | D45: 11A5 | E45: 11A4 | F45: 12A | L45: 12K | M45: 12C | N45: 12A | O45: HOP | P45: HOP | AA45: 12C | AB45: 11A3 | AC45: 12K | AD45: 12Q | AE45: 12K
A46: CN Cô Nội | O46: HOP | P46: HOP
A47: VA Cô Nhung | B47: 11D4 | C47: 12H | E47: 12C | F47: 12C | G47: 11D4 | H47: 11D4 | J47: 11A1 | L47: 12H | M47: 11D4 | N47: 12C | O47: HOP | P47: HOP | Q47: 11D4 | R47: 12C | S47: 11A1 | V47: 11A1 | W47: 11A1 | AB47: 12H | AC47: 12H | AD47: 11D4 | AE47: 11D4
A48: VA Cô Thủy_V | B48: 11D2 | D48: 11D2 | E48: 11D2 | F48: 11A4 | G48: 11A4 | I48: 11D2 | J48: 11D2 | O48: HOP | P48: HOP | AA48: 11D2 | AC48: 11A4 | AD48: 11A4 | AE48: 11D2
A49: VA Cô Tuyến_V | B49: 11D3 | D49: 12A | E49: 11D3 | F49: 11D3 | L49: 12N | M49: 12N | O49: HOP | P49: HOP | Q49: 12A | R49: 12N | S49: 11D3 | T49: 11D3 | AA49: 11D3 | AB49: 12N | AC49: 12A | AD49: 12A | AE49: 11D3
A50: VA Cô Hiếu | B50: 12D | D50: 12K | E50: 12K | F50: 12D | L50: 12B | M50: 12B | O50: HOP | P50: HOP | V50: 12K | W50: 12K | X50: 12D | AA50: 12D | AB50: 12D | AC50: 12B | AD50: 12B | AE50: 12D
A51: VA Cô Đ.Hương | E51: 11D1 | F51: 11D1 | O51: HOP | P51: HOP | Q51: 11A3 | R51: 11A3 | S51: 11D1 | V51: 11A3 | W51: 11A3 | X51: 11D1 | AA51: 10D3 | AB51: 10D3 | AC51: 10D3 | AD51: 11D1
A52: VA Cô T.Hương | D52: 11A2 | E52: 12M | F52: 12M | G52: 12Q | H52: 12Q | J52: 11A2 | K52: 11A2 | N52: 12M | O52: HOP | P52: HOP | Q52: 12M | R52: 11A2 | S52: 12Q | T52: 12Q | V52: 11D9 | W52: 11D9 | X52: 11D9
A53: VA Cô Hằng_V | B53: 12G | C53: 12G | D53: 12G | O53: HOP | P53: HOP | AB53: 12G | AC53: 12G | AE53: 12G
A54: VA Cô Hạnh_V | B54: 12E | C54: 12E | D54: 12E | O54: HOP | P54: HOP | Q54: 12I | R54: 12I | S54: 12E | AA54: 12I | AB54: 12I | AC54: 12E | AE54: 12E
A55: VA Cô Hồng_V | L55: 10D4 | M55: 10D4 | N55: 10D4 | O55: HOP | P55: HOP
A56: VA Cô C.Hương | E56: 12P | F56: 12P | O56: HOP | P56: HOP | V56: 12P | W56: 12P
A57: VA Sâm_V | L57: 10D2 | M57: 10D2 | N57: 10D2 | O57: HOP | P57: HOP | R57: 11A6 | S57: 11A6 | AA57: 11A6 | AB57: 11A6
A58: VA Huyền_V | E58: 11A5 | F58: 11A5 | O58: HOP | P58: HOP | Q58: 11A5 | R58: 11A5
A59: TA Cô Khanh | C59: 12M | D59: 12M | E59: 12N | F59: 12E | G59: 12N | I59: 12E | J59: 12M | K59: 12E | N59: 12N | O59: HOP | P59: HOP | V59: 12N | W59: 12M | X59: 12E
A60: TA Cô Lan | O60: HOP | P60: HOP
A61: TA Cô A My | G61: 10D4 | H61: 10D4 | I61: 10D4 | O61: HOP | P61: HOP | AA61: 10A2 | AB61: 10A2 | AC61: 10A2
A62: TA Cô Oanh | C62: 10D5 | D62: 10D5 | E62: 10D5 | G62: 10D1 | H62: 10D1 | I62: 10D1 | O62: HOP | P62: HOP
A63: TA Cô Huyền | D63: 11A1 | F63: 11A1 | L63: 11A1 | N63: 11D2 | O63: HOP | P63: HOP | Q63: 11A1 | R63: 11D2 | S63: 11D2 | V63: 11D6 | W63: 11D6 | X63: 11D6 | Y63: 11D2
A64: TA Cô Hồng_A | C64: 11D4 | D64: 11D3 | F64: 11D4 | G64: 12B | H64: 12B | J64: 12H | K64: 12H | M64: 11D3 | N64: 12B | O64: HOP | P64: HOP | R64: 11D4 | S64: 11D4 | T64: 12B | V64: 11D3 | W64: 11D3 | X64: 12H | Y64: 12H
A65: TA Cô Sâm_A | B65: 11A3 | D65: 11A3 | G65: 12C | H65: 12A | J65: 11A3 | K65: 12A | L65: 12C | M65: 12A | N65: 11A3 | O65: HOP | P65: HOP | S65: 12C | T65: 12C | AB65: 12A | AD65: 11A3 | AE65: 11A3
A66: TA Cô Mẫn | B66: 11A4 | C66: 11A4 | E66: 12I | F66: 12I | O66: HOP | P66: HOP | Q66: 12K | R66: 12K | V66: 11A4 | W66: 11A4 | X66: 12I | Y66: 12K | AA66: 12K | AB66: 11A4 | AC66: 12I | AE66: 11A4
A67: TA Cô Thủy_A | L67: 11A5 | M67: 11A5 | O67: HOP | P67: HOP | V67: 11D5 | W67: 11D5 | X67: 11D5 | AC67: 11A5 | AD67: 11A5
A68: TA Cô Châm | C68: 11A6 | D68: 11A6 | E68: 11A2 | F68: 11A2 | G68: 12P | H68: 11A6 | I68: 12G | J68: 12G | L68: 11A6 | M68: 11A2 | N68: 12G | O68: HOP | P68: HOP | Q68: 12G | R68: 12P | S68: 12P | T68: 11A2 | V68: 11D7 | W68: 11D7 | X68: 11D7 | Y68: 12P
A69: TA Cô Nga_A | B69: 11D1 | C69: 11D1 | E69: 12Q | L69: 12D | M69: 12Q | N69: 12D | O69: HOP | P69: HOP | Q69: 11D1 | R69: 12Q | S69: 12D | T69: 11D1 | AA69: 12Q | AB69: 11D1 | AC69: 12D | AE69: 11D1
A70: TA Cô Phương_A | O70: HOP | P70: HOP | AA70: 10A7 | AB70: 10A7 | AC70: 10A7
A71: TA Cô Thùy Anh_A | C71: 10D7 | D71: 10D7 | E71: 10D7 | O71: HOP | P71: HOP | AF71: 10A1 | AG71: 10A1 | AH71: 10A1
A72: TA Teacher WST | O72: HOP | P72: HOP
A73: TD Thầy Hùng | O73: HOP | P73: HOP
A74: TD Cô Lẫy | O74: HOP | P74: HOP
A75: TD Thầy Linh_TD | B75: 10A4 | C75: 10A4 | D75: 10A3 | E75: 10A3 | G75: 10A2 | H75: 10A2 | I75: 10A1 | J75: 10A1 | O75: HOP | P75: HOP | Q75: 11D9 | R75: 11D9 | S75: 11D8 | T75: 11D8 | V75: 10A8 | W75: 10A8 | X75: 10A7 | Y75: 10A7 | AA75: 10A6 | AB75: 10A6 | AC75: 10A5 | AD75: 10A5
A76: TD Cô Lan L.Anh | D76: 10D1 | E76: 10D1 | G76: 10D7 | H76: 10D7 | I76: 10D5 | J76: 10D5 | O76: HOP | P76: HOP | Q76: 10D4 | R76: 10D4 | S76: 10D6 | T76: 10D6 | V76: 10D2 | W76: 10D2 | X76: 10D3 | Y76: 10D3 | AA76: 11D5 | AB76: 11D5
A77: TD Thầy Bình_TD | B77: 11D6 | C77: 11D6 | D77: 11D7 | E77: 11D7 | O77: HOP | P77: HOP
A78: QP Thầy Trưởng | H78: 11A1 | I78: 11A4 | J78: 11D1 | K78: 11A6 | O78: HOP | P78: HOP | V78: 11D4 | X78: 11A5 | Y78: 11A3 | AA78: 11A2 | AC78: 11D3 | AD78: 11D2
A79: QP Thầy Mạnh | O79: HOP | P79: HOP
A80: DI Cô Hằng_Đ | C80: 12K | D80: 11D1 | E80: 11A6 | G80: 11A3 | I80: 12C | J80: 12E | K80: 12P | O80: HOP | P80: HOP | AB80: 11A2 | AC80: 11D2
A81: DI Cô Phương_Đ | O81: HOP | P81: HOP | Q81: 12Q | R81: 12M | S81: 12I | T81: 11A1
A82: DI Cô Hường | C82: 12B | D82: 12H | E82: 12A | O82: HOP | P82: HOP | Q82: 11A4 | R82: 11D3
A83: DI Cô Hiệp | E83: 11D4 | F83: 12N | O83: HOP | P83: HOP | R83: 12G | S83: 11A5 | T83: 12D
A84: SU Cô Yến | L84: 11D1 | M84: 12P | N84: 12E | O84: HOP | P84: HOP | Q84: 12E | R84: 12B | S84: 12G | T84: 12H | V84: 12H | W84: 12B | X84: 11A4 | Y84: 12G | AA84: 12P | AB84: 11D2
A85: SU Linh_S | G85: 12D | I85: 12I | J85: 12A | K85: 12C | M85: 12D | O85: HOP | P85: HOP | Q85: 12C | R85: 12A | T85: 12I
A86: SU Cô Hợp_S | O86: HOP | P86: HOP | AA86: 11D4 | AC86: 11A6 | AD86: 11A1
A87: SU Cô Mai_S | I87: 11A5 | J87: 11D3 | K87: 12M | L87: 12Q | M87: 12K | O87: HOP | P87: HOP | V87: 12Q | X87: 11A2 | Y87: 12N | AA87: 12N | AB87: 12K | AC87: 11A3 | AD87: 12M
A88: GD Cô Phượng | H88: 11A5 | I88: 12K | K88: 12I | O88: HOP | P88: HOP | Q88: 11A2 | R88: 11A1 | S88: 12M | T88: 11A4
A89: GD Cô Nga_CD | B89: 12H | C89: 11A3 | G89: 11D3 | H89: 12P | I89: 12B | L89: 12A | M89: 11A6 | N89: 12H | O89: HOP | P89: HOP | AD89: 12E | AE89: 12H
A90: GD Cô Thìn_CD | J90: 12Q | K90: 12D | O90: HOP | P90: HOP | Q90: 12N | R90: 11D1 | T90: 12G | V90: 11D2 | W90: 11D4 | X90: 12C
A91: Giáo viên | B91: 1 | C91: 2 | D91: 3 | E91: 4 | F91: 5 | G91: 1 | H91: 2 | I91: 3 | J91: 4 | K91: 5 | L91: 1 | M91: 2 | N91: 3 | O91: 4 | P91: 5 | Q91: 1 | R91: 2 | S91: 3 | T91: 4 | U91: 5 | V91: 1 | W91: 2 | X91: 3 | Y91: 4 | Z91: 5 | AA91: 1 | AB91: 2 | AC91: 3 | AD91: 4 | AE91: 5 | AF91: 1 | AG91: 2 | AH91: 3 | AI91: 4 | AJ91: 5
B92: Thứ 2 | G92: Thứ 3 | L92: Thứ 4 | Q92: Thứ 5 | V92: Thứ 6 | AA92: Thứ 7 | AF92: CN

Sheet TKBGV_C
A1: ='TKBGV-C'!A1 -> BUỔI CHIỀU | E1: =TKBGV_S!D1 -> THỜI KHÓA BIỂU HK2 2021 -2022 (CHÍNH THỨC - LẦN 01)
A2: ='TKBGV-C'!A2 -> Bắt đầu từ: 12h45 | K2: =TKBGV_S!H2 -> Thực hiện từ ngày: 17/01/2022
A4: Giáo viên | B4: Thứ 2 | G4: Thứ 3 | L4: Thứ 4 | Q4: Thứ 5 | V4: Thứ 6 | AA4: Thứ 7 | AF4: CN
B5: 1 | C5: 2 | D5: 3 | E5: 4 | F5: 5 | G5: 1 | H5: 2 | I5: 3 | J5: 4 | K5: 5 | L5: 1 | M5: 2 | N5: 3 | O5: 4 | P5: 5 | Q5: 1 | R5: 2 | S5: 3 | T5: 4 | U5: 5 | V5: 1 | W5: 2 | X5: 3 | Y5: 4 | Z5: 5 | AA5: 1 | AB5: 2 | AC5: 3 | AD5: 4 | AE5: 5 | AF5: 1 | AG5: 2 | AH5: 3 | AI5: 4 | AJ5: 5
A6: TO Thầy Thìn | D6: HOP | E6: HOP | F6: HOP | Q6: 11D2 | R6: 11D2 | S6: 11D2 | AF6: 11D2 | AG6: 11D2 | AH6: 11D2
A7: TO Thầy Cường | I7: 11A4 | J7: 11A4 | K7: 11A4 | T7: 11A5 | U7: 11A5 | AC7: 11A6 | AD7: 11A6 | AE7: 11A6 | AF7: 11A4 | AG7: 11A4 | AH7: 11A4
A8: TO Cô Huế | C8: 12E | D8: 12E | E8: 12E | H8: 10A8 | I8: 10A3 | K8: 10A8 | L8: 12Q | M8: 12Q | N8: 12Q | O8: 10A3 | P8: 10A3 | Q8: 12E | R8: 12E | S8: 12E | V8: 10A3 | W8: 10A3 | AA8: 10A8 | AB8: 10A8 | AC8: 10A3
A9: TO Thầy Dũng | G9: 10A7 | H9: 10A7 | I9: 11D5 | K9: 11D8 | L9: 11D5 | M9: 11D5 | O9: 10A7 | P9: 10A7 | R9: 11D5 | S9: 11D8 | T9: 11D8 | V9: 10A7 | W9: 11D8 | Y9: 11D5 | Z9: 11D5 | AA9: 11D5 | AC9: 10A7 | AD9: 11D8
A10: TO Cô Hằng_T | B10: 10D2 | C10: 10D2 | G10: 10D2 | H10: 10D2 | J10: 11D7 | L10: 12P | M10: 12P | N10: 12P | O10: 10D2 | P10: 10D2 | Q10: 11D7 | S10: 11D7 | T10: 12D | U10: 12D | Y10: 11D7 | Z10: 11D7 | AA10: 11D7 | AB10: 11D7 | AC10: 12D | AD10: 12D | AE10: 12D | AF10: 12P | AG10: 12P | AH10: 12P
A11: TO Thầy Đường | D11: HOP | E11: HOP | F11: HOP | I11: 10A1 | J11: 10A1 | Q11: 11D1 | R11: 11D1 | S11: 11D1 | T11: 12B | U11: 12B | V11: 10A1 | W11: 10A1 | Y11: 12B | Z11: 12B | AF11: 11D1 | AG11: 11D1 | AH11: 11D1
A12: TO Thầy Thương | G12: 10D7 | I12: 11D6 | J12: 10D7 | L12: 11D4 | M12: 11D4 | N12: 11D4 | O12: 10D7 | P12: 10D7 | Q12: 10D7 | S12: 10D7 | T12: 12I | U12: 12I | V12: 11D6 | X12: 11D6 | AA12: 11D6 | AB12: 11D6
A13: TO Cô Ngọ | L13: 11D3 | M13: 11D3 | N13: 11D3 | O13: 12C | P13: 12C | V13: 11D3 | W13: 11D3 | X13: 11D3 | AC13: 12G | AD13: 12G | AE13: 12G | AI13: 12C | AJ13: 12C
A14: TO Cô Len | I14: 11A1 | J14: 11A1 | K14: 11A1 | O14: 10D1 | P14: 10D1 | Q14: 10D1 | R14: 10D1 | T14: 12N | U14: 12N | V14: 11A1 | W14: 11A1 | X14: 11A1 | AB14: 10D1 | AC14: 10D1
A15: TO Thầy Quang | I15: 10A2 | K15: 10A2 | L15: 12A | M15: 12A | N15: 12A | O15: 10A2 | P15: 10A2 | R15: 10A2 | S15: 10A2 | T15: 12K | U15: 12K | AF15: 12A | AG15: 12A | AH15: 12A
A16: TO Cô Hoa | C16: 11A2 | D16: 11A2 | E16: 11A2 | H16: 10D3 | J16: 10D3 | L16: 12M | M16: 12M | N16: 12M | O16: 10D3 | P16: 10D3 | Q16: 12M | R16: 12M | S16: 12M | U16: 10D3 | X16: 10D3 | Y16: 11A3 | Z16: 11A3 | AF16: 11A3 | AG16: 11A3 | AH16: 11A3 | AI16: 11A2 | AJ16: 11A2
A17: TO Thủy_T | D17: 10A5 | E17: 10A5 | F17: 10A5 | H17: 10A4 | I17: 10A5 | K17: 10A5 | T17: 10A4 | U17: 10A4 | V17: 12H | W17: 12H | X17: 12H | AD17: 10A4 | AE17: 10A5
A18: TO-KHƯƠNG_T | H18: 10D5 | J18: 11D9 | K18: 11D9 | L18: 10D5 | M18: 11D9 | O18: 10D5 | P18: 10D5 | W18: 10D5 | Y18: 11D9 | Z18: 11D9 | AA18: 11D9 | AB18: 11D9 | AD18: 10D5
A19: TO SƠN_T | O19: 10A6 | P19: 10A6 | V19: 10A6 | W19: 10A6 | AA19: 10A6 | AC19: 10A6
A20: TO Cô YẾN | G20: 10D4 | H20: 10D4 | I20: 10D6 | O20: 10D4 | P20: 10D4 | R20: 10D6 | S20: 10D6 | U20: 10D4 | V20: 10D6 | X20: 10D4
A21: TI Thầy Thịnh | C21: 11A1 | D21: 11A1 | M21: 12C | N21: 12C | O21: 12D | P21: 12D | W21: 11D2 | X21: 11D2 | Y21: 11D1 | Z21: 11D1
A22: TI Cô Hiền | C22: 12M | D22: 12M | E22: 11D3 | F22: 11D3 | H22: 12A | I22: 12A | J22: 12K | K22: 12K | M22: 11A4 | N22: 11A4 | O22: 12Q | P22: 12Q | AB22: 11A2 | AC22: 11A2 | AD22: 11A3 | AE22: 11A3
A23: TI Cô Hải | H23: 12N | I23: 12N | M23: 12I | N23: 12I | O23: 12P | P23: 12P
A24: TI Cô Hồng_TIN | C24: 11A6 | D24: 11A6 | E24: 11A5 | F24: 11A5 | H24: 12H | I24: 12H | J24: 12B | K24: 12B | R24: 11D4 | S24: 11D4 | W24: 12E | X24: 12E | Y24: 12G | Z24: 12G
A25: LY Thầy Vụ | C25: 12P | D25: 12P | E25: 12P | M25: 10D4 | N25: 11D8 | O25: 10A1 | P25: 10A1 | Q25: 11D8 | R25: 10D4 | T25: 12A | U25: 12A | AA25: 10A1 | AB25: 10A1
A26: LY Thầy Sỹ_L | G26: 11D9 | I26: 10A6 | L26: 11D9 | M26: 10A6 | O26: 11A4 | P26: 11A4
A27: LY Cô Hà | C27: 12B | D27: 12B | E27: 12B | F27: 10A3 | L27: 10A3 | M27: 10D6 | Q27: 10D6 | S27: 10A3 | AA27: 10A3 | AB27: 12Q | AC27: 12Q | AD27: 12Q | AE27: 10A3
A28: LY Thầy Thủy_L | D28: HOP | E28: HOP | F28: HOP | G28: 10A8 | I28: 10D1 | J28: 11D6 | K28: 10D2 | Q28: 10A8 | R28: 10A8 | T28: 11A1 | U28: 11A1 | W28: 11D6 | X28: 10D1 | Y28: 10A8 | Z28: 10A8 | AA28: 10D2 | AC28: 12C | AD28: 12C | AE28: 12C
A29: LY Cô Hạnh_L | C29: 11D7 | D29: 10A2 | E29: 10A2 | G29: 10D3 | I29: 11A2 | J29: 11A2 | K29: 11A2 | R29: 10D3 | T29: 10A2 | X29: 11D7 | Y29: 10A2 | Z29: 10A2 | AC29: 12N | AD29: 12N | AE29: 12N
A30: LY_Hải | B30: 11D5 | D30: 10A4 | E30: 10A7 | F30: 10A7 | J30: 10A4 | K30: 10A7 | L30: 11A5 | M30: 11A5 | N30: 11A5 | X30: 10A4 | Y30: 10A7 | Z30: 10A7 | AB30: 11D5 | AD30: 10A7 | AE30: 10A7
A31: LY_Thảo | H31: 10D7 | I31: 11A3 | J31: 11A3 | K31: 11A3 | L31: 11A6 | M31: 11A6 | N31: 11A6 | O31: 10A5 | P31: 10A5 | Q31: 10D5 | R31: 10D7 | S31: 10A5 | AA31: 10A5 | AC31: 10D5
A32: CN Dũng_KT | G32: 11D5 | H32: 11D8 | I32: 11D9 | M32: 11D6 | N32: 11D7
A33: CN Thầy Nghị
A34: HO Cô V.Anh | I34: 12P | J34: 12P | K34: 12P | O34: 11A2 | P34: 11A2
A35: HO Cô Hạnh_H | B35: 10A4 | C35: 12N | D35: 12N | E35: 12N | O35: 11A1 | P35: 11A1 | S35: 10A4 | T35: 10A7 | AB35: 10A7 | AC35: 12B | AD35: 12B | AE35: 12B
A36: HO Cô Lương | B36: 10A5 | C36: 11D9 | D36: HOP | E36: HOP | F36: HOP | H36: 10A5 | J36: 10A8 | K36: 10D1 | M36: 10A5 | N36: 11D9 | W36: 10D1 | X36: 10A8 | Y36: 10A5 | Z36: 10A5
A37: HO Cô Nguyệt | D37: HOP | E37: HOP | F37: 10A1 | L37: 10A6 | M37: 10A2 | N37: 10A1 | Q37: 10A1 | R37: 10A6 | X37: 10A2 | Y37: 10A6 | Z37: 10A6 | AB37: 10A6 | AC37: 10A1 | AE37: 10A1
A38: HO Cô Hảo | B38: 10A3 | C38: 12Q | D38: 12Q | E38: 12Q | J38: 10D6 | K38: 10D7 | Q38: 12C | R38: 12C | S38: 12C | U38: 10D7 | W38: 10D6 | X38: 10A3
A39: HO Cô Hường
A40: HO-Quang_H | B40: 11D7 | C40: 11D8 | D40: 10D5 | E40: 10D4 | G40: 11D6 | H40: 11D5 | I40: 10D3 | J40: 10D4 | L40: 11D6 | M40: 10D2 | Q40: 11D5 | R40: 11D7 | S40: 10D2 | U40: 11D8 | V40: 10D5 | W40: 10D3 | Y40: 11A5 | Z40: 11A5
A41: SI Cô Hoàn | G41: 11D8 | H41: 11D9 | I41: 11D7 | K41: 11D6
A42: SI Cô T.Giang_S | B42: 10A8 | C42: 10A4 | D42: HOP | E42: HOP | F42: HOP | M42: 10A1 | N42: 10A7
A43: SI Cô Tuyến_S | B43: 10D3 | C43: 10D7 | M43: 10D1 | N43: 10D2 | S43: 10D4 | T43: 10D5 | U43: 10D6
A44: SI Cô H.Giang | C44: 10A5 | D44: 10A6 | E44: 10A3 | F44: 10A6 | AB44: 10A2 | AD44: 11D5 | AE44: 10A6
A45: SI Cô Hồng
A46: CN Cô Nội | B46: 10D7 | C46: 10A8 | D46: 10A1 | E46: 10D2 | G46: 10D6 | H46: 10A3 | J46: 10A6 | K46: 10D5 | Q46: 10A2 | S46: 10D1 | T46: 10D4 | U46: 10A7 | V46: 10D3 | W46: 10A4 | X46: 10A5
A47: VA Cô Nhung | D47: HOP | E47: HOP | Q47: 12H | R47: 12H | S47: 12H | AC47: 11D4 | AD47: 11D4 | AE47: 11D4
A48: VA Cô Thủy_V | G48: 10D1 | H48: 10D1 | I48: 10A4 | N48: 10A4 | O48: 11D2 | P48: 11D2 | Q48: 10A4 | R48: 10A4 | T48: 10D1 | U48: 10D1 | Y48: 10D1 | Z48: 10D1
A49: VA Cô Tuyến_V | C49: 11D5 | D49: 11D5 | O49: 11D5 | P49: 11D5 | T49: 11D5 | U49: 11D5 | X49: 11D5 | Y49: 11D3 | Z49: 11D3
A50: VA Cô Hiếu | O50: 12K | P50: 12K | V50: 12D | W50: 12D | X50: 12D
A51: VA Cô Đ.Hương | D51: 10D3 | E51: 10D3 | F51: 10D3 | I51: 11D1 | J51: 11D1 | K51: 11D1 | L51: 10A5 | M51: 10D3 | N51: 10D3 | Q51: 10A5 | R51: 10A5 | AD51: 10A5 | AE51: 10D3
A52: VA Cô T.Hương | D52: 11D9 | E52: 11D9 | F52: 11D9 | R52: 11D9 | S52: 11D9 | V52: 12M | W52: 12M | X52: 12M | AD52: 11D9 | AE52: 11D9
A53: VA Cô Hằng_V | B53: 10D5 | C53: 10D5 | I53: 10D5 | J53: 10D5 | K53: 10A1 | Q53: 12G | R53: 12G | S53: 12G | T53: 10A1 | U53: 10A1 | X53: 10A1 | Y53: 10D5 | Z53: 10D5
A54: VA Cô Hạnh_V | B54: 10A7 | D54: 10A7 | G54: 10A3 | I54: 12I | J54: 12I | K54: 12I | L54: 10A7 | M54: 10A7 | N54: 10A3 | Q54: 10A3 | R54: 10A3 | AC54: 12E | AD54: 12E | AE54: 12E
A55: VA Cô Hồng_V | C55: 10D4 | D55: 10D4 | F55: 10A2 | J55: 10A2 | K55: 10D4 | O55: 10D6 | P55: 10D6 | T55: 10D6 | U55: 10A2 | V55: 10A2 | W55: 10A2 | X55: 10D6 | AB55: 10D6 | AC55: 10D6 | AD55: 10D4 | AE55: 10A2
A56: VA Cô C.Hương | C56: 11D6 | D56: 11D6 | F56: 11D6 | L56: 11D8 | M56: 11D8 | O56: 11D6 | P56: 11D6 | R56: 11D8 | S56: 11D6 | U56: 11D6 | Y56: 11D8 | Z56: 11D8 | AA56: 11D8 | AB56: 11D8 | AD56: 11D6 | AE56: 11D6
A57: VA Sâm_V | D57: 10D7 | E57: 10D7 | F57: 10D7 | Q57: 10D2 | R57: 10D2 | T57: 10D7 | Y57: 10D7 | Z57: 10D7 | AA57: 10D7 | AB57: 10D2 | AC57: 10D2 | AE57: 10D7
A58: VA Huyền_V | B58: 10A6 | C58: 10A6 | D58: 11D7 | E58: 11D7 | G58: 10A6 | H58: 10A6 | I58: 10A8 | K58: 11D7 | M58: 10A8 | N58: 10A8 | O58: 11D7 | P58: 11D7 | S58: 10A8 | T58: 11D7 | U58: 11D7
A59: TA Cô Khanh | D59: HOP | E59: HOP | F59: HOP | I59: 12M | J59: 12M | K59: 12M | O59: 11D9 | P59: 11D9 | T59: 11D9 | U59: 11D9 | V59: 11D9 | W59: 11D9 | Y59: 12E | Z59: 12E
A60: TA Cô Lan | D60: HOP | E60: HOP | F60: HOP | J60: 10A3 | K60: 10A3 | T60: 10A3 | U60: 10A3 | Y60: 10A3 | Z60: 10A3
A61: TA Cô A My | B61: 10D4 | C61: 10A2 | E61: 10A4 | F61: 10A4 | G61: 10A4 | H61: 10A2 | I61: 10D4 | L61: 10A4 | N61: 10A2 | V61: 10D4 | W61: 10D4 | Y61: 10A4 | Z61: 10A4 | AC61: 10A4 | AD61: 10A2 | AE61: 10A4
A62: TA Cô Oanh | E62: 10D1 | F62: 10D1 | J62: 10D1 | K62: 10D3 | L62: 10D3 | M62: 10D5 | N62: 10D5 | V62: 10D1 | X62: 10D5 | Y62: 10D3 | Z62: 10D3 | AA62: 10D5 | AB62: 10D3 | AC62: 10D3 | AD62: 10D1 | AE62: 10D1
A63: TA Cô Huyền | D63: 10D2 | E63: 11D6 | F63: 10D2 | H63: 11D6 | I63: 11D2 | J63: 11D2 | K63: 11D2 | R63: 11D6 | T63: 10D2 | U63: 10D2 | Y63: 10D2 | Z63: 10D2 | AC63: 11D6 | AD63: 10D2 | AE63: 10D2
A64: TA Cô Hồng_A | L64: 12H | M64: 12H | N64: 12H | Q64: 11D3 | R64: 11D3 | S64: 11D3 | V64: 11D4 | W64: 11D4 | X64: 11D4
A65: TA Cô Sâm_A | C65: 12A | D65: 12A | E65: 12A | O65: 11A3 | P65: 11A3
A66: TA Cô Mẫn | C66: 12K | D66: 12K | E66: 12K | Q66: 11A4 | R66: 11A4 | S66: 11A4 | V66: 12I | W66: 12I | X66: 12I
A67: TA Cô Thủy_A | B67: 11D8 | C67: 10D6 | E67: 11D8 | F67: 10D6 | I67: 11D8 | J67: 11D5 | K67: 11D5 | L67: 10D6 | N67: 10D6 | O67: 11D8 | P67: 11D8 | V67: 11D8 | W67: 11D5 | Y67: 10D6 | Z67: 10D6 | AC67: 11D5 | AD67: 10D6 | AE67: 10D6
A68: TA Cô Châm | G68: 11D7 | H68: 11D7 | L68: 11D7 | M68: 11D7 | O68: 12G | P68: 12G | T68: 11A6 | U68: 11A6 | V68: 11A2 | W68: 11A2 | X68: 11A2
A69: TA Cô Nga_A | C69: 12D | D69: 12D | E69: 12D | O69: 11D1 | P69: 11D1
A70: TA Cô Phương_A | S70: 10A7 | T70: 10A5 | U70: 10A5 | V70: 10A5 | W70: 10A7 | X70: 10A7 | AA70: 10A7 | AC70: 10A5
A71: TA Cô Thùy Anh_A | B71: 10A1 | C71: 10A1 | E71: 10A8 | G71: 10A1 | H71: 10A1 | I71: 10D7 | K71: 10A6 | L71: 10D7 | N71: 10A6 | O71: 10A8 | P71: 10A8 | Q71: 10A6 | S71: 10A6 | T71: 10A8 | U71: 10A8 | V71: 10D7 | W71: 10A8 | X71: 10D7
A72: TA Teacher WST
A73: TD Thầy Hùng | C73: 11D3 | D73: 11D3 | E73: 11A1 | F73: 11A1 | H73: 12B | I73: 12B | J73: 12A | K73: 12A | R73: 12Q | S73: 12Q | T73: 11A4 | U73: 11A4 | W73: 11D1 | X73: 11D1 | Y73: 11D2 | Z73: 11D2 | AB73: 11A3 | AC73: 11A3 | AD73: 11A2 | AE73: 11A2
A74: TD Cô Lẫy | C74: 12C | D74: 12C | E74: 12M | F74: 12M | H74: 12E | I74: 12E | J74: 12H | K74: 12H | M74: 12K | N74: 12K | O74: 12I | P74: 12I | R74: 12N | S74: 12N | T74: 12P | U74: 12P | W74: 12G | X74: 12G | Y74: 12D | Z74: 12D
A75: TD Thầy Linh_TD
A76: TD Cô Lan L.Anh | T76: 11D4 | U76: 11D4
A77: TD Thầy Bình_TD | C77: 11A5 | D77: 11A5 | E77: 11A6 | F77: 11A6
A78: QP Thầy Trưởng | H78: 12M | I78: 12K | J78: 12N | N78: 11D6 | O78: 12H | Q78: 11D9 | S78: 12P | T78: 12Q | V78: 11D5 | W78: 11D7 | X78: 11D8 | Y78: 12I
A79: QP Thầy Mạnh | B79: 10D6 | C79: 10D1 | D79: 10A3 | E79: 10A6 | G79: 10A2 | I79: 10A7 | J79: 10D2 | L79: 10A1 | N79: 12G | O79: 12A | Q79: 10D4 | R79: 10D5 | S79: 12D | T79: 12C | V79: 10A8 | W79: 10A5 | X79: 12B | AA79: 10A4 | AB79: 12E | AC79: 10D7 | AD79: 10D3
A80: DI Cô Hằng_Đ | B80: 11D6 | D80: HOP | E80: HOP | F80: HOP | L80: 10D1 | M80: 10A4 | N80: 11D5 | AA80: 10D1 | AB80: 10A4
A81: DI Cô Phương_Đ | C81: 10A3 | D81: HOP | E81: HOP | F81: 10A8 | L81: 10A8 | N81: 10D4 | V81: 10D2 | W81: 10D2 | X81: 10A6 | AA81: 10D4 | AB81: 10A3 | AC81: 10A8 | AD81: 10A6 | AE81: 10A8
A82: DI Cô Hường | B82: 11D9 | C82: 10A7 | D82: 11D8 | E82: 10D5 | F82: 10D5 | Q82: 10A7 | R82: 10A1 | T82: 10D3 | AA82: 10D3 | AB82: 10D5 | AD82: 10A1 | AE82: 10D5
A83: DI Cô Hiệp | D83: 10D6 | F83: 11D7 | J83: 10A5 | K83: 10D6 | L83: 10A2 | M83: 10D7 | N83: 10A5 | AA83: 10A2 | AC83: 11D7 | AD83: 10D7 | AE83: 11D7
A84: SU Cô Yến | E84: 11D5 | F84: 11D5 | AE84: 11D5
A85: SU Linh_S | B85: 10A2 | C85: 10D3 | D85: 10D1 | L85: 10D2 | M85: 10A3 | N85: 10D1 | Q85: 10D3 | S85: 10A1 | V85: 10A4 | X85: 10D2
A86: SU Cô Hợp_S | G86: 10D5 | H86: 10D6 | J86: 11D8 | Q86: 11D6 | R86: 10A7 | S86: 10D5 | T86: 10A6 | AA86: 10D6 | AB86: 10A5 | AC86: 11D9 | AD86: 10A8
A87: SU Cô Mai_S | L87: 10D4 | N87: 10D7 | AB87: 10D7 | AC87: 10D4 | AD87: 11D7
A88: GD Cô Phượng | E88: 10A1 | F88: 10D4 | AB88: 10D4 | AC88: 10A2 | AD88: 10A3 | AE88: 10D4
A89: GD Cô Nga_CD | B89: 10D1 | D89: 10A8 | G89: 10A5 | I89: 10D2 | J89: 10A7 | K89: 10A4 | S89: 10D3 | U89: 10A6
A90: GD Cô Thìn_CD | E90: 10D6 | F90: 11D8 | S90: 11D5 | T90: 11D6 | U90: 10D5 | V90: 11D7 | W90: 10D7 | X90: 11D9 | AC90: 11D8 | AE90: 11D8
A91: Giáo viên | B91: 1 | C91: 2 | D91: 3 | E91: 4 | F91: 5 | G91: 1 | H91: 2 | I91: 3 | J91: 4 | K91: 5 | L91: 1 | M91: 2 | N91: 3 | O91: 4 | P91: 5 | Q91: 1 | R91: 2 | S91: 3 | T91: 4 | U91: 5 | V91: 1 | W91: 2 | X91: 3 | Y91: 4 | Z91: 5 | AA91: 1 | AB91: 2 | AC91: 3 | AD91: 4 | AE91: 5 | AF91: 1 | AG91: 2 | AH91: 3 | AI91: 4 | AJ91: 5
B92: Thứ 2 | G92: Thứ 3 | L92: Thứ 4 | Q92: Thứ 5 | V92: Thứ 6 | AA92: Thứ 7 | AF92: CN

Sheet Lop_S
A1: BUỔI SÁNG | E1: =TKBGV_C!E1 -> THỜI KHÓA BIỂU HK2 2021 -2022 (CHÍNH THỨC - LẦN 01)
A2: Bắt đầu từ: 7h15' | E2: =TKBGV_C!K2 -> Thực hiện từ ngày: 17/01/2022
A5: Ngày | B5: Tiết | C5: 12A | D5: 12B | E5: 12C | F5: 12D | G5: 12E | H5: 12G | I5: 12H | J5: 12I | K5: 12K | L5: 12M | M5: 12N | N5: 12P | O5: 12Q | P5: 11A1 | Q5: 11A2 | R5: 11A3 | S5: 11A4 | T5: 11A5 | U5: 11A6 | V5: 11D1 | W5: 11D2 | X5: 11D3 | Y5: 11D4
A6: Thứ 2 | B6: 1 | C6: Chào cờ | D6: Chào cờ | E6: Chào cờ | F6: Chào cờ | G6: Chào cờ | H6: Chào cờ | I6: Chào cờ | J6: Chào cờ | K6: Chào cờ | L6: Chào cờ | M6: Chào cờ | N6: Chào cờ | O6: Chào cờ | P6: Chào cờ | Q6: Chào cờ | R6: Chào cờ | S6: Chào cờ | T6: Chào cờ | U6: Chào cờ | V6: Chào cờ | W6: Chào cờ | X6: Chào cờ | Y6: Chào cờ
B7: 2 | C7: Hóa học | D7: Ngoại ngữ 1 | E7: Ngoại ngữ 1 | F7: Ngữ Văn | G7: Ngữ Văn | H7: Sinh học | I7: Tin học | J7: Sinh học | K7: Công nghệ | L7: Ngữ Văn | M7: Hóa học | N7: Vật lí | O7: Công nghệ | P7: Ngoại ngữ 1 | Q7: Vật lí | R7: Địa lí | S7: Hóa học | T7: Sinh học | U7: Toán | V7: Ngữ Văn | W7: Hóa học | X7: Toán | Y7: Ngữ Văn
B8: 3 | C8: Ngữ Văn | D8: GDCD | E8: Ngoại ngữ 1 | F8: Ngữ Văn | G8: Hóa học | H8: Ngữ Văn | I8: Ngoại ngữ 1 | J8: Ngoại ngữ 1 | K8: Toán | L8: Ngữ Văn | M8: Vật lí | N8: Công nghệ | O8: Ngoại ngữ 1 | P8: GDQP-AN | Q8: Ngoại ngữ 1 | R8: Sinh học | S8: Ngữ Văn | T8: Vật lí | U8: Hóa học | V8: Ngữ Văn | W8: Công nghệ | X8: Toán | Y8: Hóa học
B9: 4 | C9: Toán | D9: Ngữ Văn | E9: Ngữ Văn | F9: Hóa học | G9: Địa lí | H9: Ngữ Văn | I9: Sinh học | J9: Ngoại ngữ 1 | K9: Hóa học | L9: Sinh học | M9: Ngữ Văn | N9: Ngữ Văn | O9: Ngoại ngữ 1 | P9: Ngữ Văn | Q9: Ngoại ngữ 1 | R9: Công nghệ | S9: Toán | T9: Ngoại ngữ 1 | U9: Công nghệ | V9: GDQP-AN | W9: Ngoại ngữ 1 | X9: Vật lí | Y9: Ngoại ngữ 1
B10: 5 | C10: Toán | D10: Hóa học | E10: Toán | F10: GDQP-AN | G10: Công nghệ | H10: Hóa học | I10: Ngữ Văn | J10: Toán | K10: Ngữ Văn | L10: Ngoại ngữ 1 | M10: Toán | N10: Ngữ Văn | O10: Hóa học | P10: Ngữ Văn | Q10: Địa lí | R10: Toán | S10: Sinh học | T10: Ngoại ngữ 1 | U10: Toán | V10: Ngoại ngữ 1 | W10: Ngoại ngữ 1 | X10: Ngữ Văn | Y10: Ngoại ngữ 1
A11: Thứ 3 | B11: 1 | C11: Ngữ Văn | D11: GDQP-AN | E11: GDCD | F11: Công nghệ | G11: Ngữ Văn | H11: Địa lí | I11: Ngoại ngữ 1 | J11: Vật lí | K11: Ngoại ngữ 1 | L11: Vật lí | M11: Ngoại ngữ 1 | N11: GDQP-AN | O11: Ngữ Văn | P11: Toán | Q11: Lịch sử | R11: Ngoại ngữ 1 | S11: Lịch sử | T11: Công nghệ | U11: Sinh học | V11: Toán | W11: Vật lí | X11: Địa lí | Y11: Vật lí
B12: 2 | C12: Ngữ Văn | D12: Vật lí | E12: Ngoại ngữ 1 | F12: Địa lí | G12: Ngoại ngữ 1 | H12: Lịch sử | I12: Địa lí | J12: Ngữ Văn | K12: Địa lí | L12: Vật lí | M12: Toán | N12: Ngoại ngữ 1 | O12: Ngữ Văn | P12: Công nghệ | Q12: Sinh học | R12: Lịch sử | S12: Ngoại ngữ 1 | T12: Ngữ Văn | U12: Vật lí | V12: Toán | W12: GDQP-AN | X12: GDCD | Y12: Công nghệ
B13: 3 | C13: Ngoại ngữ 1 | D13: Ngoại ngữ 1 | E13: Địa lí | F13: Vật lí | G13: Ngoại ngữ 1 | H13: GDCD | I13: GDCD | J13: Toán | K13: Ngoại ngữ 1 | L13: Toán | M13: Lịch sử | N13: Vật lí | O13: Toán | P13: Sinh học | Q13: Ngoại ngữ 1 | R13: Vật lí | S13: GDQP-AN | T13: Ngữ Văn | U13: Ngữ Văn | V13: Sinh học | W13: Lịch sử | X13: Công nghệ | Y13: Địa lí
B14: 4 | C14: Vật lí | D14: Toán | E14: Vật lí | F14: Lịch sử | G14: GDCD | H14: Ngoại ngữ 1 | I14: Lịch sử | J14: Toán | K14: Vật lí | L14: Ngữ Văn | M14: Ngoại ngữ 1 | N14: Ngữ Văn | O14: Toán | P14: Ngoại ngữ 1 | Q14: Công nghệ | R14: Toán | S14: Vật lí | T14: GDQP-AN | U14: Ngữ Văn | V14: GDCD | W14: Toán | X14: Ngoại ngữ 1 | Y14: Sinh học
B15: 5 | C15: GDCD | D15: Toán | E15: Công nghệ | F15: GDCD | G15: Toán | H15: Ngoại ngữ 1 | I15: Vật lí | J15: GDQP-AN | K15: Lịch sử | L15: Toán | M15: Địa lí | N15: Lịch sử | O15: Vật lí | P15: Ngữ Văn | Q15: Sinh học | R15: Ngoại ngữ 1 | S15: Ngoại ngữ 1 | T15: Ngoại ngữ 1 | U15: GDQP-AN | V15: Vật lí | W15: Địa lí | X15: Sinh học | Y15: Ngoại ngữ 1
A16: Thứ 4 | B16: 1 | C16: Toán | D16: Tin học | E16: Vật lí | F16: Tin học | G16: Lịch sử | H16: Công nghệ | I16: Ngoại ngữ 1 | J16: Ngữ Văn | K16: Ngữ Văn | L16: Tin học | M16: Ngoại ngữ 1 | N16: Tin học | O16: Vật lí | P16: Công nghệ | Q16: Vật lí | R16: Vật lí | S16: Vật lí | T16: Toán | U16: Hóa học | V16: Địa lí | W16: Ngữ Văn | X16: Sinh học | Y16: Hóa học
B17: 2 | C17: Tin học | D17: Vật lí | E17: Tin học | F17: Sinh học | G17: Tin học | H17: Vật lí | I17: Vật lí | J17: Ngữ Văn | K17: GDQP-AN | L17: Hóa học | M17: Tin học | N17: Toán | O17: Toán | P17: Vật lí | Q17: Ngữ Văn | R17: Công nghệ | S17: Công nghệ | T17: Vật lí | U17: Ngoại ngữ 1 | V17: Lịch sử | W17: Toán | X17: Hóa học | Y17: Vật lí
B18: 3 | C18: Anh_TB | D18: Toán_TB | E18: Toán_TB | F18: Toán_TB | G18: Toán_TB | H18: Anh_TB | I18: Toán_TB | J18: Toán_TB | K18: Toán_TB | L18: Anh_TB | M18: Toán_TB | N18: Hóa_TB | O18: Hóa_TB | P18: Hóa_TB | Q18: Toán_TB | S18: Anh_TB | T18: Hóa_TB | U18: Toán_TB | V18: Anh_TB | W18: Anh_TB | X18: Anh_TB
B19: 4 | C19: Anh_TB | D19: Toán_TB | E19: Toán_TB | F19: Toán_TB | G19: Toán_TB | H19: Anh_TB | I19: Toán_TB | J19: Toán_TB | K19: Toán_TB | L19: Anh_TB | M19: Toán_TB | N19: Hóa_TB | O19: Hóa_TB | P19: Hóa_TB | Q19: Toán_TB | S19: Anh_TB | T19: Hóa_TB | U19: Toán_TB | V19: Anh_TB | W19: Anh_TB | X19: Anh_TB
B20: 5 | C20: Anh_TB | D20: Toán_TB | E20: Toán_TB | F20: Toán_TB | G20: Toán_TB | H20: Anh_TB | I20: Toán_TB | J20: Toán_TB | K20: Toán_TB | L20: Anh_TB | M20: Toán_TB | N20: Hóa_TB | O20: Hóa_TB | P20: Hóa_TB | Q20: Toán_TB | S20: Anh_TB | T20: Hóa_TB | U20: Toán_TB | V20: Anh_TB | W20: Anh_TB | X20: Anh_TB
A21: Thứ 5 | B21: 1 | C21: Hóa học | D21: Toán | E21: Lịch sử | F21: Hóa học | G21: Ngữ Văn | H21: Lịch sử | I21: Địa lí | J21: Địa lí | K21: Ngoại ngữ 1 | L21: Lịch sử | M21: Hóa học | N21: Sinh học | O21: GDQP-AN | P21: Ngoại ngữ 1 | Q21: Vật lí | R21: Ngữ Văn | S21: Toán | T21: Ngữ Văn | U21: Công nghệ | V21: Hóa học | W21: GDCD | X21: GDQP-AN | Y21: Toán
B22: 2 | C22: Lịch sử | D22: Địa lí | E22: Hóa học | F22: Ngoại ngữ 1 | G22: Ngữ Văn | H22: GDQP-AN | I22: Lịch sử | J22: Lịch sử | K22: Ngoại ngữ 1 | L22: Địa lí | M22: Vật lí | N22: Ngoại ngữ 1 | O22: GDCD | P22: Ngoại ngữ 1 | Q22: GDCD | R22: Ngữ Văn | S22: Hóa học | T22: Công nghệ | U22: Hóa học | V22: Toán | W22: Sinh học | X22: Toán | Y22: Toán
B23: 3 | C23: Ngoại ngữ 1 | D23: Lịch sử | E23: GDQP-AN | F23: Địa lí | G23: Vật lí | H23: Ngoại ngữ 1 | I23: Toán | J23: Ngoại ngữ 1 | K23: Lịch sử | L23: GDCD | M23: GDCD | N23: Ngữ Văn | O23: Ngoại ngữ 1 | P23: Địa lí | Q23: Hóa học | R23: Hóa học | S23: Công nghệ | T23: Ngữ Văn | U23: Toán | V23: Toán | W23: Ngoại ngữ 1 | X23: Địa lí | Y23: Lịch sử
B24: 4 | C24: Địa lí | D24: Vật lí | E24: Ngữ Văn | F24: Toán | G24: Toán | H24: Toán | I24: GDQP-AN | J24: Công nghệ | K24: Toán | L24: Ngoại ngữ 1 | M24: Địa lí | N24: Vật lí | O24: Hóa học | P24: Hóa học | Q24: Ngoại ngữ 1 | R24: Ngoại ngữ 1 | S24: GDCD | T24: Ngoại ngữ 1 | U24: Toán | V24: Ngoại ngữ 1 | W24: Ngoại ngữ 1 | X24: Hóa học | Y24: GDCD
B25: 5 | C25: Vật lí | D25: Toán | E25: Ngữ Văn | F25: Lịch sử | G25: Lịch sử | H25: Toán | I25: Toán | J25: Tin học | K25: Vật lí | L25: Ngoại ngữ 1 | M25: GDQP-AN | N25: Hóa học | O25: Địa lí | P25: GDCD | Q25: Ngữ Văn | R25: Ngoại ngữ 1 | S25: Sinh học | T25: Toán | U25: Ngoại ngữ 1 | V25: Ngoại ngữ 1 | W25: Hóa học | X25: Lịch sử | Y25: GDQP-AN
A26: Thứ 6 | B26: 1 | C26: Sinh học | D26: Địa lí | E26: Địa lí | F26: Vật lí | G26: Ngoại ngữ 1 | H26: Vật lí | I26: Ngữ Văn | J26: Hóa học | K26: Ngữ Văn | L26: Địa lí | M26: Ngữ Văn | N26: Ngoại ngữ 1 | O26: Lịch sử | P26: Sinh học | Q26: Toán | R26: GDQP-AN | S26: Hóa học | T26: Vật lí | U26: Ngữ Văn | V26: Ngữ Văn | W26: Sinh học | X26: Ngoại ngữ 1 | Y26: Công nghệ
B27: 2 | C27: Địa lí | D27: Ngoại ngữ 1 | E27: Toán | F27: Toán | G27: GDQP-AN | H27: Địa lí | I27: Ngữ Văn | J27: Địa lí | K27: Ngữ Văn | L27: Ngoại ngữ 1 | M27: Công nghệ | N27: Địa lí | O27: Sinh học | P27: Vật lí | Q27: Toán | R27: Hóa học | S27: Ngoại ngữ 1 | T27: Lịch sử | U27: Vật lí | V27: Ngữ Văn | W27: Ngữ Văn | X27: Vật lí | Y27: Sinh học
B28: 3 | C28: GDQP-AN | D28: Công nghệ | E28: Vật lí | F28: Ngữ Văn | G28: Địa lí | H28: Toán | I28: Công nghệ | J28: Ngoại ngữ 1 | K28: Hóa học | L28: Ngữ Văn | M28: Ngoại ngữ 1 | N28: Ngoại ngữ 1 | O28: Địa lí | P28: Toán | Q28: Hóa học | R28: Toán | S28: Địa lí | T28: Hóa học | U28: Sinh học | V28: Ngoại ngữ 1 | W28: Vật lí | X28: Ngữ Văn | Y28: Địa lí
B29: 4 | C29: Công nghệ | D29: Ngoại ngữ 1 | E29: Ngữ Văn | F29: Ngoại ngữ 1 | G29: Ngoại ngữ 1 | H29: Ngoại ngữ 1 | I29: Hóa học | J29: Lịch sử | K29: Địa lí | L29: Công nghệ | M29: Sinh học | N29: Toán | O29: Ngữ Văn | P29: Toán | Q29: GDQP-AN | R29: Hóa học | S29: Ngữ Văn | T29: Địa lí | U29: Lịch sử | V29: Sinh học | W29: Toán | X29: Ngữ Văn | Y29: Toán
B30: 5 | C30: Ngữ Văn | D30: Ngữ Văn | E30: Toán | F30: Ngoại ngữ 1 | G30: Sinh học | H30: Hóa học | I30: Toán | J30: Toán | K30: Sinh học | L30: Lịch sử | M30: Toán | N30: Toán | O30: Ngữ Văn | P30: Lịch sử | Q30: Công nghệ | R30: Toán | S30: Ngữ Văn | T30: Hóa học | U30: Ngoại ngữ 1 | V30: Hóa học | W30: Toán | X30: Ngoại ngữ 1 | Y30: Ngữ Văn
A31: Thứ 7 | B31: 1 | C31: Toán | D31: Hóa học | E31: Ngoại ngữ 1 | F31: Ngữ Văn | G31: Toán | H31: Toán | I31: Hóa học | J31: Vật lí | K31: GDCD | L31: GDQP-AN | M31: Ngữ Văn | N31: Địa lí | O31: Tin học | P31: Vật lí | Q31: Toán | R31: Ngữ Văn | S31: Toán | T31: Sinh học | U31: GDCD | V31: Công nghệ | W31: Ngữ Văn | X31: Ngoại ngữ 1 | Y31: Ngữ Văn
B32: 2 | C32: Ngoại ngữ 1 | D32: Ngữ Văn | E32: Sinh học | F32: Ngoại ngữ 1 | G32: Toán | H32: Ngữ Văn | I32: Ngoại ngữ 1 | J32: Hóa học | K32: Tin học | L32: Toán | M32: Ngữ Văn | N32: Toán | O32: Vật lí | P32: Ngữ Văn | Q32: Ngữ Văn | R32: Ngữ Văn | S32: Toán | T32: GDCD | U32: Địa lí | V32: Vật lí | W32: Ngữ Văn | X32: Công nghệ | Y32: Ngữ Văn
B33: 3 | C33: Ngoại ngữ 1 | D33: Ngữ Văn | E33: Hóa học | F33: Toán | G33: Vật lí | H33: Ngữ Văn | I33: Ngữ Văn | J33: GDCD | K33: Toán | L33: Toán | M33: Toán | N33: Hóa học | O33: Ngoại ngữ 1 | P33: Hóa học | Q33: Ngữ Văn | R33: GDCD | S33: Ngữ Văn | T33: Toán | U33: Ngữ Văn | V33: Địa lí | W33: Công nghệ | X33: Toán | Y33: Ngoại ngữ 1
B34: 4 | C34: Vật lí | D34: Sinh học | E34: Toán | F34: Toán | G34: Hóa học | H34: Tin học | I34: Toán | J34: Ngữ Văn | K34: Toán | L34: Hóa học | M34: Vật lí | N34: GDCD | O34: Toán | P34: Toán | Q34: Toán | R34: Sinh học | S34: Ngoại ngữ 1 | T34: Toán | U34: Ngoại ngữ 1 | V34: Công nghệ | W34: Địa lí | X34: Ngữ Văn | Y34: Toán
B35: 5 | C35: Sinh hoạt | D35: Sinh hoạt | E35: Sinh hoạt | F35: Sinh hoạt | G35: Sinh hoạt | H35: Sinh hoạt | I35: Sinh hoạt | J35: Sinh hoạt | K35: Sinh hoạt | L35: Sinh hoạt | M35: Sinh hoạt | N35: Sinh hoạt | O35: Sinh hoạt | P35: Sinh hoạt | Q35: Sinh hoạt | R35: Sinh hoạt | S35: Sinh hoạt | T35: Sinh hoạt | U35: Sinh hoạt | V35: Sinh hoạt | W35: Sinh hoạt | X35: Sinh hoạt | Y35: Sinh hoạt

Sheet Lop_C
A1: =TKBGV_C!A1 -> BUỔI CHIỀU | E1: =Lop_S!E1 -> THỜI KHÓA BIỂU HK2 2021 -2022 (CHÍNH THỨC - LẦN 01)
A2: =TKBGV_C!A2 -> Bắt đầu từ: 12h45 | E2: =Lop_S!E2 -> Thực hiện từ ngày: 17/01/2022
A5: Ngày | B5: Tiết | C5: 10A1 | D5: 10A2 | E5: 10A3 | F5: 10A4 | G5: 10A5 | H5: 10A6 | I5: 10A7 | J5: 10A8 | K5: 10D1 | L5: 10D2 | M5: 10D3 | N5: 10D4 | O5: 10D5 | P5: 10D6 | Q5: 10D7 | R5: 11D5 | S5: 11D6 | T5: 11D7 | U5: 11D8 | V5: 11D9
A6: Thứ 2 | B6: 1 | C6: Tin học | D6: Toán | E6: Toán | F6: Công nghệ | G6: Ngữ Văn | H6: Vật lí | I6: Ngữ Văn | J6: Vật lí | K6: Lịch sử | L6: Toán | M6: Ngoại ngữ 1 | N6: Hóa học | O6: Lịch sử | P6: Vật lí | Q6: Ngoại ngữ 1 | R6: Vật lí | S6: Vật lí | T6: Ngoại ngữ 1 | U6: Toán | V6: Hóa học
B7: 2 | C7: Tin học | D7: Toán | E7: Sinh học | F7: Vật lí | G7: Ngữ Văn | H7: Hóa học | I7: Công nghệ | J7: Ngoại ngữ 1 | K7: Hóa học | L7: Hóa học | M7: Lịch sử | N7: Địa lí | O7: Ngoại ngữ 1 | P7: Toán | Q7: Lịch sử | R7: Ngoại ngữ 1 | S7: Ngoại ngữ 1 | T7: Toán | U7: Địa lí | V7: Công nghệ
B8: 3 | C8: Vật lí | D8: GDCD | E8: Lịch sử | F8: Vật lí | G8: Sinh học | H8: Tin học | I8: Lịch sử | J8: Ngoại ngữ 1 | K8: Ngữ Văn | L8: Ngoại ngữ 1 | M8: Ngữ Văn | N8: Lịch sử | O8: Hóa học | P8: Công nghệ | Q8: Ngữ Văn | R8: Lịch sử | S8: Công nghệ | T8: Ngoại ngữ 1 | U8: Ngoại ngữ 1 | V8: Địa lí
B9: 4 | C9: Ngoại ngữ 1 | D9: Ngữ Văn | E9: Công nghệ | F9: Ngoại ngữ 1 | G9: Địa lí | H9: Lịch sử | I9: Toán | J9: Ngữ Văn | K9: Ngữ Văn | L9: Ngoại ngữ 1 | M9: Ngữ Văn | N9: Vật lí | O9: Ngoại ngữ 1 | P9: Ngoại ngữ 1 | Q9: Ngữ Văn | R9: Sinh học | S9: Ngữ Văn | T9: Hóa học | U9: GDCD | V9: Ngữ Văn
B10: 5 | C10: Chào cờ | D10: Chào cờ | E10: Chào cờ | F10: Chào cờ | G10: Chào cờ | H10: Chào cờ | I10: Chào cờ | J10: Chào cờ | K10: Chào cờ | L10: Chào cờ | M10: Chào cờ | N10: Chào cờ | O10: Chào cờ | P10: Chào cờ | Q10: Chào cờ | R10: Chào cờ | S10: Chào cờ | T10: Chào cờ | U10: Chào cờ | V10: Chào cờ
A11: Thứ 3 | B11: 1 | C11: Vật lí | D11: Tin học | E11: Ngữ Văn | F11: Ngữ Văn | G11: Vật lí | H11: Vật lí | I11: Tin học | J11: Ngoại ngữ 1 | K11: Toán | L11: Tin học | M11: Sinh học | N11: Công nghệ | O11: Ngữ Văn | P11: Công nghệ | Q11: Hóa học | R11: Ngữ Văn | S11: Toán | T11: Ngữ Văn | U11: Toán | V11: Toán
B12: 2 | C12: Lịch sử | D12: Tin học | E12: Ngữ Văn | F12: Công nghệ | G12: Vật lí | H12: Vật lí | I12: Tin học | J12: Vật lí | K12: Toán | L12: Tin học | M12: Vật lí | N12: Ngoại ngữ 1 | O12: Công nghệ | P12: Hóa học | Q12: Ngoại ngữ 1 | R12: Hóa học | S12: Công nghệ | T12: Ngữ Văn | U12: Toán | V12: Ngữ Văn
B13: 3 | C13: Ngoại ngữ 1 | D13: Ngoại ngữ 1 | E13: Vật lí | F13: GDCD | G13: Công nghệ | H13: Tin học | I13: Toán | J13: Lịch sử | K13: Công nghệ | L13: Ngữ Văn | M13: Lịch sử | N13: Hóa học | O13: Toán | P13: Ngoại ngữ 1 | Q13: Địa lí | R13: Vật lí | S13: Sinh học | T13: Vật lí | U13: Công nghệ | V13: Ngữ Văn
B14: 4 | C14: Toán | D14: Địa lí | E14: Hóa học | F14: Vật lí | G14: Ngữ Văn | H14: Ngoại ngữ 1 | I14: Lịch sử | J14: Tin học | K14: Ngữ Văn | L14: Ngữ Văn | M14: Tin học | N14: Lịch sử | O14: Vật lí | P14: Ngữ Văn | Q14: Vật lí | R14: Công nghệ | S14: Ngoại ngữ 1 | T14: Sinh học | U14: Ngoại ngữ 1 | V14: Vật lí
B15: 5 | C15: Toán | D15: Vật lí | E15: Công nghệ | F15: Lịch sử | G15: Lịch sử | H15: Ngoại ngữ 1 | I15: GDCD | J15: Tin học | K15: Ngữ Văn | L15: Ngoại ngữ 1 | M15: Tin học | N15: Ngữ Văn | O15: Toán | P15: Ngoại ngữ 1 | Q15: Hóa học | R15: Toán | S15: Hóa học | T15: Địa lí | U15: Vật lí | V15: Sinh học
A16: Thứ 4 | B16: 1 | C16: Công nghệ | D16: Ngoại ngữ 1 | E16: Ngoại ngữ 1 | F16: Sinh học | G16: Hóa học | H16: Ngữ Văn | I16: Ngữ Văn | J16: Ngoại ngữ 1 | K16: Toán | L16: Toán | M16: Công nghệ | N16: Toán | O16: Sinh học | P16: Vật lí | Q16: Ngữ Văn | R16: Toán | S16: Hóa học | T16: Công nghệ | U16: Ngoại ngữ 1 | V16: Vật lí
B17: 2 | C17: Toán | D17: Toán | E17: Ngoại ngữ 1 | F17: Hóa học | G17: Công nghệ | H17: Ngữ Văn | I17: Ngữ Văn | J17: Sinh học | K17: Toán | L17: Vật lí | M17: Hóa học | N17: Toán | O17: Công nghệ | P17: Hóa học | Q17: Ngoại ngữ 1 | R17: Ngoại ngữ 1 | S17: Sinh học | T17: Toán | U17: Công nghệ | V17: Ngoại ngữ 1
B18: 3 | C18: Lý_TB | D18: Lý_TB | E18: Lý_TB | F18: Lý_TB | G18: Lý_TB | H18: Lý_TB | J18: Lý_TB | K18: Văn_TB | L18: Văn_TB | M18: Văn_TB | N18: Văn_TB | O18: Văn_TB | R18: Văn_TB | S18: Văn_TB | T18: Văn_TB | V18: Văn_TB
B19: 4 | C19: Lý_TB | D19: Lý_TB | E19: Lý_TB | F19: Lý_TB | G19: Lý_TB | H19: Lý_TB | J19: Lý_TB | K19: Văn_TB | L19: Văn_TB | M19: Văn_TB | N19: Văn_TB | O19: Văn_TB | R19: Văn_TB | S19: Văn_TB | T19: Văn_TB | V19: Văn_TB
B20: 5 | C20: Lý_TB | D20: Lý_TB | E20: Lý_TB | F20: Lý_TB | G20: Lý_TB | H20: Lý_TB | J20: Lý_TB | K20: Văn_TB | L20: Văn_TB | M20: Văn_TB | N20: Văn_TB | O20: Văn_TB | R20: Văn_TB | S20: Văn_TB | T20: Văn_TB | V20: Văn_TB
A21: Thứ 5 | B21: 1 | C21: Ngoại ngữ 1 | D21: Vật lí | E21: Ngữ Văn | F21: Ngoại ngữ 1 | G21: Vật lí | H21: Công nghệ | I21: Hóa học | J21: Vật lí | K21: Tin học | L21: Toán | M21: Ngoại ngữ 1 | N21: Ngữ Văn | O21: Hóa học | P21: Lịch sử | Q21: Toán | R21: Toán | S21: Ngoại ngữ 1 | T21: Ngữ Văn | U21: Ngoại ngữ 1 | V21: Ngoại ngữ 1
B22: 2 | C22: Ngoại ngữ 1 | D22: Lịch sử | E22: Vật lí | F22: Ngoại ngữ 1 | G22: Tin học | H22: Hóa học | I22: Địa lí | J22: Công nghệ | K22: Vật lí | L22: Ngoại ngữ 1 | M22: Công nghệ | N22: Ngữ Văn | O22: Tin học | P22: Toán | Q22: Toán | R22: Hóa học | S22: Vật lí | T22: Ngữ Văn | U22: Ngữ Văn | V22: GDQP-AN
B23: 3 | C23: Hóa học | D23: Ngoại ngữ 1 | E23: Lịch sử | F23: Toán | G23: Tin học | H23: Ngoại ngữ 1 | I23: Ngoại ngữ 1 | J23: Ngữ Văn | K23: Sinh học | L23: Hóa học | M23: Ngoại ngữ 1 | N23: Tin học | O23: Địa lí | P23: Ngữ Văn | Q23: GDCD | R23: Ngoại ngữ 1 | S23: GDQP-AN | T23: Lịch sử | U23: Ngữ Văn | V23: Hóa học
B24: 4 | C24: Vật lí | D24: Hóa học | E24: Ngoại ngữ 1 | F24: Toán | G24: Ngoại ngữ 1 | H24: Ngoại ngữ 1 | I24: Công nghệ | J24: Ngữ Văn | K24: Hóa học | L24: Lịch sử | M24: Ngữ Văn | N24: Tin học | O24: Ngoại ngữ 1 | P24: Ngữ Văn | Q24: Sinh học | R24: Ngoại ngữ 1 | S24: Toán | T24: Ngoại ngữ 1 | U24: Toán | V24: Lịch sử
B25: 5 | C25: Lịch sử | D25: Công nghệ | E25: Ngoại ngữ 1 | F25: Lịch sử | G25: Toán | H25: Ngữ Văn | I25: Ngoại ngữ 1 | J25: Hóa học | K25: Tin học | L25: Công nghệ | M25: Ngữ Văn | N25: Vật lí | O25: Tin học | P25: GDCD | Q25: Ngoại ngữ 1 | R25: Toán | S25: Ngữ Văn | T25: Ngoại ngữ 1 | U25: Hóa học | V25: Địa lí
A26: Thứ 6 | B26: 1 | C26: Công nghệ | D26: Vật lí | E26: Địa lí | F26: Địa lí | G26: Ngoại ngữ 1 | H26: Toán | I26: Hóa học | J26: Toán | K26: Vật lí | L26: GDCD | M26: Ngoại ngữ 1 | N26: Ngoại ngữ 1 | O26: Ngữ Văn | P26: Sinh học | Q26: Vật lí | R26: Toán | S26: GDCD | T26: GDQP-AN | U26: Lịch sử | V26: Toán
B27: 2 | C27: Toán | D27: Toán | E27: Tin học | F27: Hóa học | G27: Ngoại ngữ 1 | H27: Toán | I27: Vật lí | J27: Lịch sử | K27: Ngoại ngữ 1 | L27: Công nghệ | M27: Hóa học | N27: Sinh học | O27: Ngữ Văn | P27: Ngữ Văn | Q27: Công nghệ | R27: Địa lí | S27: Toán | T27: Vật lí | U27: GDQP-AN | V27: Công nghệ
B28: 3 | C28: Sinh học | D28: Ngữ Văn | E28: Tin học | F28: Ngoại ngữ 1 | G28: Lịch sử | H28: GDCD | I28: Toán | J28: Toán | K28: Ngoại ngữ 1 | L28: Địa lí | M28: Vật lí | N28: Toán | O28: Toán | P28: Lịch sử | Q28: Toán | R28: Công nghệ | S28: Địa lí | T28: Hóa học | U28: Vật lí | V28: GDCD
B29: 4 | C29: Ngữ Văn | D29: Ngữ Văn | E29: Toán | F29: Tin học | G29: Toán | H29: Công nghệ | I29: Ngoại ngữ 1 | J29: Địa lí | K29: GDCD | L29: Vật lí | M29: Toán | N29: Công nghệ | O29: Lịch sử | P29: Toán | Q29: Toán | R29: GDQP-AN | S29: Lịch sử | T29: GDCD | U29: Sinh học | V29: Ngoại ngữ 1
B30: 5 | C30: Ngữ Văn | D30: Công nghệ | E30: Toán | F30: Tin học | G30: Toán | H30: Lịch sử | I30: Sinh học | J30: GDCD | K30: Công nghệ | L30: Sinh học | M30: Toán | N30: Toán | O30: Toán | P30: Toán | Q30: Lịch sử | R30: GDCD | S30: Toán | T30: Công nghệ | U30: Hóa học | V30: Ngoại ngữ 1
A31: Thứ 7 | B31: 1 | C31: Địa lí | D31: Ngoại ngữ 1 | E31: Toán | F31: Toán | G31: Ngoại ngữ 1 | H31: Toán | I31: Vật lí | J31: Hóa học | K31: Lịch sử | L31: Ngữ Văn | M31: Toán | N31: GDCD | O31: Ngoại ngữ 1 | P31: Tin học | Q31: Công nghệ | R31: Sinh học | S31: Địa lí | T31: Toán | U31: Ngữ Văn | V31: Toán
B32: 2 | C32: GDCD | D32: Lịch sử | E32: Hóa học | F32: Toán | G32: Hóa học | H32: Toán | I32: Ngoại ngữ 1 | J32: Công nghệ | K32: Ngoại ngữ 1 | L32: Toán | M32: GDCD | N32: Ngoại ngữ 1 | O32: Ngữ Văn | P32: Tin học | Q32: Ngữ Văn | R32: Địa lí | S32: Ngữ Văn | T32: Sinh học | U32: Toán | V32: Toán
B33: 3 | C33: Ngữ Văn | D33: Hóa học | E33: GDCD | F33: Ngữ Văn | G33: GDCD | H33: Sinh học | I33: Toán | J33: Toán | K33: Địa lí | L33: Ngữ Văn | M33: Toán | N33: Ngoại ngữ 1 | O33: Vật lí | P33: Địa lí | Q33: Tin học | R33: Ngữ Văn | S33: Ngữ Văn | T33: Toán | U33: Địa lí | V33: Sinh học
B34: 4 | C34: Hóa học | D34: Sinh học | E34: Vật lí | F34: Ngữ Văn | G34: Toán | H34: Địa lí | I34: Toán | J34: Toán | K34: Ngoại ngữ 1 | L34: Lịch sử | M34: Địa lí | N34: Ngữ Văn | O34: GDCD | P34: Ngoại ngữ 1 | Q34: Tin học | R34: Ngữ Văn | S34: Ngoại ngữ 1 | T34: Địa lí | U34: Sinh học | V34: Ngữ Văn
B35: 5 | C35: Sinh hoạt | D35: Sinh hoạt | E35: Sinh hoạt | F35: Sinh hoạt | G35: Sinh hoạt | H35: Sinh hoạt | I35: Sinh hoạt | J35: Sinh hoạt | K35: Sinh hoạt | L35: Sinh hoạt | M35: Sinh hoạt | N35: Sinh hoạt | O35: Sinh hoạt | P35: Sinh hoạt | Q35: Sinh hoạt | R35: Sinh hoạt | S35: Sinh hoạt | T35: Sinh hoạt | U35: Sinh hoạt | V35: Sinh hoạt

Sheet LOP_TB_S
A1: =Lop_S!A1 -> BUỔI SÁNG | E1: =Lop_S!E1 -> THỜI KHÓA BIỂU HK2 2021 -2022 (CHÍNH THỨC - LẦN 01)
A2: =Lop_S!A2 -> Bắt đầu từ: 7h15' | E2: =Lop_S!E2 -> Thực hiện từ ngày: 17/01/2022
E3: THỜI KHÓA BIỂU TRÁI BUỔI
A5: Ngày | B5: Tiết | C5: 10A1 | D5: 10A2 | E5: 10A3 | F5: 10A4 | G5: 10A5 | H5: 10A6 | I5: 10A7 | J5: 10A8 | K5: 10D1 | L5: 10D2 | M5: 10D3 | N5: 10D4 | O5: 10D5 | P5: 10D6 | Q5: 10D7 | R5: 11D5 | S5: 11D6 | T5: 11D7 | U5: 11D8 | V5: 11D9
A6: Thứ 2 | B6: 1 | H6: Thể dục | R6: Thể dục | T6: Tin học | U6: Thể dục
B7: 2 | E7: Toán_TB | F7: Anh_TB | H7: Thể dục | K7: Toán_TB | L7: Toán_TB | M7: Toán_TB | R7: Thể dục | S7: Toán_TB | T7: Tin học | U7: Thể dục | V7: Anh_TB
B8: 3 | E8: Toán_TB | F8: Anh_TB | G8: Thể dục | K8: Toán_TB | L8: Toán_TB | M8: Toán_TB | Q8: Thể dục | R8: Tin học | S8: Toán_TB | T8: Thể dục | U8: Tin học | V8: Anh_TB
B9: 4 | E9: Toán_TB | F9: Anh_TB | G9: Thể dục | K9: Toán_TB | L9: Toán_TB | M9: Toán_TB | Q9: Thể dục | R9: Tin học | S9: Toán_TB | T9: Thể dục | U9: Tin học | V9: Anh_TB
B10: 5
A11: Thứ 3 | B11: 1 | E11: Anh_TB | I11: Lý_TB | L11: Thể dục | N11: Toán_TB | P11: Toán_TB | R11: Anh_TB | S11: Anh_TB | U11: Văn_TB
B12: 2 | C12: GDQP-AN | E12: Anh_TB | I12: Lý_TB | L12: Thể dục | N12: Toán_TB | P12: Toán_TB | R12: Anh_TB | S12: Anh_TB | U12: Văn_TB
B13: 3 | C13: Thể dục | E13: Anh_TB | I13: Lý_TB | L13: GDQP-AN | N13: Toán_TB | P13: Toán_TB | R13: Anh_TB | S13: Anh_TB | U13: Văn_TB
B14: 4 | C14: Thể dục | N14: GDQP-AN
B15: 5
A16: Thứ 4 | B16: 1 | H16: Toán_TB | I16: Toán_TB | J16: Anh_TB | M16: Anh_TB | N16: Anh_TB | O16: Toán_TB | P16: Anh_TB
B17: 2 | H17: Toán_TB | I17: Toán_TB | J17: Anh_TB | M17: Anh_TB | N17: Anh_TB | O17: Toán_TB | P17: Anh_TB
B18: 3 | H18: Toán_TB | I18: Toán_TB | J18: Anh_TB | M18: Anh_TB | N18: Anh_TB | O18: Toán_TB | P18: Anh_TB
B19: 4
B20: 5
A21: Thứ 5 | B21: 1 | D21: Toán_TB | E21: Thể dục | G21: Hóa_TB | J21: Toán_TB | K21: Anh_TB | P21: Thể dục | Q21: Anh_TB | T21: Toán_TB | U21: Anh_TB | V21: Thể dục
B22: 2 | D22: Toán_TB | E22: Thể dục | F22: GDQP-AN | G22: Hóa_TB | J22: Toán_TB | K22: Anh_TB | P22: Thể dục | Q22: Anh_TB | T22: Toán_TB | U22: Anh_TB | V22: Thể dục
B23: 3 | D23: Toán_TB | E23: GDQP-AN | F23: Thể dục | G23: Hóa_TB | J23: Toán_TB | K23: Anh_TB | N23: Thể dục | Q23: Anh_TB | T23: Toán_TB | U23: Anh_TB | V23: Tin học
B24: 4 | F24: Thể dục | N24: Thể dục | V24: Tin học
B25: 5
A26: Thứ 6 | B26: 1 | C26: Toán_TB | D26: Anh_TB | F26: Toán_TB | H26: Hóa_TB | I26: Thể dục | K26: Thể dục | O26: Anh_TB | P26: Văn_TB | Q26: GDQP-AN | R26: Toán_TB | V26: Toán_TB
B27: 2 | C27: Toán_TB | D27: Anh_TB | F27: Toán_TB | H27: Hóa_TB | I27: Thể dục | K27: Thể dục | M27: GDQP-AN | O27: Anh_TB | P27: Văn_TB | Q27: Văn_TB | R27: Toán_TB | V27: Toán_TB
B28: 3 | C28: Toán_TB | D28: Anh_TB | F28: Toán_TB | H28: Hóa_TB | I28: GDQP-AN | K28: GDQP-AN | M28: Thể dục | O28: Anh_TB | P28: Văn_TB | Q28: Văn_TB | R28: Toán_TB | V28: Toán_TB
B29: 4 | H29: GDQP-AN | M29: Thể dục | P29: GDQP-AN | Q29: Văn_TB
B30: 5
A31: Thứ 7 | B31: 1 | C31: Hóa_TB | G31: Toán_TB | I31: Anh_TB | J31: Thể dục | L31: Anh_TB | O31: Thể dục | Q31: Toán_TB | S31: Thể dục | T31: Anh_TB | U31: Toán_TB
B32: 2 | C32: Hóa_TB | D32: GDQP-AN | G32: Toán_TB | I32: Anh_TB | J32: Thể dục | L32: Anh_TB | O32: Thể dục | Q32: Toán_TB | S32: Thể dục | T32: Anh_TB | U32: Toán_TB
B33: 3 | C33: Hóa_TB | D33: Thể dục | G33: Toán_TB | I33: Anh_TB | J33: GDQP-AN | L33: Anh_TB | O33: GDQP-AN | Q33: Toán_TB | S33: Tin học | T33: Anh_TB | U33: Toán_TB
B34: 4 | D34: Thể dục | G34: GDQP-AN | S34: Tin học
B35: 5
A36: CN

Sheet LOP_TB_C
A1: =Lop_C!A1 -> BUỔI CHIỀU | E1: =TKBGV_C!E1 -> THỜI KHÓA BIỂU HK2 2021 -2022 (CHÍNH THỨC - LẦN 01)
A2: =Lop_C!A2 -> Bắt đầu từ: 12h45 | E2: =TKBGV_C!K2 -> Thực hiện từ ngày: 17/01/2022
E3: =LOP_TB_S!$E$3 -> THỜI KHÓA BIỂU TRÁI BUỔI
A5: Chiều thứ 4 các lớp Khối chiều học trái buổi tại phòng của lớp mình(Nếu học trực tiếp)
A6: Ngày | B6: Tiết | C6: 12A | D6: 12B | E6: 12C | F6: 12D | G6: 12E | H6: 12G | I6: 12H | J6: 12I | K6: 12K | L6: 12M | M6: 12N | N6: 12P | O6: 12Q | P6: 11A1 | Q6: 11A2 | R6: 11A3 | S6: 11A4 | T6: 11A5 | U6: 11A6 | V6: 11D1 | W6: 11D2 | X6: 11D3 | Y6: 11D4
A7: Thứ 2 | B7: 1
B8: 2 | D8: Lý_TB | G8: Văn_TB | I8: Toán_TB | J8: Thể dục | K8: Anh_TB | L8: Toán_TB | M8: Hóa_TB | O8: Toán_TB | P8: Thể dục | S8: Lý_TB | T8: Thể dục | U8: Tin học | X8: Tin học
B9: 3 | D9: Lý_TB | G9: Văn_TB | I9: Toán_TB | J9: Thể dục | K9: Anh_TB | L9: Toán_TB | M9: Hóa_TB | O9: Toán_TB | P9: Thể dục | S9: Lý_TB | T9: Thể dục | U9: Tin học | X9: Tin học
B10: 4 | D10: Lý_TB | E10: Thể dục | G10: Văn_TB | I10: Toán_TB | K10: Anh_TB | L10: Toán_TB | M10: Hóa_TB | O10: Toán_TB | P10: Tin học | S10: Lý_TB | T10: Tin học | U10: Thể dục | X10: Thể dục
B11: 5 | E11: Thể dục | P11: Tin học | T11: Tin học | U11: Thể dục | X11: Thể dục
A12: Thứ 3 | B12: 1
B13: 2 | F13: Thể dục | Q13: Tin học | W13: Thể dục
B14: 3 | C14: Toán_TB | E14: Lý_TB | F14: Thể dục | H14: Văn_TB | I14: Anh_TB | K14: Văn_TB | N14: Lý_TB | P14: Toán_TB | Q14: Tin học | R14: Toán_TB | S14: Toán_TB | W14: Thể dục | X14: Văn_TB | Y14: Toán_TB
B15: 4 | C15: Toán_TB | E15: Lý_TB | H15: Văn_TB | I15: Anh_TB | K15: Văn_TB | N15: Lý_TB | P15: Toán_TB | Q15: Thể dục | R15: Toán_TB | S15: Toán_TB | W15: Tin học | X15: Văn_TB | Y15: Toán_TB
B16: 5 | C16: Toán_TB | E16: Lý_TB | H16: Văn_TB | I16: Anh_TB | K16: Văn_TB | N16: Lý_TB | P16: Toán_TB | Q16: Thể dục | R16: Toán_TB | S16: Toán_TB | W16: Tin học | X16: Văn_TB | Y16: Toán_TB
A17: Thứ 4 | B17: 1
B18: 2 | C18: Thể dục | L18: Thể dục | R18: Tin học | S18: Thể dục
B19: 3 | C19: Thể dục | L19: Thể dục | R19: Tin học | S19: Thể dục | Y19: Văn_TB
B20: 4 | G20: Thể dục | N20: Thể dục | R20: Thể dục | S20: Tin học | Y20: Văn_TB
B21: 5 | G21: Thể dục | N21: Thể dục | R21: Thể dục | S21: Tin học | Y21: Văn_TB
A22: Thứ 5 | B22: 1
B23: 2 | K23: Thể dục | V23: Thể dục | Y23: Tin học
B24: 3 | D24: Hóa_TB | G24: Anh_TB | I24: Văn_TB | J24: Văn_TB | K24: Thể dục | M24: Lý_TB | N24: Toán_TB | O24: Lý_TB | U24: Lý_TB | V24: Thể dục | W24: Toán_TB | Y24: Tin học
B25: 4 | D25: Hóa_TB | G25: Anh_TB | H25: Thể dục | I25: Văn_TB | J25: Văn_TB | M25: Lý_TB | N25: Toán_TB | O25: Lý_TB | U25: Lý_TB | V25: Tin học | W25: Toán_TB | Y25: Thể dục
B26: 5 | D26: Hóa_TB | G26: Anh_TB | H26: Thể dục | I26: Văn_TB | J26: Văn_TB | M26: Lý_TB | N26: Toán_TB | O26: Lý_TB | U26: Lý_TB | V26: Tin học | W26: Toán_TB | Y26: Thể dục
A27: Thứ 6 | B27: 1
B28: 2 | D28: Thể dục | M28: Thể dục
B29: 3 | D29: Thể dục | F29: Văn_TB | J29: Anh_TB | L29: Văn_TB | M29: Thể dục | P29: Lý_TB | Q29: Hóa_TB | R29: Lý_TB | T29: Toán_TB | U29: Anh_TB | V29: Toán_TB | W29: Văn_TB | X29: Toán_TB | Y29: Anh_TB
B30: 4 | F30: Văn_TB | I30: Thể dục | J30: Anh_TB | L30: Văn_TB | O30: Thể dục | P30: Lý_TB | Q30: Hóa_TB | R30: Lý_TB | T30: Toán_TB | U30: Anh_TB | V30: Toán_TB | W30: Văn_TB | X30: Toán_TB | Y30: Anh_TB
B31: 5 | F31: Văn_TB | I31: Thể dục | J31: Anh_TB | L31: Văn_TB | O31: Thể dục | P31: Lý_TB | Q31: Hóa_TB | R31: Lý_TB | T31: Toán_TB | U31: Anh_TB | V31: Toán_TB | W31: Văn_TB | X31: Toán_TB | Y31: Anh_TB
A32: Thứ 7 | B32: 1
B33: 2 | T33: Lý_TB | V33: Văn_TB
B34: 3 | C34: Lý_TB | E34: Hóa_TB | F34: Anh_TB | H34: Toán_TB | Q34: Lý_TB | R34: Anh_TB | T34: Lý_TB | V34: Văn_TB
B35: 4 | C35: Lý_TB | E35: Hóa_TB | F35: Anh_TB | H35: Toán_TB | Q35: Lý_TB | R35: Anh_TB | T35: Lý_TB | V35: Văn_TB
B36: 5 | C36: Lý_TB | E36: Hóa_TB | F36: Anh_TB | H36: Toán_TB | Q36: Lý_TB | R36: Anh_TB

Sheet TKB 2B-GV
E1: THỜI KHÓA BIỂU HK2 2021 -2022 (CHÍNH THỨC - LẦN 01) -2 Buổi S/C-GV
E2: Thực hiện từ ngày: 17/01/2022
A4: Ngày | B4: Tiết | C4: 12A | D4: 12B | E4: 12C | F4: 12D | G4: 12E | H4: 12G | I4: 12H | J4: 12I | K4: 12K | L4: 12M | M4: 12N | N4: 12P | O4: 12Q | P4: 11A1 | Q4: 11A2 | R4: 11A3 | S4: 11A4 | T4: 11A5 | U4: 11A6 | V4: 11D1 | W4: 11D2 | X4: 11D3 | Y4: 11D4 | Z4: 10A1 | AA4: 10A2 | AB4: 10A3 | AC4: 10A4 | AD4: 10A5 | AE4: 10A6 | AF4: 10A7 | AG4: 10A8 | AH4: 10D1 | AI4: 10D2 | AJ4: 10D3 | AK4: 10D4 | AL4: 10D5 | AM4: 10D6 | AN4: 10D7 | AO4: 11D5 | AP4: 11D6 | AQ4: 11D7 | AR4: 11D8 | AS4: 11D9
A5: Thứ 2 | B5: 1 | C5: Vụ_L | D5: Hạnh_H | E5: Ngọ_T | F5: Hiếu_V | G5: Hạnh_V | H5: Hằng_V | I5: Nga_CD | J5: Tuyến_S | K5: Hồng_S | L5: Hoàn_S | M5: Hạnh_L | N5: V.Anh_H | O5: Hảo_H | P5: Len_T | Q5: Hiền | R5: Sâm_A | S5: Mẫn_A | T5: Hồng | U5: Cường | V5: Nga_A | W5: Thủy_V | X5: Tuyến_V | Y5: Nhung_V | AE5: Linh_TD | AO5: L.Anh_TD | AQ5: Hải | AR5: Trưởng
B6: 2 | C6: Hảo_H | D6: Hồng_A | E6: Sâm_A | F6: Hiếu_V | G6: Hạnh_V | H6: Hoàn_S | I6: Hồng | J6: Tuyến_S | K6: Nghị_KT | L6: T.Hương_V | M6: Hạnh_H | N6: Vụ_L | O6: Dũng_KT | P6: Huyền_A | Q6: Hạnh_L | R6: Hằng_Đ | S6: V.Anh_H | T6: Hồng_S | U6: Cường | V6: Đ.Hương_V | W6: Nguyệt_H | X6: Ngọ_T | Y6: Nhung_V | AB6: Huế_T | AC6: A.My_A | AE6: Linh_TD | AH6: Len_T | AI6: Hằng_T | AJ6: Hoa_T | AO6: L.Anh_TD | AP6: Thương_T | AQ6: Hải | AR6: Trưởng | AS6: Khanh_A
B7: 3 | C7: Tuyến_V | D7: Nga_CD | E7: Sâm_A | F7: Hiếu_V | G7: Hảo_H | H7: Hằng_V | I7: Hồng_A | J7: Mẫn_A | K7: Quang_T | L7: T.Hương_V | M7: Hạnh_L | N7: Dũng_KT | O7: Nga_A | P7: Mạnh_QP | Q7: Châm | R7: Hồng_S | S7: Thủy_V | T7: Hải_L | U7: Nguyệt_H | V7: Đ.Hương_V | W7: Nghị_KT | X7: Ngọ_T | Y7: V.Anh_H | AB7: Huế_T | AC7: A.My_A | AD7: Linh_TD | AH7: Len_T | AI7: Hằng_T | AJ7: Hoa_T | AN7: L.Anh_TD | AO7: Hiền | AP7: Thương_T | AQ7: Trưởng | AR7: Hải | AS7: Khanh_A
B8: 4 | C8: Quang_T | D8: Hiếu_V | E8: Nhung_V | F8: V.Anh_H | G8: Hằng_Đ | H8: Hằng_V | I8: Tuyến_S | J8: Mẫn_A | K8: Hạnh_H | L8: Hoàn_S | M8: Tuyến_V | N8: C.Hương_V | O8: Nga_A | P8: Sâm_V | Q8: Châm | R8: Dũng_KT | S8: Cường | T8: Thủy_A | U8: Nghị_KT | V8: Mạnh_QP | W8: Huyền_A | X8: Hải_L | Y8: Hồng_A | AB8: Huế_T | AC8: A.My_A | AD8: Linh_TD | AH8: Len_T | AI8: Hằng_T | AJ8: Hoa_T | AN8: L.Anh_TD | AO8: Hiền | AP8: Thương_T | AQ8: Trưởng | AR8: Hải | AS8: Khanh_A
B9: 5 | C9: Quang_T | D9: Hạnh_H | E9: Ngọ_T | F9: Mạnh_QP | G9: Nghị_KT | H9: V.Anh_H | I9: Nhung_V | J9: Thương_T | K9: Hiếu_V | L9: Khanh_A | M9: Len_T | N9: C.Hương_V | O9: Hảo_H | P9: Sâm_V | Q9: Hằng_Đ | R9: Hoa_T | S9: Hồng_S | T9: Thủy_A | U9: Cường | V9: Nga_A | W9: Huyền_A | X9: Tuyến_V | Y9: Hồng_A
B10: 1 | Z10: Thịnh | AA10: Quang_T | AB10: Huế_T | AC10: Nội_CN | AD10: Huyền_V | AE10: Sỹ_L | AF10: Hạnh_V | AG10: Thủy_L | AH10: Thủy_V | AI10: Hằng_T | AJ10: Oanh_A | AK10: Quang_H | AL10: Hợp_Su | AM10: Hà_L | AN10: ThùyAnh | AO10: Hải_L | AP10: Vụ_L | AQ10: Châm | AR10: Dũng_T | AS10: Lương_H
B11: 2 | D11: Hà_L | G11: Hạnh_V | J11: Lẫy_TD | K11: Mẫn_A | L11: Hoa_T | M11: Hạnh_H | O11: Huế_T | P11: Hùng_TD | S11: Sỹ_L | T11: Trưởng | U11: Hồng | X11: Hiền | Z11: Thịnh | AA11: Quang_T | AB11: Hồng_S | AC11: Hải_L | AD11: Huyền_V | AE11: Nguyệt_H | AF11: Nội_CN | AG11: ThùyAnh | AH11: Lương_H | AI11: Quang_H | AJ11: Linh_Su | AK11: Phương_Đ | AL11: Oanh_A | AM11: Dũng_T | AN11: Mai_S | AO11: Thủy_A | AP11: Huyền_A | AQ11: Hằng_T | AR11: Hường_Đ | AS11: Dũng_KT
B12: 3 | D12: Hà_L | G12: Hạnh_V | J12: Lẫy_TD | K12: Mẫn_A | L12: Hoa_T | M12: Hạnh_H | O12: Huế_T | P12: Hùng_TD | S12: Sỹ_L | T12: Trưởng | U12: Hồng | X12: Hiền | Z12: Vụ_L | AA12: Phượng_CD | AB12: Linh_Su | AC12: Hải_L | AD12: Hồng_S | AE12: Thịnh | AF12: Hợp_Su | AG12: ThùyAnh | AH12: Thủy_V | AI12: Huyền_A | AJ12: Đ.Hương_V | AK12: Mai_S | AL12: Quang_H | AM12: Nội_CN | AN12: Sâm_V | AO12: Yến_Su | AP12: Dũng_KT | AQ12: Châm | AR12: Thủy_A | AS12: Hường_Đ
B13: 4 | D13: Hà_L | E13: Lẫy_TD | G13: Hạnh_V | K13: Mẫn_A | L13: Hoa_T | M13: Hạnh_H | O13: Huế_T | P13: Thịnh | S13: Sỹ_L | T13: Hồng | U13: Trưởng | X13: Hùng_TD | Z13: ThùyAnh | AA13: Hồng_V | AB13: Nội_CN | AC13: A.My_A | AD13: Hiệp_Đ | AE13: Hợp_Su | AF13: Dũng_T | AG13: Huyền_V | AH13: Linh_Su | AI13: Huyền_A | AJ13: Đ.Hương_V | AK13: Vụ_L | AL13: Oanh_A | AM13: Thủy_A | AN13: Sâm_V | AO13: H.Giang_S | AP13: C.Hương_V | AQ13: Quang_H | AR13: Thìn_CD | AS13: T.Hương_V
B14: 5 | E14: Lẫy_TD | P14: Thịnh | T14: Hồng | U14: Trưởng | X14: Hùng_TD | Z14: Nguyệt_H | AA14: Hồng_V | AB14: Hà_L | AC14: A.My_A | AD14: Thủy_T | AE14: H.Giang_S | AF14: Hải_L | AG14: Phương_Đ | AH14: Oanh_A | AI14: Huyền_A | AJ14: Đ.Hương_V | AK14: Phượng_CD | AL14: Hường_Đ | AM14: Thủy_A | AN14: Sâm_V | AO14: Yến_Su | AP14: C.Hương_V | AQ14: Hiệp_Đ | AR14: Thìn_CD | AS14: T.Hương_V
A15: Thứ 3 | B15: 1 | C15: Tuyến_V | D15: Mạnh_QP | E15: Thìn_CD | F15: Dũng_KT | G15: Hạnh_V | H15: Hiệp_Đ | I15: Hồng_A | J15: Hà_L | K15: Mẫn_A | L15: Sỹ_L | M15: Khanh_A | N15: Ng.Anh_QP | O15: T.Hương_V | P15: Len_T | Q15: Mai_S | R15: Sâm_A | S15: Yến_Su | T15: Nghị_KT | U15: H.Giang_S | V15: Đường_T | W15: Thảo_L | X15: Hường_Đ | Y15: Vụ_L | AF15: Hải_L | AI15: L.Anh_TD | AK15: Yến_T | AM15: Dũng_T | AO15: Thủy_A | AP15: Huyền_A | AR15: C.Hương_V
B16: 2 | C16: Tuyến_V | D16: Hà_L | E16: Sâm_A | F16: Hiệp_Đ | G16: Khanh_A | H16: Yến_Su | I16: Hường_Đ | J16: Hạnh_V | K16: Hằng_Đ | L16: Sỹ_L | M16: Len_T | N16: Châm | O16: T.Hương_V | P16: Dũng_KT | Q16: H.Giang_S | R16: Mai_S | S16: Mẫn_A | T16: Huyền_V | U16: Thảo_L | V16: Đường_T | W16: Mạnh_QP | X16: Nga_CD | Y16: Nghị_KT | Z16: Ng.Anh_QP | AF16: Hải_L | AI16: L.Anh_TD | AK16: Yến_T | AM16: Dũng_T | AO16: Thủy_A | AP16: Huyền_A | AR16: C.Hương_V
B17: 3 | C17: Sâm_A | D17: Hồng_A | E17: Hằng_Đ | F17: Thủy_L | G17: Khanh_A | H17: Thìn_CD | I17: Nga_CD | J17: Thương_T | K17: Mẫn_A | L17: Hoa_T | M17: Mai_S | N17: Vụ_L | O17: Huế_T | P17: H.Giang_S | Q17: Châm | R17: Thảo_L | S17: Mạnh_QP | T17: Huyền_V | U17: Sâm_V | V17: T.Giang_S | W17: Yến_Su | X17: Nghị_KT | Y17: Hiệp_Đ | Z17: Linh_TD | AF17: Hải_L | AI17: Ng.Anh_QP | AK17: Yến_T | AM17: Dũng_T | AO17: Thủy_A | AP17: Huyền_A | AR17: C.Hương_V
B18: 4 | C18: Vụ_L | D18: Đường_T | E18: Thủy_L | F18: Linh_Su | G18: Nga_CD | H18: Châm | I18: Yến_Su | J18: Thương_T | K18: Hà_L | L18: T.Hương_V | M18: Khanh_A | N18: C.Hương_V | O18: Huế_T | P18: Huyền_A | Q18: Dũng_KT | R18: Hoa_T | S18: Sỹ_L | T18: Mạnh_QP | U18: Sâm_V | V18: Thìn_CD | W18: Thìn_T | X18: Hồng_A | Y18: T.Giang_S | Z18: Linh_TD | AK18: Ng.Anh_QP
B19: 5 | C19: Nga_CD | D19: Đường_T | E19: Dũng_KT | F19: Thìn_CD | G19: Huế_T | H19: Châm | I19: Sỹ_L | J19: Ng.Anh_QP | K19: Linh_Su | L19: Hoa_T | M19: Hiệp_Đ | N19: Yến_Su | O19: Hà_L | P19: Sâm_V | Q19: H.Giang_S | R19: Sâm_A | S19: Mẫn_A | T19: Thủy_A | U19: Mạnh_QP | V19: Thủy_L | W19: Hằng_Đ | X19: T.Giang_S | Y19: Hồng_A
B20: 1 | Z20: Vụ_L | AA20: Thịnh | AB20: Hạnh_V | AC20: Hiếu_V | AD20: Thảo_L | AE20: Sỹ_L | AF20: Hồng | AG20: ThùyAnh | AH20: Len_T | AI20: Hải | AJ20: Hoàn_S | AK20: Tuyến_S | AL20: Hằng_V | AM20: Nội_CN | AN20: Hảo_H | AO20: Tuyến_V | AP20: Thương_T | AQ20: Huyền_V | AR20: Dũng_T | AS20: Quang_T
B21: 2 | F21: Lẫy_TD | Q21: Hiền | W21: Hùng_TD | Z21: Linh_Su | AA21: Thịnh | AB21: Hạnh_V | AC21: Nội_CN | AD21: Thảo_L | AE21: Sỹ_L | AF21: Hồng | AG21: Thủy_L | AH21: Len_T | AI21: Hải | AJ21: Hạnh_L | AK21: A.My_A | AL21: Tuyến_S | AM21: Hảo_H | AN21: ThùyAnh | AO21: Quang_H | AP21: Dũng_KT | AQ21: Huyền_V | AR21: Dũng_T | AS21: T.Hương_V
B22: 3 | C22: Quang_T | E22: Thủy_L | F22: Lẫy_TD | H22: Hằng_V | I22: Hồng_A | K22: Hiếu_V | N22: Vụ_L | P22: Len_T | Q22: Hiền | R22: Hoa_T | S22: Cường | W22: Hùng_TD | X22: Tuyến_V | Y22: Thương_T | Z22: ThùyAnh | AA22: A.My_A | AB22: Hà_L | AC22: Nga_CD | AD22: Nội_CN | AE22: Thịnh | AF22: Dũng_T | AG22: Hợp_Su | AH22: Tuyến_S | AI22: Sâm_V | AJ22: Linh_Su | AK22: Quang_H | AL22: Khương_T | AM22: Thủy_A | AN22: Hiệp_Đ | AO22: Hải_L | AP22: Hoàn_S | AQ22: Hạnh_L | AR22: Dũng_KT | AS22: T.Hương_V
B23: 4 | C23: Quang_T | E23: Thủy_L | H23: Hằng_V | I23: Hồng_A | K23: Hiếu_V | N23: Vụ_L | P23: Len_T | Q23: Hùng_TD | R23: Hoa_T | S23: Cường | W23: Thịnh | X23: Tuyến_V | Y23: Thương_T | Z23: Đường_T | AA23: Hiệp_Đ | AB23: Hảo_H | AC23: Hải_L | AD23: Huyền_V | AE23: ThùyAnh | AF23: Hợp_Su | AG23: Hồng | AH23: Thủy_V | AI23: Sâm_V | AJ23: Hải | AK23: Mai_S | AL23: Hà_L | AM23: Hồng_V | AN23: Thảo_L | AO23: Dũng_KT | AP23: Huyền_A | AQ23: Hoàn_S | AR23: Thủy_A | AS23: Sỹ_L
B24: 5 | C24: Quang_T | E24: Thủy_L | H24: Hằng_V | I24: Hồng_A | K24: Hiếu_V | N24: Vụ_L | P24: Len_T | Q24: Hùng_TD | R24: Hoa_T | S24: Cường | W24: Thịnh | X24: Tuyến_V | Y24: Thương_T | Z24: Đường_T | AA24: Hạnh_L | AB24: Nội_CN | AC24: Hợp_Su | AD24: Mai_S | AE24: ThùyAnh | AF24: Nga_CD | AG24: Hồng | AH24: Thủy_V | AI24: Huyền_A | AJ24: Hải | AK24: Hồng_V | AL24: Khương_T | AM24: Thủy_A | AN24: Hảo_H | AO24: Dũng_T | AP24: Quang_H | AQ24: Hiệp_Đ | AR24: Hải_L | AS24: Hoàn_S
A25: Thứ 4 | B25: 1 | C25: Quang_T | D25: Hồng | E25: Thủy_L | F25: Thịnh | G25: Yến_Su | H25: Nghị_KT | I25: Hồng_A | J25: Hạnh_V | K25: Hiếu_V | L25: Hiền | M25: Khanh_A | N25: Hải | O25: Hà_L | P25: Dũng_KT | Q25: Hạnh_L | R25: Thảo_L | S25: Sỹ_L | T25: Cường | U25: Nguyệt_H | V25: Hằng_Đ | W25: Thủy_V | X25: T.Giang_S | Y25: V.Anh_H | AE25: Sơn_T | AF25: Dũng_T | AG25: ThùyAnh | AJ25: Oanh_A | AK25: A.My_A | AL25: Khương_T | AM25: Thủy_A
B26: 2 | C26: Hiền | D26: Hà_L | E26: Thịnh | F26: T.Giang_S | G26: Hồng | H26: Thảo_L | I26: Sỹ_L | J26: Hạnh_V | K26: Ng.Anh_QP | L26: V.Anh_H | M26: Hải | N26: Hằng_T | O26: Huế_T | P26: Thủy_L | Q26: C.Hương_V | R26: Dũng_KT | S26: Nghị_KT | T26: Hải_L | U26: Châm | V26: Yến_Su | W26: Thìn_T | X26: Nguyệt_H | Y26: Vụ_L | AE26: Sơn_T | AF26: Dũng_T | AG26: ThùyAnh | AJ26: Oanh_A | AK26: A.My_A | AL26: Khương_T | AM26: Thủy_A
B27: 3 | C27: Sâm_A | D27: Đường_T | E27: Ngọ_T | F27: Hằng_T | G27: Huế_T | H27: Châm | I27: Thủy_T | J27: Thương_T | K27: Quang_T | L27: Khanh_A | M27: Len_T | N27: V.Anh_H | O27: Hảo_H | P27: Hạnh_H | Q27: Hoa_T | S27: Mẫn_A | T27: Quang_H | U27: Cường | V27: Nga_A | W27: Huyền_A | X27: Hồng_A | AE27: Sơn_T | AF27: Dũng_T | AG27: ThùyAnh | AJ27: Oanh_A | AK27: A.My_A | AL27: Khương_T | AM27: Thủy_A
B28: 4 | C28: Sâm_A | D28: Đường_T | E28: Ngọ_T | F28: Hằng_T | G28: Huế_T | H28: Châm | I28: Thủy_T | J28: Thương_T | K28: Quang_T | L28: Khanh_A | M28: Len_T | N28: V.Anh_H | O28: Hảo_H | P28: Hạnh_H | Q28: Hoa_T | S28: Mẫn_A | T28: Quang_H | U28: Cường | V28: Nga_A | W28: Huyền_A | X28: Hồng_A
B29: 5 | C29: Sâm_A | D29: Đường_T | E29: Ngọ_T | F29: Hằng_T | G29: Huế_T | H29: Châm | I29: Thủy_T | J29: Thương_T | K29: Quang_T | L29: Khanh_A | M29: Len_T | N29: V.Anh_H | O29: Hảo_H | P29: Hạnh_H | Q29: Hoa_T | S29: Mẫn_A | T29: Quang_H | U29: Cường | V29: Nga_A | W29: Huyền_A | X29: Hồng_A
B30: 1 | Z30: Nội_CN | AA30: A.My_A | AB30: P.Lan_A | AC30: T.Giang_S | AD30: Lương_H | AE30: Huyền_V | AF30: Hạnh_V | AG30: ThùyAnh | AH30: Len_T | AI30: Hằng_T | AJ30: Tuyến_S | AK30: Yến_T | AL30: Hồng_S | AM30: Hà_L | AN30: Sâm_V | AO30: Dũng_T | AP30: Quang_H | AQ30: Dũng_KT | AR30: Thủy_A | AS30: Sỹ_L
B31: 2 | C31: Hùng_TD | L31: Lẫy_TD | R31: Hiền | S31: Trưởng | Z31: Đường_T | AA31: Quang_T | AB31: P.Lan_A | AC31: Hạnh_H | AD31: Nội_CN | AE31: Huyền_V | AF31: Hạnh_V | AG31: T.Giang_S | AH31: Len_T | AI31: Hiền_L | AJ31: Quang_H | AK31: Yến_T | AL31: Tuyến_S | AM31: Hảo_H | AN31: ThùyAnh | AO31: Thủy_A | AP31: Hoàn_S | AQ31: Hằng_T | AR31: Dũng_KT | AS31: Khanh_A
B32: 3 | C32: Hùng_TD | L32: Lẫy_TD | R32: Hiền | S32: Trưởng | Y32: Nhung_V | Z32: Vụ_L | AA32: Hạnh_L | AB32: Hà_L | AC32: Hải_L | AD32: Thảo_L | AE32: Sỹ_L | AG32: Thủy_L | AH32: Thủy_V | AI32: Sâm_V | AJ32: Đ.Hương_V | AK32: Hồng_V | AL32: Hằng_V | AO32: Tuyến_V | AP32: C.Hương_V | AQ32: Huyền_V | AS32: T.Hương_V
B33: 4 | G33: Lẫy_TD | N33: Hùng_TD | R33: Trưởng | S33: Hiền | Y33: Nhung_V | Z33: Vụ_L | AA33: Hạnh_L | AB33: Hà_L | AC33: Hải_L | AD33: Thảo_L | AE33: Sỹ_L | AG33: Thủy_L | AH33: Thủy_V | AI33: Sâm_V | AJ33: Đ.Hương_V | AK33: Hồng_V | AL33: Hằng_V | AO33: Tuyến_V | AP33: C.Hương_V | AQ33: Huyền_V | AS33: T.Hương_V
B34: 5 | G34: Lẫy_TD | N34: Hùng_TD | R34: Trưởng | S34: Hiền | Y34: Nhung_V | Z34: Vụ_L | AA34: Hạnh_L | AB34: Hà_L | AC34: Hải_L | AD34: Thảo_L | AE34: Sỹ_L | AG34: Thủy_L | AH34: Thủy_V | AI34: Sâm_V | AJ34: Đ.Hương_V | AK34: Hồng_V | AL34: Hằng_V | AO34: Tuyến_V | AP34: C.Hương_V | AQ34: Huyền_V | AS34: T.Hương_V
A35: Thứ 5 | B35: 1 | C35: Hảo_H | D35: Đường_T | E35: Linh_Su | F35: V.Anh_H | G35: Hạnh_V | H35: Yến_Su | I35: Hường_Đ | J35: Phương_Đ | K35: Mẫn_A | L35: Mai_S | M35: Hạnh_H | N35: T.Giang_S | O35: Ng.Anh_QP | P35: Huyền_A | Q35: Hạnh_L | R35: Đ.Hương_V | S35: Cường | T35: Huyền_V | U35: Nghị_KT | V35: Nguyệt_H | W35: Thìn_CD | X35: Mạnh_QP | Y35: Thương_T | AA35: Quang_T | AB35: Linh_TD | AD35: Lương_H | AG35: Huế_T | AH35: Oanh_A | AM35: L.Anh_TD | AN35: ThùyAnh | AQ35: Hằng_T | AR35: Thủy_A | AS35: Trưởng
B36: 2 | C36: Linh_Su | D36: Hường_Đ | E36: Hảo_H | F36: Nga_A | G36: Hạnh_V | H36: Mạnh_QP | I36: Yến_Su | J36: Mai_S | K36: Mẫn_A | L36: Phương_Đ | M36: Hạnh_L | N36: Châm | O36: Thìn_CD | P36: Huyền_A | Q36: Phượng_CD | R36: Đ.Hương_V | S36: V.Anh_H | T36: Nghị_KT | U36: Nguyệt_H | V36: Đường_T | W36: T.Giang_S | X36: Ngọ_T | Y36: Thương_T | AA36: Quang_T | AB36: Linh_TD | AC36: Ng.Anh_QP | AD36: Lương_H | AG36: Huế_T | AH36: Oanh_A | AM36: L.Anh_TD | AN36: ThùyAnh | AQ36: Hằng_T | AR36: Thủy_A | AS36: Trưởng
B37: 3 | C37: Sâm_A | D37: Yến_Su | E37: Mạnh_QP | F37: Hiệp_Đ | G37: Hạnh_L | H37: Châm | I37: Thủy_T | J37: Mẫn_A | K37: Linh_Su | L37: Phượng_CD | M37: Thìn_CD | N37: C.Hương_V | O37: Nga_A | P37: Phương_Đ | Q37: V.Anh_H | R37: Hạnh_H | S37: Nghị_KT | T37: Huyền_V | U37: Cường | V37: Đường_T | W37: Huyền_A | X37: Hường_Đ | Y37: Mai_S | AA37: Quang_T | AB37: Ng.Anh_QP | AC37: Linh_TD | AD37: Lương_H | AG37: Huế_T | AH37: Oanh_A | AK37: L.Anh_TD | AN37: ThùyAnh | AQ37: Hằng_T | AR37: Thủy_A | AS37: Hải
B38: 4 | C38: Hường_Đ | D38: Hà_L | E38: Nhung_V | F38: Hằng_T | G38: Huế_T | H38: Ngọ_T | I38: Mạnh_QP | J38: Nghị_KT | K38: Quang_T | L38: Khanh_A | M38: Hiệp_Đ | N38: Vụ_L | O38: Hảo_H | P38: Hạnh_H | Q38: Châm | R38: Sâm_A | S38: Phượng_CD | T38: Thủy_A | U38: Cường | V38: Nga_A | W38: Huyền_A | X38: Nguyệt_H | Y38: Thìn_CD | AC38: Linh_TD | AK38: L.Anh_TD | AS38: Hải
B39: 5 | C39: Vụ_L | D39: Đường_T | E39: Nhung_V | F39: Linh_Su | G39: Yến_Su | H39: Ngọ_T | I39: Thủy_T | J39: Hải | K39: Hà_L | L39: Khanh_A | M39: Ng.Anh_QP | N39: V.Anh_H | O39: Phương_Đ | P39: Phượng_CD | Q39: C.Hương_V | R39: Sâm_A | S39: Hồng_S | T39: Cường | U39: Châm | V39: Nga_A | W39: Nguyệt_H | X39: Mai_S | Y39: Mạnh_QP
B40: 1 | Z40: ThùyAnh | AA40: Hạnh_L | AB40: Hạnh_V | AC40: A.My_A | AD40: Thảo_L | AE40: Nội_CN | AF40: Hạnh_H | AG40: Thủy_L | AH40: Hồng | AI40: Hằng_T | AJ40: Oanh_A | AK40: Hồng_V | AL40: Quang_H | AM40: Hợp_Su | AN40: Thương_T | AO40: Dũng_T | AP40: Huyền_A | AQ40: Huyền_V | AR40: Thủy_A | AS40: Khanh_A
B41: 2 | K41: Lẫy_TD | V41: Hùng_TD | Y41: Hồng | Z41: ThùyAnh | AA41: Linh_Su | AB41: Hà_L | AC41: A.My_A | AD41: Thịnh | AE41: Nguyệt_H | AF41: Hường_Đ | AG41: Nội_CN | AH41: Thủy_L | AI41: Huyền_A | AJ41: Tuyến_S | AK41: Hồng_V | AL41: Hải | AM41: Dũng_T | AN41: Thương_T | AO41: Quang_H | AP41: Vụ_L | AQ41: Huyền_V | AR41: C.Hương_V | AS41: Mạnh_QP
B42: 3 | D42: Hạnh_H | G42: Khanh_A | I42: Nhung_V | J42: Hạnh_V | K42: Lẫy_TD | M42: Hạnh_L | N42: Hằng_T | O42: Hà_L | U42: Thảo_L | V42: Hùng_TD | W42: Thìn_T | Y42: Hồng | Z42: Nguyệt_H | AA42: A.My_A | AB42: Linh_Su | AC42: Thủy_T | AD42: Thịnh | AE42: ThùyAnh | AF42: Phương_A | AG42: Huyền_V | AH42: Tuyến_S | AI42: Quang_H | AJ42: Oanh_A | AK42: Hải | AL42: Hường_Đ | AM42: Hồng_V | AN42: Thìn_CD | AO42: Thủy_A | AP42: Mạnh_QP | AQ42: Hợp_Su | AR42: C.Hương_V | AS42: Lương_H
B43: 4 | D43: Hạnh_H | G43: Khanh_A | H43: Lẫy_TD | I43: Nhung_V | J43: Hạnh_V | M43: Hạnh_L | N43: Hằng_T | O43: Hà_L | U43: Thảo_L | V43: Thịnh | W43: Thìn_T | Y43: L.Anh_TD | Z43: Vụ_L | AA43: Nguyệt_H | AB43: P.Lan_A | AC43: Thủy_T | AD43: Phương_A | AE43: ThùyAnh | AF43: Nội_CN | AG43: Huyền_V | AH43: Lương_H | AI43: Linh_Su | AJ43: Đ.Hương_V | AK43: Hải | AL43: Oanh_A | AM43: Hồng_V | AN43: Tuyến_S | AO43: Thủy_A | AP43: Thương_T | AQ43: Châm | AR43: Dũng_T | AS43: Hợp_Su
B44: 5 | D44: Hạnh_H | G44: Khanh_A | H44: Lẫy_TD | I44: Nhung_V | J44: Hạnh_V | M44: Hạnh_L | N44: Hằng_T | O44: Hà_L | U44: Thảo_L | V44: Thịnh | W44: Thìn_T | Y44: L.Anh_TD | Z44: Linh_Su | AA44: Nội_CN | AB44: P.Lan_A | AC44: Hợp_Su | AD44: Thủy_T | AE44: Huyền_V | AF44: Phương_A | AG44: Lương_H | AH44: Hồng | AI44: Tuyến_S | AJ44: Đ.Hương_V | AK44: Vụ_L | AL44: Hải | AM44: Thìn_CD | AN44: ThùyAnh | AO44: Dũng_T | AP44: C.Hương_V | AQ44: Châm | AR44: Quang_H | AS44: Hường_Đ
A45: Thứ 6 | B45: 1 | C45: Hồng_S | D45: Hường_Đ | E45: Hằng_Đ | F45: Thủy_L | G45: Khanh_A | H45: Thảo_L | I45: Nhung_V | J45: Hạnh_H | K45: Hiếu_V | L45: Phương_Đ | M45: Tuyến_V | N45: Châm | O45: Mai_S | P45: H.Giang_S | Q45: Hoa_T | R45: Mạnh_QP | S45: V.Anh_H | T45: Hải_L | U45: Sâm_V | V45: Đ.Hương_V | W45: T.Giang_S | X45: Hồng_A | Y45: Nghị_KT | Z45: Đường_T | AA45: A.My_A | AC45: Thủy_T | AE45: Nguyệt_H | AF45: Linh_TD | AH45: L.Anh_TD | AL45: Oanh_A | AM45: Hồng_V | AN45: Ng.Anh_QP | AO45: Dũng_T | AS45: Quang_T
B46: 2 | C46: Hường_Đ | D46: Hồng_A | E46: Ngọ_T | F46: Hằng_T | G46: Mạnh_QP | H46: Hiệp_Đ | I46: Nhung_V | J46: Phương_Đ | K46: Hiếu_V | L46: Khanh_A | M46: Nghị_KT | N46: Hằng_Đ | O46: Hồng_S | P46: Thủy_L | Q46: Hoa_T | R46: Hạnh_H | S46: Mẫn_A | T46: Mai_S | U46: Thảo_L | V46: Đ.Hương_V | W46: Thủy_V | X46: Hải_L | Y46: T.Giang_S | Z46: Đường_T | AA46: A.My_A | AC46: Thủy_T | AE46: Nguyệt_H | AF46: Linh_TD | AH46: L.Anh_TD | AJ46: Ng.Anh_QP | AL46: Oanh_A | AM46: Hồng_V | AN46: Sâm_V | AO46: Dũng_T | AS46: Quang_T
B47: 3 | C47: Mạnh_QP | D47: Dũng_KT | E47: Thủy_L | F47: Hiếu_V | G47: Hằng_Đ | H47: Ngọ_T | I47: Nghị_KT | J47: Mẫn_A | K47: Hạnh_H | L47: T.Hương_V | M47: Khanh_A | N47: Châm | O47: Phương_Đ | P47: Len_T | Q47: V.Anh_H | R47: Hoa_T | S47: Hường_Đ | T47: Quang_H | U47: H.Giang_S | V47: Nga_A | W47: Thảo_L | X47: Tuyến_V | Y47: Hiệp_Đ | Z47: Đường_T | AA47: A.My_A | AC47: Thủy_T | AE47: Nguyệt_H | AF47: Trưởng | AH47: Ng.Anh_QP | AJ47: L.Anh_TD | AL47: Oanh_A | AM47: Hồng_V | AN47: Sâm_V | AO47: Dũng_T | AS47: Quang_T
B48: 4 | C48: Dũng_KT | D48: Hồng_A | E48: Nhung_V | F48: Nga_A | G48: Khanh_A | H48: Châm | I48: V.Anh_H | J48: Mai_S | K48: Hằng_Đ | L48: Nghị_KT | M48: H.Giang_S | N48: Hằng_T | O48: T.Hương_V | P48: Len_T | Q48: Mạnh_QP | R48: Hạnh_H | S48: Thủy_V | T48: Hiệp_Đ | U48: Hợp_Su | V48: T.Giang_S | W48: Thìn_T | X48: Tuyến_V | Y48: Thương_T | AE48: Trưởng | AJ48: L.Anh_TD | AM48: Ng.Anh_QP | AN48: Sâm_V
B49: 5 | C49: Tuyến_V | D49: Hiếu_V | E49: Ngọ_T | F49: Nga_A | G49: H.Giang_S | H49: V.Anh_H | I49: Thủy_T | J49: Thương_T | K49: Hồng_S | L49: Mai_S | M49: Len_T | N49: Hằng_T | O49: T.Hương_V | P49: Hợp_Su | Q49: Dũng_KT | R49: Hoa_T | S49: Thủy_V | T49: Quang_H | U49: Châm | V49: Nguyệt_H | W49: Thìn_T | X49: Hồng_A | Y49: Nhung_V
B50: 1 | Z50: Nội_CN | AA50: Hạnh_L | AB50: Phương_Đ | AC50: Hằng_Đ | AD50: Phương_A | AE50: Sơn_T | AF50: Hạnh_H | AG50: Huế_T | AH50: Thủy_L | AI50: Nga_CD | AJ50: Oanh_A | AK50: A.My_A | AL50: Hằng_V | AM50: Tuyến_S | AN50: Thảo_L | AO50: Dũng_T | AP50: Thìn_CD | AQ50: Mạnh_QP | AR50: Hợp_Su | AS50: Quang_T
B51: 2 | D51: Hùng_TD | M51: Lẫy_TD | Z51: Đường_T | AA51: Quang_T | AB51: Thịnh | AC51: Hạnh_H | AD51: Phương_A | AE51: Sơn_T | AF51: Hải_L | AG51: Hợp_Su | AH51: Oanh_A | AI51: Tuyến_S | AJ51: Quang_H | AK51: Hoàn_S | AL51: Hằng_V | AM51: Hồng_V | AN51: Nội_CN | AO51: Hiệp_Đ | AP51: Thương_T | AQ51: Hạnh_L | AR51: Mạnh_QP | AS51: Dũng_KT
B52: 3 | D52: Hùng_TD | F52: Hiếu_V | J52: Mẫn_A | L52: T.Hương_V | M52: Lẫy_TD | P52: Thủy_L | Q52: V.Anh_H | R52: Thảo_L | T52: Cường | U52: Châm | V52: Đường_T | W52: Thủy_V | X52: Ngọ_T | Y52: Hồng_A | Z52: T.Giang_S | AA52: Hồng_V | AB52: Thịnh | AC52: A.My_A | AD52: Mai_S | AE52: Nga_CD | AF52: Dũng_T | AG52: Huế_T | AH52: Oanh_A | AI52: Phương_Đ | AJ52: Hạnh_L | AK52: Yến_T | AL52: Khương_T | AM52: Hợp_Su | AN52: Thương_T | AO52: Dũng_KT | AP52: Hằng_Đ | AQ52: Quang_H | AR52: Hải_L | AS52: Thìn_CD
B53: 4 | F53: Hiếu_V | I53: Lẫy_TD | J53: Mẫn_A | L53: T.Hương_V | O53: Hùng_TD | P53: Thủy_L | Q53: V.Anh_H | R53: Thảo_L | T53: Cường | U53: Châm | V53: Đường_T | W53: Thủy_V | X53: Ngọ_T | Y53: Hồng_A | Z53: Hằng_V | AA53: Hồng_V | AB53: Huế_T | AC53: Thịnh | AD53: Thủy_T | AE53: Nội_CN | AF53: Phương_A | AG53: Phương_Đ | AH53: Nga_CD | AI53: Hiền_L | AJ53: Hoa_T | AK53: Tuyến_S | AL53: Hợp_Su | AM53: Dũng_T | AN53: Thương_T | AO53: Mạnh_QP | AP53: Mai_S | AQ53: Thìn_CD | AR53: Hoàn_S | AS53: Khanh_A
B54: 5 | F54: Hiếu_V | I54: Lẫy_TD | J54: Mẫn_A | L54: T.Hương_V | O54: Hùng_TD | P54: Thủy_L | Q54: V.Anh_H | R54: Thảo_L | T54: Cường | U54: Châm | V54: Đường_T | W54: Thủy_V | X54: Ngọ_T | Y54: Hồng_A | Z54: Hằng_V | AA54: Nội_CN | AB54: Huế_T | AC54: Thịnh | AD54: Thủy_T | AE54: Hợp_Su | AF54: T.Giang_S | AG54: Nga_CD | AH54: Tuyến_S | AI54: Hoàn_S | AJ54: Hoa_T | AK54: Yến_T | AL54: Khương_T | AM54: Dũng_T | AN54: Mai_S | AO54: Thìn_CD | AP54: Thương_T | AQ54: Dũng_KT | AR54: Quang_H | AS54: Khanh_A
A55: Thứ 7 | B55: 1 | C55: Quang_T | D55: Hạnh_H | E55: Sâm_A | F55: Hiếu_V | G55: Huế_T | H55: Ngọ_T | I55: V.Anh_H | J55: Hà_L | K55: Phượng_CD | L55: Ng.Anh_QP | M55: Tuyến_V | N55: Hằng_Đ | O55: Hiền | P55: Thủy_L | Q55: Hoa_T | R55: Đ.Hương_V | S55: Cường | T55: Hồng_S | U55: Nga_CD | V55: Nghị_KT | W55: Thủy_V | X55: Hồng_A | Y55: Nhung_V | Z55: Nguyệt_H | AB55: P.Lan_A | AD55: Thủy_T | AF55: Phương_A | AG55: Linh_TD | AI55: Huyền_A | AL55: L.Anh_TD | AN55: Thương_T | AP55: Trưởng | AQ55: Châm | AR55: Dũng_T
B56: 2 | C56: Sâm_A | D56: Hiếu_V | E56: Hồng_S | F56: Nga_A | G56: Huế_T | H56: Hằng_V | I56: Hồng_A | J56: Hạnh_H | K56: Hiền | L56: Hoa_T | M56: Tuyến_V | N56: Hằng_T | O56: Hà_L | P56: Sâm_V | Q56: C.Hương_V | R56: Đ.Hương_V | S56: Cường | T56: Phượng_CD | U56: Hằng_Đ | V56: Thủy_L | W56: Thủy_V | X56: Nghị_KT | Y56: Nhung_V | Z56: Nguyệt_H | AA56: Ng.Anh_QP | AB56: P.Lan_A | AD56: Thủy_T | AF56: Phương_A | AG56: Linh_TD | AI56: Huyền_A | AL56: L.Anh_TD | AN56: Thương_T | AP56: Trưởng | AQ56: Châm | AR56: Dũng_T
B57: 3 | C57: Sâm_A | D57: Hiếu_V | E57: Hảo_H | F57: Hằng_T | G57: Hạnh_L | H57: Hằng_V | I57: Nhung_V | J57: Phượng_CD | K57: Quang_T | L57: Hoa_T | M57: Len_T | N57: V.Anh_H | O57: Nga_A | P57: Hạnh_H | Q57: C.Hương_V | R57: Nga_CD | S57: Thủy_V | T57: Cường | U57: Sâm_V | V57: Hằng_Đ | W57: Nghị_KT | X57: Ngọ_T | Y57: Hồng_A | Z57: Nguyệt_H | AA57: Linh_TD | AB57: P.Lan_A | AD57: Thủy_T | AF57: Phương_A | AG57: Trưởng | AI57: Huyền_A | AL57: Ng.Anh_QP | AN57: Thương_T | AP57: Hiền | AQ57: Châm | AR57: Dũng_T
B58: 4 | C58: Vụ_L | D58: Hoàn_S | E58: Ngọ_T | F58: Hằng_T | G58: Hảo_H | H58: Hồng | I58: Thủy_T | J58: Hạnh_V | K58: Quang_T | L58: V.Anh_H | M58: Hạnh_L | N58: Nga_CD | O58: Huế_T | P58: Len_T | Q58: Hoa_T | R58: Hồng_S | S58: Mẫn_A | T58: Cường | U58: Châm | V58: Nghị_KT | W58: Hằng_Đ | X58: Tuyến_V | Y58: Thương_T | AA58: Linh_TD | AD58: Trưởng | AP58: Hiền
B59: 5 | C59: Vụ_L | D59: Hạnh_H | E59: Ngọ_T | F59: Hiếu_V | G59: Hạnh_V | H59: Hằng_V | I59: Nga_CD | J59: Tuyến_S | K59: Hồng_S | L59: Hoàn_S | M59: Hạnh_L | N59: V.Anh_H | O59: Hảo_H | P59: Len_T | Q59: Hiền | R59: Sâm_A | S59: Mẫn_A | T59: Hồng | U59: Cường | V59: Nga_A | W59: Thủy_V | X59: Tuyến_V | Y59: Nhung_V
B60: 1 | Z60: Hường_Đ | AA60: A.My_A | AB60: Huế_T | AC60: Thủy_T | AD60: Phương_A | AE60: Sơn_T | AF60: Hải_L | AG60: Lương_H | AH60: Linh_Su | AI60: Sâm_V | AJ60: Hoa_T | AK60: Phượng_CD | AL60: Oanh_A | AM60: Hải | AN60: Nội_CN | AO60: H.Giang_S | AP60: Hằng_Đ | AQ60: Hằng_T | AR60: C.Hương_V | AS60: Quang_T
B61: 2 | T61: Hải_L | V61: Đ.Hương_V | Z61: Phượng_CD | AA61: Linh_Su | AB61: Hảo_H | AC61: Thủy_T | AD61: Lương_H | AE61: Sơn_T | AF61: Phương_A | AG61: Nội_CN | AH61: Oanh_A | AI61: Hằng_T | AJ61: Nga_CD | AK61: A.My_A | AL61: Hằng_V | AM61: Hải | AN61: Sâm_V | AO61: Hiệp_Đ | AP61: C.Hương_V | AQ61: Hoàn_S | AR61: Dũng_T | AS61: Quang_T
B62: 3 | C62: Vụ_L | E62: Hảo_H | F62: Nga_A | H62: Ngọ_T | Q62: Hạnh_L | R62: Sâm_A | T62: Hải_L | V62: Đ.Hương_V | Z62: Hằng_V | AA62: Nguyệt_H | AB62: Phượng_CD | AC62: Hiếu_V | AD62: Nga_CD | AE62: H.Giang_S | AF62: Dũng_T | AG62: Huế_T | AH62: Hằng_Đ | AI62: Sâm_V | AJ62: Hoa_T | AK62: A.My_A | AL62: Hà_L | AM62: Hiệp_Đ | AN62: Hải | AO62: Tuyến_V | AP62: C.Hương_V | AQ62: Hằng_T | AR62: Hường_Đ | AS62: Hoàn_S
B63: 4 | C63: Vụ_L | E63: Hảo_H | F63: Nga_A | H63: Ngọ_T | Q63: Hạnh_L | R63: Sâm_A | T63: Hải_L | V63: Đ.Hương_V | Z63: Nguyệt_H | AA63: H.Giang_S | AB63: Hà_L | AC63: Hiếu_V | AD63: Thủy_T | AE63: Phương_Đ | AF63: Dũng_T | AG63: Huế_T | AH63: Oanh_A | AI63: Linh_Su | AJ63: Hường_Đ | AK63: Hồng_V | AL63: Thìn_CD | AM63: Thủy_A | AN63: Hải | AO63: Tuyến_V | AP63: Huyền_A | AQ63: Hiệp_Đ | AR63: Hoàn_S | AS63: T.Hương_V
B64: 5 | C64: Vụ_L | E64: Hảo_H | F64: Nga_A | H64: Ngọ_T | Q64: Hạnh_L | R64: Sâm_A | Z64: Nguyệt_H | AA64: Hồng_V | AB64: Hà_L | AC64: A.My_A | AD64: Thủy_T | AE64: H.Giang_S | AF64: Hải_L | AG64: Phương_Đ | AH64: Oanh_A | AI64: Huyền_A | AJ64: Đ.Hương_V | AK64: Phượng_CD | AL64: Hường_Đ | AM64: Thủy_A | AN64: Sâm_V | AO64: Yến_Su | AP64: C.Hương_V | AQ64: Hiệp_Đ | AR64: Thìn_CD | AS64: T.Hương_V

Sheet TKB 2B-HS
F1: THỜI KHÓA BIỂU HK2 2021 -2022 (CHÍNH THỨC - LẦN 01) -2 Buổi S/C -HS
F2: Thực hiện từ ngày: 17/01/2022
A4: Ngày | B4: Tiết | C4: 12A | D4: 12B | E4: 12C | F4: 12D | G4: 12E | H4: 12G | I4: 12H | J4: 12I | K4: 12K | L4: 12M | M4: 12N | N4: 12P | O4: 12Q | P4: 11A1 | Q4: 11A2 | R4: 11A3 | S4: 11A4 | T4: 11A5 | U4: 11A6 | V4: 11D1 | W4: 11D2 | X4: 11D3 | Y4: 11D4 | Z4: 10A1 | AA4: 10A2 | AB4: 10A3 | AC4: 10A4 | AD4: 10A5 | AE4: 10A6 | AF4: 10A7 | AG4: 10A8 | AH4: 10D1 | AI4: 10D2 | AJ4: 10D3 | AK4: 10D4 | AL4: 10D5 | AM4: 10D6 | AN4: 10D7 | AO4: 11D5 | AP4: 11D6 | AQ4: 11D7 | AR4: 11D8 | AS4: 11D9
A5: Thứ 2 | B5: 1 | C5: Chào cờ | D5: Chào cờ | E5: Chào cờ | F5: Chào cờ | G5: Chào cờ | H5: Chào cờ | I5: Chào cờ | J5: Chào cờ | K5: Chào cờ | L5: Chào cờ | M5: Chào cờ | N5: Chào cờ | O5: Chào cờ | P5: Chào cờ | Q5: Chào cờ | R5: Chào cờ | S5: Chào cờ | T5: Chào cờ | U5: Chào cờ | V5: Chào cờ | W5: Chào cờ | X5: Chào cờ | Y5: Chào cờ | AE5: Thể dục | AO5: Thể dục | AQ5: Tin học | AR5: Thể dục
B6: 2 | C6: Hóa học | D6: Ngoại ngữ 1 | E6: Ngoại ngữ 1 | F6: Ngữ Văn | G6: Ngữ Văn | H6: Sinh học | I6: Tin học | J6: Sinh học | K6: Công nghệ | L6: Ngữ Văn | M6: Hóa học | N6: Vật lí | O6: Công nghệ | P6: Ngoại ngữ 1 | Q6: Vật lí | R6: Địa lí | S6: Hóa học | T6: Sinh học | U6: Toán | V6: Ngữ Văn | W6: Hóa học | X6: Toán | Y6: Ngữ Văn | AB6: Toán_TB | AC6: Anh_TB | AE6: Thể dục | AH6: Toán_TB | AI6: Toán_TB | AJ6: Toán_TB | AO6: Thể dục | AP6: Toán_TB | AQ6: Tin học | AR6: Thể dục | AS6: Anh_TB
B7: 3 | C7: Ngữ Văn | D7: GDCD | E7: Ngoại ngữ 1 | F7: Ngữ Văn | G7: Hóa học | H7: Ngữ Văn | I7: Ngoại ngữ 1 | J7: Ngoại ngữ 1 | K7: Toán | L7: Ngữ Văn | M7: Vật lí | N7: Công nghệ | O7: Ngoại ngữ 1 | P7: GDQP-AN | Q7: Ngoại ngữ 1 | R7: Sinh học | S7: Ngữ Văn | T7: Vật lí | U7: Hóa học | V7: Ngữ Văn | W7: Công nghệ | X7: Toán | Y7: Hóa học | AB7: Toán_TB | AC7: Anh_TB | AD7: Thể dục | AH7: Toán_TB | AI7: Toán_TB | AJ7: Toán_TB | AN7: Thể dục | AO7: Tin học | AP7: Toán_TB | AQ7: Thể dục | AR7: Tin học | AS7: Anh_TB
B8: 4 | C8: Toán | D8: Ngữ Văn | E8: Ngữ Văn | F8: Hóa học | G8: Địa lí | H8: Ngữ Văn | I8: Sinh học | J8: Ngoại ngữ 1 | K8: Hóa học | L8: Sinh học | M8: Ngữ Văn | N8: Ngữ Văn | O8: Ngoại ngữ 1 | P8: Ngữ Văn | Q8: Ngoại ngữ 1 | R8: Công nghệ | S8: Toán | T8: Ngoại ngữ 1 | U8: Công nghệ | V8: GDQP-AN | W8: Ngoại ngữ 1 | X8: Vật lí | Y8: Ngoại ngữ 1 | AB8: Toán_TB | AC8: Anh_TB | AD8: Thể dục | AH8: Toán_TB | AI8: Toán_TB | AJ8: Toán_TB | AN8: Thể dục | AO8: Tin học | AP8: Toán_TB | AQ8: Thể dục | AR8: Tin học | AS8: Anh_TB
B9: 5 | C9: Toán | D9: Hóa học | E9: Toán | F9: GDQP-AN | G9: Công nghệ | H9: Hóa học | I9: Ngữ Văn | J9: Toán | K9: Ngữ Văn | L9: Ngoại ngữ 1 | M9: Toán | N9: Ngữ Văn | O9: Hóa học | P9: Ngữ Văn | Q9: Địa lí | R9: Toán | S9: Sinh học | T9: Ngoại ngữ 1 | U9: Toán | V9: Ngoại ngữ 1 | W9: Ngoại ngữ 1 | X9: Ngữ Văn | Y9: Ngoại ngữ 1
B10: 1 | Z10: Tin học | AA10: Toán | AB10: Toán | AC10: Công nghệ | AD10: Ngữ Văn | AE10: Vật lí | AF10: Ngữ Văn | AG10: Vật lí | AH10: Ngữ Văn | AI10: Toán | AJ10: Ngoại ngữ 1 | AK10: Hóa học | AL10: Lịch sử | AM10: Vật lí | AN10: Ngoại ngữ 1 | AO10: Vật lí | AP10: Vật lí | AQ10: Ngoại ngữ 1 | AR10: Toán | AS10: Hóa học
B11: 2 | D11: Lý_TB | G11: Văn_TB | J11: Thể dục | K11: Anh_TB | L11: Toán_TB | M11: Hóa_TB | O11: Toán_TB | P11: Thể dục | S11: Lý_TB | T11: Thể dục | U11: Tin học | X11: Tin học | Z11: Tin học | AA11: Toán | AB11: Sinh học | AC11: Vật lí | AD11: Ngữ Văn | AE11: Hóa học | AF11: Công nghệ | AG11: Ngoại ngữ 1 | AH11: Hóa học | AI11: Hóa học | AJ11: Lịch sử | AK11: Địa lí | AL11: Ngoại ngữ 1 | AM11: Toán | AN11: Lịch sử | AO11: Ngoại ngữ 1 | AP11: Ngoại ngữ 1 | AQ11: Toán | AR11: Địa lí | AS11: Công nghệ
B12: 3 | D12: Lý_TB | G12: Văn_TB | J12: Thể dục | K12: Anh_TB | L12: Toán_TB | M12: Hóa_TB | O12: Toán_TB | P12: Thể dục | S12: Lý_TB | T12: Thể dục | U12: Tin học | X12: Tin học | Z12: Vật lí | AA12: GDCD | AB12: Lịch sử | AC12: Vật lí | AD12: Sinh học | AE12: Tin học | AF12: Lịch sử | AG12: Ngoại ngữ 1 | AH12: Ngữ Văn | AI12: Ngoại ngữ 1 | AJ12: Ngữ Văn | AK12: Lịch sử | AL12: Hóa học | AM12: Công nghệ | AN12: Ngữ Văn | AO12: Lịch sử | AP12: Công nghệ | AQ12: Ngoại ngữ 1 | AR12: Ngoại ngữ 1 | AS12: Địa lí
B13: 4 | D13: Lý_TB | E13: Thể dục | G13: Văn_TB | K13: Anh_TB | L13: Toán_TB | M13: Hóa_TB | O13: Toán_TB | P13: Tin học | S13: Lý_TB | T13: Tin học | U13: Thể dục | X13: Thể dục | Z13: Ngoại ngữ 1 | AA13: Ngữ Văn | AB13: Công nghệ | AC13: Ngoại ngữ 1 | AD13: Địa lí | AE13: Lịch sử | AF13: Toán | AG13: Ngữ Văn | AH13: Lịch sử | AI13: Ngoại ngữ 1 | AJ13: Ngữ Văn | AK13: Vật lí | AL13: Ngoại ngữ 1 | AM13: Ngoại ngữ 1 | AN13: Ngữ Văn | AO13: Sinh học | AP13: Ngữ Văn | AQ13: Hóa học | AR13: GDCD | AS13: Ngữ Văn
B14: 5 | E14: Thể dục | P14: Tin học | T14: Tin học | U14: Thể dục | X14: Thể dục | Z14: Chào cờ | AA14: Chào cờ | AB14: Chào cờ | AC14: Chào cờ | AD14: Chào cờ | AE14: Chào cờ | AF14: Chào cờ | AG14: Chào cờ | AH14: Chào cờ | AI14: Chào cờ | AJ14: Chào cờ | AK14: Chào cờ | AL14: Chào cờ | AM14: Chào cờ | AN14: Chào cờ | AO14: Chào cờ | AP14: Chào cờ | AQ14: Chào cờ | AR14: Chào cờ | AS14: Chào cờ
A15: Thứ 3 | B15: 1 | C15: Ngữ Văn | D15: GDQP-AN | E15: GDCD | F15: Công nghệ | G15: Ngữ Văn | H15: Địa lí | I15: Ngoại ngữ 1 | J15: Vật lí | K15: Ngoại ngữ 1 | L15: Vật lí | M15: Ngoại ngữ 1 | N15: GDQP-AN | O15: Ngữ Văn | P15: Toán | Q15: Lịch sử | R15: Ngoại ngữ 1 | S15: Lịch sử | T15: Công nghệ | U15: Sinh học | V15: Toán | W15: Vật lí | X15: Địa lí | Y15: Vật lí | AF15: Lý_TB | AI15: Thể dục | AK15: Toán_TB | AM15: Toán_TB | AO15: Anh_TB | AP15: Anh_TB | AR15: Văn_TB
B16: 2 | C16: Ngữ Văn | D16: Vật lí | E16: Ngoại ngữ 1 | F16: Địa lí | G16: Ngoại ngữ 1 | H16: Lịch sử | I16: Địa lí | J16: Ngữ Văn | K16: Địa lí | L16: Vật lí | M16: Toán | N16: Ngoại ngữ 1 | O16: Ngữ Văn | P16: Công nghệ | Q16: Sinh học | R16: Lịch sử | S16: Ngoại ngữ 1 | T16: Ngữ Văn | U16: Vật lí | V16: Toán | W16: GDQP-AN | X16: GDCD | Y16: Công nghệ | Z16: GDQP-AN | AF16: Lý_TB | AI16: Thể dục | AK16: Toán_TB | AM16: Toán_TB | AO16: Anh_TB | AP16: Anh_TB | AR16: Văn_TB
B17: 3 | C17: Ngoại ngữ 1 | D17: Ngoại ngữ 1 | E17: Địa lí | F17: Vật lí | G17: Ngoại ngữ 1 | H17: GDCD | I17: GDCD | J17: Toán | K17: Ngoại ngữ 1 | L17: Toán | M17: Lịch sử | N17: Vật lí | O17: Toán | P17: Sinh học | Q17: Ngoại ngữ 1 | R17: Vật lí | S17: GDQP-AN | T17: Ngữ Văn | U17: Ngữ Văn | V17: Sinh học | W17: Lịch sử | X17: Công nghệ | Y17: Địa lí | Z17: Thể dục | AF17: Lý_TB | AI17: GDQP-AN | AK17: Toán_TB | AM17: Toán_TB | AO17: Anh_TB | AP17: Anh_TB | AR17: Văn_TB
B18: 4 | C18: Vật lí | D18: Toán | E18: Vật lí | F18: Lịch sử | G18: GDCD | H18: Ngoại ngữ 1 | I18: Lịch sử | J18: Toán | K18: Vật lí | L18: Ngữ Văn | M18: Ngoại ngữ 1 | N18: Ngữ Văn | O18: Toán | P18: Ngoại ngữ 1 | Q18: Công nghệ | R18: Toán | S18: Vật lí | T18: GDQP-AN | U18: Ngữ Văn | V18: GDCD | W18: Toán | X18: Ngoại ngữ 1 | Y18: Sinh học | Z18: Thể dục | AK18: GDQP-AN
B19: 5 | C19: GDCD | D19: Toán | E19: Công nghệ | F19: GDCD | G19: Toán | H19: Ngoại ngữ 1 | I19: Vật lí | J19: GDQP-AN | K19: Lịch sử | L19: Toán | M19: Địa lí | N19: Lịch sử | O19: Vật lí | P19: Ngữ Văn | Q19: Sinh học | R19: Ngoại ngữ 1 | S19: Ngoại ngữ 1 | T19: Ngoại ngữ 1 | U19: GDQP-AN | V19: Vật lí | W19: Địa lí | X19: Sinh học | Y19: Ngoại ngữ 1
B20: 1 | Z20: Vật lí | AA20: Tin học | AB20: Ngữ Văn | AC20: Ngữ Văn | AD20: Vật lí | AE20: Vật lí | AF20: Tin học | AG20: Ngoại ngữ 1 | AH20: Toán | AI20: Tin học | AJ20: Sinh học | AK20: Công nghệ | AL20: Ngữ Văn | AM20: Công nghệ | AN20: Hóa học | AO20: Ngữ Văn | AP20: Toán | AQ20: Ngữ Văn | AR20: Toán | AS20: Toán
B21: 2 | F21: Thể dục | Q21: Tin học | W21: Thể dục | Z21: Lịch sử | AA21: Tin học | AB21: Ngữ Văn | AC21: Công nghệ | AD21: Vật lí | AE21: Vật lí | AF21: Tin học | AG21: Vật lí | AH21: Toán | AI21: Tin học | AJ21: Vật lí | AK21: Ngoại ngữ 1 | AL21: Công nghệ | AM21: Hóa học | AN21: Ngoại ngữ 1 | AO21: Hóa học | AP21: Công nghệ | AQ21: Ngữ Văn | AR21: Toán | AS21: Ngữ Văn
B22: 3 | C22: Toán_TB | E22: Lý_TB | F22: Thể dục | H22: Văn_TB | I22: Anh_TB | K22: Văn_TB | N22: Lý_TB | P22: Toán_TB | Q22: Tin học | R22: Toán_TB | S22: Toán_TB | W22: Thể dục | X22: Văn_TB | Y22: Toán_TB | Z22: Ngoại ngữ 1 | AA22: Ngoại ngữ 1 | AB22: Vật lí | AC22: GDCD | AD22: Công nghệ | AE22: Tin học | AF22: Toán | AG22: Lịch sử | AH22: Công nghệ | AI22: Ngữ Văn | AJ22: Lịch sử | AK22: Hóa học | AL22: Toán | AM22: Ngoại ngữ 1 | AN22: Địa lí | AO22: Vật lí | AP22: Sinh học | AQ22: Vật lí | AR22: Công nghệ | AS22: Ngữ Văn
B23: 4 | C23: Toán_TB | E23: Lý_TB | H23: Văn_TB | I23: Anh_TB | K23: Văn_TB | N23: Lý_TB | P23: Toán_TB | Q23: Thể dục | R23: Toán_TB | S23: Toán_TB | W23: Tin học | X23: Văn_TB | Y23: Toán_TB | Z23: Toán | AA23: Địa lí | AB23: Hóa học | AC23: Vật lí | AD23: Ngữ Văn | AE23: Ngoại ngữ 1 | AF23: Lịch sử | AG23: Tin học | AH23: Ngữ Văn | AI23: Ngữ Văn | AJ23: Tin học | AK23: Lịch sử | AL23: Vật lí | AM23: Ngữ Văn | AN23: Vật lí | AO23: Công nghệ | AP23: Ngoại ngữ 1 | AQ23: Sinh học | AR23: Ngoại ngữ 1 | AS23: Vật lí
B24: 5 | C24: Toán_TB | E24: Lý_TB | H24: Văn_TB | I24: Anh_TB | K24: Văn_TB | N24: Lý_TB | P24: Toán_TB | Q24: Thể dục | R24: Toán_TB | S24: Toán_TB | W24: Tin học | X24: Văn_TB | Y24: Toán_TB | Z24: Toán | AA24: Vật lí | AB24: Công nghệ | AC24: Lịch sử | AD24: Lịch sử | AE24: Ngoại ngữ 1 | AF24: GDCD | AG24: Tin học | AH24: Ngữ Văn | AI24: Ngoại ngữ 1 | AJ24: Tin học | AK24: Ngữ Văn | AL24: Toán | AM24: Ngoại ngữ 1 | AN24: Hóa học | AO24: Toán | AP24: Hóa học | AQ24: Địa lí | AR24: Vật lí | AS24: Sinh học
A25: Thứ 4 | B25: 1 | C25: Toán | D25: Tin học | E25: Vật lí | F25: Tin học | G25: Lịch sử | H25: Công nghệ | I25: Ngoại ngữ 1 | J25: Ngữ Văn | K25: Ngữ Văn | L25: Tin học | M25: Ngoại ngữ 1 | N25: Tin học | O25: Vật lí | P25: Công nghệ | Q25: Vật lí | R25: Vật lí | S25: Vật lí | T25: Toán | U25: Hóa học | V25: Địa lí | W25: Ngữ Văn | X25: Sinh học | Y25: Hóa học | AE25: Toán_TB | AF25: Toán_TB | AG25: Anh_TB | AJ25: Anh_TB | AK25: Anh_TB | AL25: Toán_TB | AM25: Anh_TB
B26: 2 | C26: Tin học | D26: Vật lí | E26: Tin học | F26: Sinh học | G26: Tin học | H26: Vật lí | I26: Vật lí | J26: Ngữ Văn | K26: GDQP-AN | L26: Hóa học | M26: Tin học | N26: Toán | O26: Toán | P26: Vật lí | Q26: Ngữ Văn | R26: Công nghệ | S26: Công nghệ | T26: Vật lí | U26: Ngoại ngữ 1 | V26: Lịch sử | W26: Toán | X26: Hóa học | Y26: Vật lí | AE26: Toán_TB | AF26: Toán_TB | AG26: Anh_TB | AJ26: Anh_TB | AK26: Anh_TB | AL26: Toán_TB | AM26: Anh_TB
B27: 3 | C27: Anh_TB | D27: Toán_TB | E27: Toán_TB | F27: Toán_TB | G27: Toán_TB | H27: Anh_TB | I27: Toán_TB | J27: Toán_TB | K27: Toán_TB | L27: Anh_TB | M27: Toán_TB | N27: Hóa_TB | O27: Hóa_TB | P27: Hóa_TB | Q27: Toán_TB | S27: Anh_TB | T27: Hóa_TB | U27: Toán_TB | V27: Anh_TB | W27: Anh_TB | X27: Anh_TB | AE27: Toán_TB | AF27: Toán_TB | AG27: Anh_TB | AJ27: Anh_TB | AK27: Anh_TB | AL27: Toán_TB | AM27: Anh_TB
B28: 4 | C28: Anh_TB | D28: Toán_TB | E28: Toán_TB | F28: Toán_TB | G28: Toán_TB | H28: Anh_TB | I28: Toán_TB | J28: Toán_TB | K28: Toán_TB | L28: Anh_TB | M28: Toán_TB | N28: Hóa_TB | O28: Hóa_TB | P28: Hóa_TB | Q28: Toán_TB | S28: Anh_TB | T28: Hóa_TB | U28: Toán_TB | V28: Anh_TB | W28: Anh_TB | X28: Anh_TB
B29: 5 | C29: Anh_TB | D29: Toán_TB | E29: Toán_TB | F29: Toán_TB | G29: Toán_TB | H29: Anh_TB | I29: Toán_TB | J29: Toán_TB | K29: Toán_TB | L29: Anh_TB | M29: Toán_TB | N29: Hóa_TB | O29: Hóa_TB | P29: Hóa_TB | Q29: Toán_TB | S29: Anh_TB | T29: Hóa_TB | U29: Toán_TB | V29: Anh_TB | W29: Anh_TB | X29: Anh_TB
B30: 1 | Z30: Công nghệ | AA30: Ngoại ngữ 1 | AB30: Ngoại ngữ 1 | AC30: Sinh học | AD30: Hóa học | AE30: Ngữ Văn | AF30: Ngữ Văn | AG30: Ngoại ngữ 1 | AH30: Toán | AI30: Toán | AJ30: Công nghệ | AK30: Toán | AL30: Sinh học | AM30: Vật lí | AN30: Ngữ Văn | AO30: Toán | AP30: Hóa học | AQ30: Công nghệ | AR30: Ngoại ngữ 1 | AS30: Vật lí
B31: 2 | C31: Thể dục | L31: Thể dục | R31: Tin học | S31: Thể dục | Z31: Toán | AA31: Toán | AB31: Ngoại ngữ 1 | AC31: Hóa học | AD31: Công nghệ | AE31: Ngữ Văn | AF31: Ngữ Văn | AG31: Sinh học | AH31: Toán | AI31: Vật lí | AJ31: Hóa học | AK31: Toán | AL31: Công nghệ | AM31: Hóa học | AN31: Ngoại ngữ 1 | AO31: Ngoại ngữ 1 | AP31: Sinh học | AQ31: Toán | AR31: Công nghệ | AS31: Ngoại ngữ 1
B32: 3 | C32: Thể dục | L32: Thể dục | R32: Tin học | S32: Thể dục | Y32: Văn_TB | Z32: Lý_TB | AA32: Lý_TB | AB32: Lý_TB | AC32: Lý_TB | AD32: Lý_TB | AE32: Lý_TB | AG32: Lý_TB | AH32: Văn_TB | AI32: Văn_TB | AJ32: Văn_TB | AK32: Văn_TB | AL32: Văn_TB | AO32: Văn_TB | AP32: Văn_TB | AQ32: Văn_TB | AS32: Văn_TB
B33: 4 | G33: Thể dục | N33: Thể dục | R33: Thể dục | S33: Tin học | Y33: Văn_TB | Z33: Lý_TB | AA33: Lý_TB | AB33: Lý_TB | AC33: Lý_TB | AD33: Lý_TB | AE33: Lý_TB | AG33: Lý_TB | AH33: Văn_TB | AI33: Văn_TB | AJ33: Văn_TB | AK33: Văn_TB | AL33: Văn_TB | AO33: Văn_TB | AP33: Văn_TB | AQ33: Văn_TB | AS33: Văn_TB
B34: 5 | G34: Thể dục | N34: Thể dục | R34: Thể dục | S34: Tin học | Y34: Văn_TB | Z34: Lý_TB | AA34: Lý_TB | AB34: Lý_TB | AC34: Lý_TB | AD34: Lý_TB | AE34: Lý_TB | AG34: Lý_TB | AH34: Văn_TB | AI34: Văn_TB | AJ34: Văn_TB | AK34: Văn_TB | AL34: Văn_TB | AO34: Văn_TB | AP34: Văn_TB | AQ34: Văn_TB | AS34: Văn_TB
A35: Thứ 5 | B35: 1 | C35: Hóa học | D35: Toán | E35: Lịch sử | F35: Hóa học | G35: Ngữ Văn | H35: Lịch sử | I35: Địa lí | J35: Địa lí | K35: Ngoại ngữ 1 | L35: Lịch sử | M35: Hóa học | N35: Sinh học | O35: GDQP-AN | P35: Ngoại ngữ 1 | Q35: Vật lí | R35: Ngữ Văn | S35: Toán | T35: Ngữ Văn | U35: Công nghệ | V35: Hóa học | W35: GDCD | X35: GDQP-AN | Y35: Toán | AA35: Toán_TB | AB35: Thể dục | AD35: Hóa_TB | AG35: Toán_TB | AH35: Anh_TB | AM35: Thể dục | AN35: Anh_TB | AQ35: Toán_TB | AR35: Anh_TB | AS35: Thể dục
B36: 2 | C36: Lịch sử | D36: Địa lí | E36: Hóa học | F36: Ngoại ngữ 1 | G36: Ngữ Văn | H36: GDQP-AN | I36: Lịch sử | J36: Lịch sử | K36: Ngoại ngữ 1 | L36: Địa lí | M36: Vật lí | N36: Ngoại ngữ 1 | O36: GDCD | P36: Ngoại ngữ 1 | Q36: GDCD | R36: Ngữ Văn | S36: Hóa học | T36: Công nghệ | U36: Hóa học | V36: Toán | W36: Sinh học | X36: Toán | Y36: Toán | AA36: Toán_TB | AB36: Thể dục | AC36: GDQP-AN | AD36: Hóa_TB | AG36: Toán_TB | AH36: Anh_TB | AM36: Thể dục | AN36: Anh_TB | AQ36: Toán_TB | AR36: Anh_TB | AS36: Thể dục
B37: 3 | C37: Ngoại ngữ 1 | D37: Lịch sử | E37: GDQP-AN | F37: Địa lí | G37: Vật lí | H37: Ngoại ngữ 1 | I37: Toán | J37: Ngoại ngữ 1 | K37: Lịch sử | L37: GDCD | M37: GDCD | N37: Ngữ Văn | O37: Ngoại ngữ 1 | P37: Địa lí | Q37: Hóa học | R37: Hóa học | S37: Công nghệ | T37: Ngữ Văn | U37: Toán | V37: Toán | W37: Ngoại ngữ 1 | X37: Địa lí | Y37: Lịch sử | AA37: Toán_TB | AB37: GDQP-AN | AC37: Thể dục | AD37: Hóa_TB | AG37: Toán_TB | AH37: Anh_TB | AK37: Thể dục | AN37: Anh_TB | AQ37: Toán_TB | AR37: Anh_TB | AS37: Tin học
B38: 4 | C38: Địa lí | D38: Vật lí | E38: Ngữ Văn | F38: Toán | G38: Toán | H38: Toán | I38: GDQP-AN | J38: Công nghệ | K38: Toán | L38: Ngoại ngữ 1 | M38: Địa lí | N38: Vật lí | O38: Hóa học | P38: Hóa học | Q38: Ngoại ngữ 1 | R38: Ngoại ngữ 1 | S38: GDCD | T38: Ngoại ngữ 1 | U38: Toán | V38: Ngoại ngữ 1 | W38: Ngoại ngữ 1 | X38: Hóa học | Y38: GDCD | AC38: Thể dục | AK38: Thể dục | AS38: Tin học
B39: 5 | C39: Vật lí | D39: Toán | E39: Ngữ Văn | F39: Lịch sử | G39: Lịch sử | H39: Toán | I39: Toán | J39: Tin học | K39: Vật lí | L39: Ngoại ngữ 1 | M39: GDQP-AN | N39: Hóa học | O39: Địa lí | P39: GDCD | Q39: Ngữ Văn | R39: Ngoại ngữ 1 | S39: Sinh học | T39: Toán | U39: Ngoại ngữ 1 | V39: Ngoại ngữ 1 | W39: Hóa học | X39: Lịch sử | Y39: GDQP-AN
B40: 1 | Z40: Ngoại ngữ 1 | AA40: Vật lí | AB40: Ngữ Văn | AC40: Ngoại ngữ 1 | AD40: Vật lí | AE40: Công nghệ | AF40: Hóa học | AG40: Vật lí | AH40: Tin học | AI40: Toán | AJ40: Ngoại ngữ 1 | AK40: Ngữ Văn | AL40: Hóa học | AM40: Lịch sử | AN40: Toán | AO40: Toán | AP40: Ngoại ngữ 1 | AQ40: Ngữ Văn | AR40: Ngoại ngữ 1 | AS40: Ngoại ngữ 1
B41: 2 | K41: Thể dục | V41: Thể dục | Y41: Tin học | Z41: Ngoại ngữ 1 | AA41: Lịch sử | AB41: Vật lí | AC41: Ngoại ngữ 1 | AD41: Tin học | AE41: Hóa học | AF41: Địa lí | AG41: Công nghệ | AH41: Vật lí | AI41: Ngoại ngữ 1 | AJ41: Công nghệ | AK41: Ngữ Văn | AL41: Tin học | AM41: Toán | AN41: Toán | AO41: Hóa học | AP41: Vật lí | AQ41: Ngữ Văn | AR41: Ngữ Văn | AS41: GDQP-AN
B42: 3 | D42: Hóa_TB | G42: Anh_TB | I42: Văn_TB | J42: Văn_TB | K42: Thể dục | M42: Lý_TB | N42: Toán_TB | O42: Lý_TB | U42: Lý_TB | V42: Thể dục | W42: Toán_TB | Y42: Tin học | Z42: Hóa học | AA42: Ngoại ngữ 1 | AB42: Lịch sử | AC42: Toán | AD42: Tin học | AE42: Ngoại ngữ 1 | AF42: Ngoại ngữ 1 | AG42: Ngữ Văn | AH42: Sinh học | AI42: Hóa học | AJ42: Ngoại ngữ 1 | AK42: Tin học | AL42: Địa lí | AM42: Ngữ Văn | AN42: GDCD | AO42: Ngoại ngữ 1 | AP42: GDQP-AN | AQ42: Lịch sử | AR42: Ngữ Văn | AS42: Hóa học
B43: 4 | D43: Hóa_TB | G43: Anh_TB | H43: Thể dục | I43: Văn_TB | J43: Văn_TB | M43: Lý_TB | N43: Toán_TB | O43: Lý_TB | U43: Lý_TB | V43: Tin học | W43: Toán_TB | Y43: Thể dục | Z43: Vật lí | AA43: Hóa học | AB43: Ngoại ngữ 1 | AC43: Toán | AD43: Ngoại ngữ 1 | AE43: Ngoại ngữ 1 | AF43: Công nghệ | AG43: Ngữ Văn | AH43: Hóa học | AI43: Lịch sử | AJ43: Ngữ Văn | AK43: Tin học | AL43: Ngoại ngữ 1 | AM43: Ngữ Văn | AN43: Sinh học | AO43: Ngoại ngữ 1 | AP43: Toán | AQ43: Ngoại ngữ 1 | AR43: Toán | AS43: Lịch sử
B44: 5 | D44: Hóa_TB | G44: Anh_TB | H44: Thể dục | I44: Văn_TB | J44: Văn_TB | M44: Lý_TB | N44: Toán_TB | O44: Lý_TB | U44: Lý_TB | V44: Tin học | W44: Toán_TB | Y44: Thể dục | Z44: Lịch sử | AA44: Công nghệ | AB44: Ngoại ngữ 1 | AC44: Lịch sử | AD44: Toán | AE44: Ngữ Văn | AF44: Ngoại ngữ 1 | AG44: Hóa học | AH44: Tin học | AI44: Công nghệ | AJ44: Ngữ Văn | AK44: Vật lí | AL44: Tin học | AM44: GDCD | AN44: Ngoại ngữ 1 | AO44: Toán | AP44: Ngữ Văn | AQ44: Ngoại ngữ 1 | AR44: Hóa học | AS44: Địa lí
A45: Thứ 6 | B45: 1 | C45: Sinh học | D45: Địa lí | E45: Địa lí | F45: Vật lí | G45: Ngoại ngữ 1 | H45: Vật lí | I45: Ngữ Văn | J45: Hóa học | K45: Ngữ Văn | L45: Địa lí | M45: Ngữ Văn | N45: Ngoại ngữ 1 | O45: Lịch sử | P45: Sinh học | Q45: Toán | R45: GDQP-AN | S45: Hóa học | T45: Vật lí | U45: Ngữ Văn | V45: Ngữ Văn | W45: Sinh học | X45: Ngoại ngữ 1 | Y45: Công nghệ | Z45: Toán_TB | AA45: Anh_TB | AC45: Toán_TB | AE45: Hóa_TB | AF45: Thể dục | AH45: Thể dục | AL45: Anh_TB | AM45: Văn_TB | AN45: GDQP-AN | AO45: Toán_TB | AS45: Toán_TB
B46: 2 | C46: Địa lí | D46: Ngoại ngữ 1 | E46: Toán | F46: Toán | G46: GDQP-AN | H46: Địa lí | I46: Ngữ Văn | J46: Địa lí | K46: Ngữ Văn | L46: Ngoại ngữ 1 | M46: Công nghệ | N46: Địa lí | O46: Sinh học | P46: Vật lí | Q46: Toán | R46: Hóa học | S46: Ngoại ngữ 1 | T46: Lịch sử | U46: Vật lí | V46: Ngữ Văn | W46: Ngữ Văn | X46: Vật lí | Y46: Sinh học | Z46: Toán_TB | AA46: Anh_TB | AC46: Toán_TB | AE46: Hóa_TB | AF46: Thể dục | AH46: Thể dục | AJ46: GDQP-AN | AL46: Anh_TB | AM46: Văn_TB | AN46: Văn_TB | AO46: Toán_TB | AS46: Toán_TB
B47: 3 | C47: GDQP-AN | D47: Công nghệ | E47: Vật lí | F47: Ngữ Văn | G47: Địa lí | H47: Toán | I47: Công nghệ | J47: Ngoại ngữ 1 | K47: Hóa học | L47: Ngữ Văn | M47: Ngoại ngữ 1 | N47: Ngoại ngữ 1 | O47: Địa lí | P47: Toán | Q47: Hóa học | R47: Toán | S47: Địa lí | T47: Hóa học | U47: Sinh học | V47: Ngoại ngữ 1 | W47: Vật lí | X47: Ngữ Văn | Y47: Địa lí | Z47: Toán_TB | AA47: Anh_TB | AC47: Toán_TB | AE47: Hóa_TB | AF47: GDQP-AN | AH47: GDQP-AN | AJ47: Thể dục | AL47: Anh_TB | AM47: Văn_TB | AN47: Văn_TB | AO47: Toán_TB | AS47: Toán_TB
B48: 4 | C48: Công nghệ | D48: Ngoại ngữ 1 | E48: Ngữ Văn | F48: Ngoại ngữ 1 | G48: Ngoại ngữ 1 | H48: Ngoại ngữ 1 | I48: Hóa học | J48: Lịch sử | K48: Địa lí | L48: Công nghệ | M48: Sinh học | N48: Toán | O48: Ngữ Văn | P48: Toán | Q48: GDQP-AN | R48: Hóa học | S48: Ngữ Văn | T48: Địa lí | U48: Lịch sử | V48: Sinh học | W48: Toán | X48: Ngữ Văn | Y48: Toán | AE48: GDQP-AN | AJ48: Thể dục | AM48: GDQP-AN | AN48: Văn_TB
B49: 5 | C49: Ngữ Văn | D49: Ngữ Văn | E49: Toán | F49: Ngoại ngữ 1 | G49: Sinh học | H49: Hóa học | I49: Toán | J49: Toán | K49: Sinh học | L49: Lịch sử | M49: Toán | N49: Toán | O49: Ngữ Văn | P49: Lịch sử | Q49: Công nghệ | R49: Toán | S49: Ngữ Văn | T49: Hóa học | U49: Ngoại ngữ 1 | V49: Hóa học | W49: Toán | X49: Ngoại ngữ 1 | Y49: Ngữ Văn
B50: 1 | Z50: Công nghệ | AA50: Vật lí | AB50: Địa lí | AC50: Địa lí | AD50: Ngoại ngữ 1 | AE50: Toán | AF50: Hóa học | AG50: Toán | AH50: Vật lí | AI50: GDCD | AJ50: Ngoại ngữ 1 | AK50: Ngoại ngữ 1 | AL50: Ngữ Văn | AM50: Sinh học | AN50: Vật lí | AO50: Toán | AP50: GDCD | AQ50: GDQP-AN | AR50: Lịch sử | AS50: Toán
B51: 2 | D51: Thể dục | M51: Thể dục | Z51: Toán | AA51: Toán | AB51: Tin học | AC51: Hóa học | AD51: Ngoại ngữ 1 | AE51: Toán | AF51: Vật lí | AG51: Lịch sử | AH51: Ngoại ngữ 1 | AI51: Công nghệ | AJ51: Hóa học | AK51: Sinh học | AL51: Ngữ Văn | AM51: Ngữ Văn | AN51: Công nghệ | AO51: Địa lí | AP51: Toán | AQ51: Vật lí | AR51: GDQP-AN | AS51: Công nghệ
B52: 3 | D52: Thể dục | F52: Văn_TB | J52: Anh_TB | L52: Văn_TB | M52: Thể dục | P52: Lý_TB | Q52: Hóa_TB | R52: Lý_TB | T52: Toán_TB | U52: Anh_TB | V52: Toán_TB | W52: Văn_TB | X52: Toán_TB | Y52: Anh_TB | Z52: Sinh học | AA52: Ngữ Văn | AB52: Tin học | AC52: Ngoại ngữ 1 | AD52: Lịch sử | AE52: GDCD | AF52: Toán | AG52: Toán | AH52: Ngoại ngữ 1 | AI52: Địa lí | AJ52: Vật lí | AK52: Toán | AL52: Toán | AM52: Lịch sử | AN52: Toán | AO52: Công nghệ | AP52: Địa lí | AQ52: Hóa học | AR52: Vật lí | AS52: GDCD
B53: 4 | F53: Văn_TB | I53: Thể dục | J53: Anh_TB | L53: Văn_TB | O53: Thể dục | P53: Lý_TB | Q53: Hóa_TB | R53: Lý_TB | T53: Toán_TB | U53: Anh_TB | V53: Toán_TB | W53: Văn_TB | X53: Toán_TB | Y53: Anh_TB | Z53: Ngữ Văn | AA53: Ngữ Văn | AB53: Toán | AC53: Tin học | AD53: Toán | AE53: Công nghệ | AF53: Ngoại ngữ 1 | AG53: Địa lí | AH53: GDCD | AI53: Vật lí | AJ53: Toán | AK53: Công nghệ | AL53: Lịch sử | AM53: Toán | AN53: Toán | AO53: GDQP-AN | AP53: Lịch sử | AQ53: GDCD | AR53: Sinh học | AS53: Ngoại ngữ 1
B54: 5 | F54: Văn_TB | I54: Thể dục | J54: Anh_TB | L54: Văn_TB | O54: Thể dục | P54: Lý_TB | Q54: Hóa_TB | R54: Lý_TB | T54: Toán_TB | U54: Anh_TB | V54: Toán_TB | W54: Văn_TB | X54: Toán_TB | Y54: Anh_TB | Z54: Ngữ Văn | AA54: Công nghệ | AB54: Toán | AC54: Tin học | AD54: Toán | AE54: Lịch sử | AF54: Sinh học | AG54: GDCD | AH54: Công nghệ | AI54: Sinh học | AJ54: Toán | AK54: Toán | AL54: Toán | AM54: Toán | AN54: Lịch sử | AO54: GDCD | AP54: Toán | AQ54: Công nghệ | AR54: Hóa học | AS54: Ngoại ngữ 1
A55: Thứ 7 | B55: 1 | C55: Toán | D55: Hóa học | E55: Ngoại ngữ 1 | F55: Ngữ Văn | G55: Toán | H55: Toán | I55: Hóa học | J55: Vật lí | K55: GDCD | L55: GDQP-AN | M55: Ngữ Văn | N55: Địa lí | O55: Tin học | P55: Vật lí | Q55: Toán | R55: Ngữ Văn | S55: Toán | T55: Sinh học | U55: GDCD | V55: Công nghệ | W55: Ngữ Văn | X55: Ngoại ngữ 1 | Y55: Ngữ Văn | Z55: Hóa_TB | AB55: Anh_TB | AD55: Toán_TB | AF55: Anh_TB | AG55: Thể dục | AI55: Anh_TB | AL55: Thể dục | AN55: Toán_TB | AP55: Thể dục | AQ55: Anh_TB | AR55: Toán_TB
B56: 2 | C56: Ngoại ngữ 1 | D56: Ngữ Văn | E56: Sinh học | F56: Ngoại ngữ 1 | G56: Toán | H56: Ngữ Văn | I56: Ngoại ngữ 1 | J56: Hóa học | K56: Tin học | L56: Toán | M56: Ngữ Văn | N56: Toán | O56: Vật lí | P56: Ngữ Văn | Q56: Ngữ Văn | R56: Ngữ Văn | S56: Toán | T56: GDCD | U56: Địa lí | V56: Vật lí | W56: Ngữ Văn | X56: Công nghệ | Y56: Ngữ Văn | Z56: Hóa_TB | AA56: GDQP-AN | AB56: Anh_TB | AD56: Toán_TB | AF56: Anh_TB | AG56: Thể dục | AI56: Anh_TB | AL56: Thể dục | AN56: Toán_TB | AP56: Thể dục | AQ56: Anh_TB | AR56: Toán_TB
B57: 3 | C57: Ngoại ngữ 1 | D57: Ngữ Văn | E57: Hóa học | F57: Toán | G57: Vật lí | H57: Ngữ Văn | I57: Ngữ Văn | J57: GDCD | K57: Toán | L57: Toán | M57: Toán | N57: Hóa học | O57: Ngoại ngữ 1 | P57: Hóa học | Q57: Ngữ Văn | R57: GDCD | S57: Ngữ Văn | T57: Toán | U57: Ngữ Văn | V57: Địa lí | W57: Công nghệ | X57: Toán | Y57: Ngoại ngữ 1 | Z57: Hóa_TB | AA57: Thể dục | AB57: Anh_TB | AD57: Toán_TB | AF57: Anh_TB | AG57: GDQP-AN | AI57: Anh_TB | AL57: GDQP-AN | AN57: Toán_TB | AP57: Tin học | AQ57: Anh_TB | AR57: Toán_TB
B58: 4 | C58: Vật lí | D58: Sinh học | E58: Toán | F58: Toán | G58: Hóa học | H58: Tin học | I58: Toán | J58: Ngữ Văn | K58: Toán | L58: Hóa học | M58: Vật lí | N58: GDCD | O58: Toán | P58: Toán | Q58: Toán | R58: Sinh học | S58: Ngoại ngữ 1 | T58: Toán | U58: Ngoại ngữ 1 | V58: Công nghệ | W58: Địa lí | X58: Ngữ Văn | Y58: Toán | AA58: Thể dục | AD58: GDQP-AN | AP58: Tin học
B59: 5 | C59: Sinh hoạt | D59: Sinh hoạt | E59: Sinh hoạt | F59: Sinh hoạt | G59: Sinh hoạt | H59: Sinh hoạt | I59: Sinh hoạt | J59: Sinh hoạt | K59: Sinh hoạt | L59: Sinh hoạt | M59: Sinh hoạt | N59: Sinh hoạt | O59: Sinh hoạt | P59: Sinh hoạt | Q59: Sinh hoạt | R59: Sinh hoạt | S59: Sinh hoạt | T59: Sinh hoạt | U59: Sinh hoạt | V59: Sinh hoạt | W59: Sinh hoạt | X59: Sinh hoạt | Y59: Sinh hoạt
B60: 1 | Z60: Địa lí | AA60: Ngoại ngữ 1 | AB60: Toán | AC60: Toán | AD60: Ngoại ngữ 1 | AE60: Toán | AF60: Vật lí | AG60: Hóa học | AH60: Lịch sử | AI60: Ngữ Văn | AJ60: Toán | AK60: GDCD | AL60: Ngoại ngữ 1 | AM60: Tin học | AN60: Công nghệ | AO60: Sinh học | AP60: Địa lí | AQ60: Toán | AR60: Ngữ Văn | AS60: Toán
B61: 2 | T61: Lý_TB | V61: Văn_TB | Z61: GDCD | AA61: Lịch sử | AB61: Hóa học | AC61: Toán | AD61: Hóa học | AE61: Toán | AF61: Ngoại ngữ 1 | AG61: Công nghệ | AH61: Ngoại ngữ 1 | AI61: Toán | AJ61: GDCD | AK61: Ngoại ngữ 1 | AL61: Ngữ Văn | AM61: Tin học | AN61: Ngữ Văn | AO61: Địa lí | AP61: Ngữ Văn | AQ61: Sinh học | AR61: Toán | AS61: Toán
B62: 3 | C62: Lý_TB | E62: Hóa_TB | F62: Anh_TB | H62: Toán_TB | Q62: Lý_TB | R62: Anh_TB | T62: Lý_TB | V62: Văn_TB | Z62: Ngữ Văn | AA62: Hóa học | AB62: GDCD | AC62: Ngữ Văn | AD62: GDCD | AE62: Sinh học | AF62: Toán | AG62: Toán | AH62: Địa lí | AI62: Ngữ Văn | AJ62: Toán | AK62: Ngoại ngữ 1 | AL62: Vật lí | AM62: Địa lí | AN62: Tin học | AO62: Ngữ Văn | AP62: Ngữ Văn | AQ62: Toán | AR62: Địa lí | AS62: Sinh học
B63: 4 | C63: Lý_TB | E63: Hóa_TB | F63: Anh_TB | H63: Toán_TB | Q63: Lý_TB | R63: Anh_TB | T63: Lý_TB | V63: Văn_TB | Z63: Hóa học | AA63: Sinh học | AB63: Vật lí | AC63: Ngữ Văn | AD63: Toán | AE63: Địa lí | AF63: Toán | AG63: Toán | AH63: Ngoại ngữ 1 | AI63: Lịch sử | AJ63: Địa lí | AK63: Ngữ Văn | AL63: GDCD | AM63: Ngoại ngữ 1 | AN63: Tin học | AO63: Ngữ Văn | AP63: Ngoại ngữ 1 | AQ63: Địa lí | AR63: Sinh học | AS63: Ngữ Văn
B64: 5 | C64: Lý_TB | E64: Hóa_TB | F64: Anh_TB | H64: Toán_TB | Q64: Lý_TB | R64: Anh_TB | Z64: Sinh hoạt | AA64: Sinh hoạt | AB64: Sinh hoạt | AC64: Sinh hoạt | AD64: Sinh hoạt | AE64: Sinh hoạt | AF64: Sinh hoạt | AG64: Sinh hoạt | AH64: Sinh hoạt | AI64: Sinh hoạt | AJ64: Sinh hoạt | AK64: Sinh hoạt | AL64: Sinh hoạt | AM64: Sinh hoạt | AN64: Sinh hoạt | AO64: Sinh hoạt | AP64: Sinh hoạt | AQ64: Sinh hoạt | AR64: Sinh hoạt | AS64: Sinh hoạt

Sheet Phong TB_S
A1: =Lop_S!A1 -> BUỔI SÁNG | C1: ='Phong TB_C'!F1 -> THỜI KHÓA BIỂU HK2 2021 -2022 (CHÍNH THỨC - LẦN 01)
A2: =Lop_S!A2 -> Bắt đầu từ: 7h15' | C2: ='Phong TB_C'!$F$2 -> Thực hiện từ ngày: 17/01/2022
D3: THỜI KHÓA BIỂU PHÒNG HỌC TRÁI BUỔI-SÁNG
A5: Ngày | B5: Tiết | C5: P19 | D5: P 19 | E5: P 20 | F5: P 21 | G5: P 24 | H5: P 25 | I5: TH LÝ | J5: TH HÓA | K5: TH SINH | L5: P.TV | M5: Thể dục | N5: Thể dục | O5: Thể dục
A6: Thứ 2 | B6: 1 | M6: Linh_10A4 | O6: Bình_11D6
B7: 2 | G7: 10D5 - Oanh_A | H7: 10A2 - Quang_T | I7: 10D6 - Yến_T | J7: 10D7 - ThùyAnh | K7: 10A1 - Đường_T | L7: 10A6 - Sơn_T | M7: Linh_10A4 | O7: Bình_11D6
B8: 3 | G8: 10D5 - Oanh_A | H8: 10A2 - Quang_T | I8: 10D6 - Yến_T | J8: 10D7 - ThùyAnh | K8: 10A1 - Đường_T | L8: 10A6 - Sơn_T | M8: Linh_10A3 | N8: L.Anh_10D1 | O8: Bình_11D7
B9: 4 | G9: 10D5 - Oanh_A | H9: 10A2 - Quang_T | I9: 10D6 - Yến_T | J9: 10D7 - ThùyAnh | K9: 10A1 - Đường_T | L9: 10A6 - Sơn_T | M9: Linh_10A3 | N9: L.Anh_10D1 | O9: Bình_11D7
B10: 5
A11: Thứ 3 | B11: 1 | G11: 11D8 - Dũng_T | H11: 10D4 - A-My_A | I11: 10D1 - Oanh_A | J11: 10A3 - Huế_T | K11: 10A4 - Hải_L | M11: Linh_10A2 | N11: L.Anh_10D7
B12: 2 | G12: 11D8 - Dũng_T | H12: 10D4 - A-My_A | I12: 10D1 - Oanh_A | J12: 10A3 - Huế_T | K12: 10A4 - Hải_L | M12: Linh_10A2 | N12: L.Anh_10D7
B13: 3 | G13: 11D8 - Dũng_T | H13: 10D4 - A-My_A | I13: 10D1 - Oanh_A | J13: 10A3 - Huế_T | K13: 10A4 - Hải_L | M13: Linh_10A1 | N13: L.Anh_10D5
B14: 4 | M14: Linh_10A1 | N14: L.Anh_10D5
B15: 5
A16: Thứ 4 | B16: 1 | G16: 11D7 - Hằng_T | H16: 10A3 - Hà_L | I16: 10D4 - Hồng_V | J16: 10D2 - Sâm_V | K16: 10A1 - Đường_T | L16: 10A4 - Thủy_T
B17: 2 | G17: 11D7 - Hằng_T | H17: 10A3 - Hà_L | I17: 10D4 - Hồng_V | J17: 10D2 - Sâm_V | K17: 10A1 - Đường_T | L17: 10A4 - Thủy_T
B18: 3 | G18: 11D7 - Hằng_T | H18: 10A3 - Hà_L | I18: 10D4 - Hồng_V | J18: 10D2 - Sâm_V | K18: 10A1 - Đường_T | L18: 10A4 - Thủy_T
B19: 4
B20: 5
A21: Thứ 5 | B21: 1 | G21: 10D2 - Hằng_T | H21: 11D6 - Thương_T | I21: 10A6 - Sỹ_L | J21: 10A8 - Huế_T | K21: 10D3 - Hoa_T | M21: Linh_11D9 | N21: L.Anh_10D4
B22: 2 | G22: 10D2 - Hằng_T | H22: 11D6 - Thương_T | I22: 10A6 - Sỹ_L | J22: 10A8 - Huế_T | K22: 10D3 - Hoa_T | M22: Linh_11D9 | N22: L.Anh_10D4
B23: 3 | G23: 10D2 - Hằng_T | H23: 11D6 - Thương_T | I23: 10A6 - Sỹ_L | J23: 10A8 - Huế_T | K23: 10D3 - Hoa_T | M23: Linh_11D8 | N23: L.Anh_10D6
B24: 4 | M24: Linh_11D8 | N24: L.Anh_10D6
B25: 5
A26: Thứ 6 | B26: 1 | G26: 11D6 - Huyền_A | H26: 11D5 - Thủy_A | I26: 10D1 - Len_T | J26: 10A5 - Thủy_T | K26: 11D7 - Châm | L26: 11D9 - T.Hương_V | M26: Linh_10A8 | N26: L.Anh_10D2
B27: 2 | G27: 11D6 - Huyền_A | H27: 11D5 - Thủy_A | I27: 10D1 - Len_T | J27: 10A5 - Thủy_T | K27: 11D7 - Châm | L27: 11D9 - T.Hương_V | M27: Linh_10A8 | N27: L.Anh_10D2
B28: 3 | G28: 11D6 - Huyền_A | H28: 11D5 - Thủy_A | I28: 10D1 - Len_T | J28: 10A5 - Thủy_T | K28: 11D7 - Châm | L28: 11D9 - T.Hương_V | M28: Linh_10A7 | N28: L.Anh_10D3
B29: 4 | M29: Linh_10A7 | N29: L.Anh_10D3
B30: 5
A31: Thứ 7 | B31: 1 | G31: 10A4 - Thủy_T | H31: 10A1 - Nguyệt_H | I31: 10D3 - Đ.Hương_V | J31: 10A7 - Phương_A | K31: 10A2 - A-My_A | M31: Linh_10A6 | N31: L.Anh_11D5
B32: 2 | G32: 10A4 - Thủy_T | H32: 10A1 - Nguyệt_H | I32: 10D3 - Đ.Hương_V | J32: 10A7 - Phương_A | K32: 10A2 - A-My_A | M32: Linh_10A6 | N32: L.Anh_11D5
B33: 3 | G33: 10A4 - Thủy_T | H33: 10A1 - Nguyệt_H | I33: 10D3 - Đ.Hương_V | J33: 10A7 - Phương_A | K33: 10A2 - A-My_A | M33: Linh_10A5
B34: 4 | M34: Linh_10A5
B35: 5
A36: CN | B36: 1 | G36: 10A1 - ThùyAnh
B37: 2 | G37: 10A1 - ThùyAnh
B38: 3 | G38: 10A1 - ThùyAnh

Sheet Phong TB_C
A1: =Lop_C!A1 -> BUỔI CHIỀU | F1: =TKBGV_C!E1 -> THỜI KHÓA BIỂU HK2 2021 -2022 (CHÍNH THỨC - LẦN 01)
A2: =Lop_C!A2 -> Bắt đầu từ: 12h45 | F2: =TKBGV_C!K2 -> Thực hiện từ ngày: 17/01/2022
A5: Ngày | B5: Tiết | C5: P17 | D5: P20 | E5: P 21 | F5: P 22 | G5: P 23 | H5: P 24 | I5: P 25 | J5: TH LÝ | K5: TH HÓA | L5: TH SINH | M5: P.TV | N5: Thể dục | O5: Thể dục | P5: Thể dục
A6: Thứ 2 | B6: 1
B7: 2 | E7: 12E - Huế_T | F7: 12B - Hà_L | G7: 12N - Hạnh_H | H7: 12P - Vụ_L | I7: 12A - Sâm_A | J7: 12K - Mẫn_A | K7: 12D - Nga_A | L7: 12Q - Hảo_H | M7: 11A2 - Hoa_T | N7: Hùng_11D3 | O7: Lẫy_12C | P7: Bình_11A5
B8: 3 | E8: 12E - Huế_T | F8: 12B - Hà_L | G8: 12N - Hạnh_H | H8: 12P - Vụ_L | I8: 12A - Sâm_A | J8: 12K - Mẫn_A | K8: 12D - Nga_A | L8: 12Q - Hảo_H | M8: 11A2 - Hoa_T | N8: Hùng_11D4 | O8: Lẫy_12C | P8: Bình_11A5
B9: 4 | E9: 12E - Huế_T | F9: 12B - Hà_L | G9: 12N - Hạnh_H | H9: 12P - Vụ_L | I9: 12A - Sâm_A | J9: 12K - Mẫn_A | K9: 12D - Nga_A | L9: 12Q - Hảo_H | M9: 11A2 - Hoa_T | N9: Hùng_11A1 | O9: Lẫy_12M | P9: Bình_11A6
B10: 5 | N10: Hùng_11A1 | O10: Lẫy_12M | P10: Bình_11A6
A11: Thứ 3 | B11: 6
B12: 7 | N12: Hùng_12B | O12: Lẫy_12E
B13: 8 | E13: 11D2 - Huyền_A | F13: 11D1 - Đ.Hương_V | G13: 12M - Khanh_A | H13: 11A4 - Cường | I13: 12P - V.Anh_H | J13: 11A3 - Thảo_L | K13: 11A2 - Hạnh_L | L13: 12I - Hạnh_V | M13: 11A1 - Len_T | N13: Hùng_12B | O13: Lẫy_12E
B14: 9 | E14: 11D2 - Huyền_A | F14: 11D1 - Đ.Hương_V | G14: 12M - Khanh_A | H14: 11A4 - Cường | I14: 12P - V.Anh_H | J14: 11A3 - Thảo_L | K14: 11A2 - Hạnh_L | L14: 12I - Hạnh_V | M14: 11A1 - Len_T | N14: Hùng_12A | O14: Lẫy_12H
B15: 10 | E15: 11D2 - Huyền_A | F15: 11D1 - Đ.Hương_V | G15: 12M - Khanh_A | H15: 11A4 - Cường | I15: 12P - V.Anh_H | J15: 11A3 - Thảo_L | K15: 11A2 - Hạnh_L | L15: 12I - Hạnh_V | M15: 11A1 - Len_T | N15: Hùng_12A | O15: Lẫy_12H
A16: Thứ 4 | B16: Ca 1 | E16: 12P - Hằng_T | F16: 12H - Hồng_A | G16: 12Q - Huế_T | H16: 11A6 - Thảo_L | I16: 11D4 - Thương_T | J16: 12A - Quang_T | K16: 12M - Hoa_T | L16: 11D3 - Ngọ_T | M16: 11A5 - Hải_L
E17: 12P - Hằng_T | F17: 12H - Hồng_A | G17: 12Q - Huế_T | H17: 11A6 - Thảo_L | I17: 11D4 - Thương_T | J17: 12A - Quang_T | K17: 12M - Hoa_T | L17: 11D3 - Ngọ_T | M17: 11A5 - Hải_L | O17: Lẫy_12K
E18: 12P - Hằng_T | F18: 12H - Hồng_A | G18: 12Q - Huế_T | H18: 11A6 - Thảo_L | I18: 11D4 - Thương_T | J18: 12A - Quang_T | K18: 12M - Hoa_T | L18: 11D3 - Ngọ_T | M18: 11A5 - Hải_L | O18: Lẫy_12K
B19: Ca 2 | C19: 12I - Hằng_T | E19: 11D1 - Nga_A | F19: 11D2 - Thủy_V | G19: 12C - Ngọ_T | H19: 11A3 - Sâm_A | I19: 11A2 - V.Anh_H | J19: 12G - Châm | K19: 12K - Hiếu_V | L19: 11A4 - Sỹ_L | M19: 11A1 - Hạnh_H | O19: Lẫy_12I
C20: 12I - Hằng_T | E20: 11D1 - Nga_A | F20: 11D2 - Thủy_V | G20: 12C - Ngọ_T | H20: 11A3 - Sâm_A | I20: 11A2 - V.Anh_H | J20: 12G - Châm | K20: 12K - Hiếu_V | L20: 11A4 - Sỹ_L | M20: 11A1 - Hạnh_H | O20: Lẫy_12I
A21: Thứ 5 | B21: Ca 1 | E21: 11D3 - Hồng_A | F21: 12C - Hảo_H | G21: 12H - Nhung_V | H21: 11A4 - Mẫn_A | I21: 11D2 - Thìn_T | J21: 11D1 - Đường_T | K21: 12M - Hoa_T | L21: 12G - Hằng_V | M21: 12E - Huế_T
E22: 11D3 - Hồng_A | F22: 12C - Hảo_H | G22: 12H - Nhung_V | H22: 11A4 - Mẫn_A | I22: 11D2 - Thìn_T | J22: 11D1 - Đường_T | K22: 12M - Hoa_T | L22: 12G - Hằng_V | M22: 12E - Huế_T | N22: Hùng_12Q | O22: Lẫy_12N
E23: 11D3 - Hồng_A | F23: 12C - Hảo_H | G23: 12H - Nhung_V | H23: 11A4 - Mẫn_A | I23: 11D2 - Thìn_T | J23: 11D1 - Đường_T | K23: 12M - Hoa_T | L23: 12G - Hằng_V | M23: 12E - Huế_T | N23: Hùng_12Q | O23: Lẫy_12N
B24: Ca 2 | E24: 11A6 - Châm | F24: 12I - Thương_T | G24: 11A1 - Thủy_L | H24: 11A5 - Cường | I24: 12N - Len_T | J24: 12D - Hằng_T | K24: 12K - Quang_T | L24: 12A - Vụ_L | M24: 12B - Đường_T | N24: Hùng_11A4 | O24: Lẫy_12P
E25: 11A6 - Châm | F25: 12I - Thương_T | G25: 11A1 - Thủy_L | H25: 11A5 - Cường | I25: 12N - Len_T | J25: 12D - Hằng_T | K25: 12K - Quang_T | L25: 12A - Vụ_L | M25: 12B - Đường_T | N25: Hùng_11A4 | O25: Lẫy_12P
A26: Thứ 6 | B26: Ca 1 | E26: 12D - Hiếu_V | F26: 12M - T.Hương_V | G26: 12I - Mẫn_A | H26: 12H - Thủy_T | I26: 11A2 - Châm | J26: 11D4 - Hồng_A | K26: 11A1 - Len_T | L26: 11D3 - Ngọ_T
E27: 12D - Hiếu_V | F27: 12M - T.Hương_V | G27: 12I - Mẫn_A | H27: 12H - Thủy_T | I27: 11A2 - Châm | J27: 11D4 - Hồng_A | K27: 11A1 - Len_T | L27: 11D3 - Ngọ_T | N27: Hùng_11D1 | O27: Lẫy_12G
E28: 12D - Hiếu_V | F28: 12M - T.Hương_V | G28: 12I - Mẫn_A | H28: 12H - Thủy_T | I28: 11A2 - Châm | J28: 11D4 - Hồng_A | K28: 11A1 - Len_T | L28: 11D3 - Ngọ_T | N28: Hùng_11D1 | O28: Lẫy_12G
B29: Ca 2 | E29: 12E - Khanh_A | F29: 11A3 - Hoa_T | G29: 11D3 - Tuyến_V | H29: 11A5 - Quang_H | I29: 12B - Đường_T | N29: Hùng_11D2 | O29: Lẫy_12D
E30: 12E - Khanh_A | F30: 11A3 - Hoa_T | G30: 11D3 - Tuyến_V | H30: 11A5 - Quang_H | I30: 12B - Đường_T | N30: Hùng_11D2 | O30: Lẫy_12D
A31: Thứ 7 | B31: 1
B32: 2 | M32: 12Q - Hà_L | N32: Hùng_11A3
B33: 3 | E33: 11D4 - Nhung_V | F33: 12D - Hằng_T | G33: 12N - Hạnh_L | H33: 12C - Thủy_L | I33: 12E - Hạnh_V | J33: 11A6 - Cường | K33: 12G - Ngọ_T | L33: 12B - Hạnh_H | M33: 12Q - Hà_L | N33: Hùng_11A3
B34: 4 | E34: 11D4 - Nhung_V | F34: 12D - Hằng_T | G34: 12N - Hạnh_L | H34: 12C - Thủy_L | I34: 12E - Hạnh_V | J34: 11A6 - Cường | K34: 12G - Ngọ_T | L34: 12B - Hạnh_H | M34: 12Q - Hà_L | N34: Hùng_11A2
B35: 5 | E35: 11D4 - Nhung_V | F35: 12D - Hằng_T | G35: 12N - Hạnh_L | H35: 12C - Thủy_L | I35: 12E - Hạnh_V | J35: 11A6 - Cường | K35: 12G - Ngọ_T | L35: 12B - Hạnh_H | N35: Hùng_11A2
A36: CN | B36: Ca 1 | E36: 11A3 - Hoa_T | F36: 12P - Hằng_T | G36: 11D2 - Thìn_T | H36: 11D1 - Đường_T | I36: 11A4 - Cường | J36: 12A - Quang_T
E37: 11A3 - Hoa_T | F37: 12P - Hằng_T | G37: 11D2 - Thìn_T | H37: 11D1 - Đường_T | I37: 11A4 - Cường | J37: 12A - Quang_T
E38: 11A3 - Hoa_T | F38: 12P - Hằng_T | G38: 11D2 - Thìn_T | H38: 11D1 - Đường_T | I38: 11A4 - Cường | J38: 12A - Quang_T
B39: Ca 2 | E39: 11A2 - Hoa_T | F39: 12C - Ngọ_T
E40: 11A2 - Hoa_T | F40: 12C - Ngọ_T

Sheet TRO GIANG_S
A1: BUỔI SÁNG | C1: ='TKBGV-S'!E1 -> THỜI KHÓA BIỂU HK2 2021 -2022 (CHÍNH THỨC - LẦN 01)
A2: Bắt đầu từ: 7h15' | H2: ='TKBGV-S'!E2 -> Thực hiện từ ngày: 17/01/2022 | R2: (TRỢ GIẢNG TIẾNG ANH)
A3: LƯU Ý CÁC TIẾT TRỢ GIẢNG ĐƯỢC ĐÁNH DẤU IN ĐẬM TƯƠNG ỨNG VỚI CÁC TIẾT CỦA GV NƯỚC NGOÀI
A4: Giáo viên | B4: Thứ 2 | G4: Thứ 3 | L4: Thứ 4 | Q4: Thứ 5 | V4: Thứ 6 | AA4: Thứ 7 | AF4: Tổng tiết
B5: 1 | C5: 2 | D5: 3 | E5: 4 | F5: 5 | G5: 1 | H5: 2 | I5: 3 | J5: 4 | K5: 5 | L5: 1 | M5: 2 | N5: 3 | O5: 4 | P5: 5 | Q5: 1 | R5: 2 | S5: 3 | T5: 4 | U5: 5 | V5: 1 | W5: 2 | X5: 3 | Y5: 4 | Z5: 5 | AA5: 1 | AB5: 2 | AC5: 3 | AD5: 4 | AE5: 5
A6: TA Cô Khanh | H6: 11G | I6: 11E | K6: 11E | Q6: 10D9 | R6: 10D9 | S6: 10D9 | AF6: 1
A7: TA Cô Huyền | G7: 12P | H7: 12P | Q7: 12B | R7: 12B | S7: 12K | T7: 12K | AF7: 0
A8: TA Cô Sâm_A | G8: 11A | H8: 11A | I8: 11C | K8: 11C | R8: 11C | S8: 11B | T8: 11A | U8: 11E | AF8: 4
A9: TA Cô Mẫn | G9: 10A4 | H9: 10A4 | I9: 10A4 | J9: 12M | K9: 11D | Q9: 12N | R9: 12N | S9: 12M | T9: 12M | AF9: 1
A10: TA Cô Châm | G10: 11G | H10: 11I | I10: 11H | J10: 11I | Q10: 10A6 | R10: 10A6 | S10: 10A6 | T10: 11I | AF10: 2
A11: TA Teacher WST | H11: 11G | I11: 11H | J11: 11I | K11: 11D | R11: 11C | S11: 11B | T11: 11A | U11: 11E | AF11: 8

Sheet TRO GIANG _C
A1: ='TKBGV-C'!A1 -> BUỔI CHIỀU | E1: =TKBGV_S!D1 -> THỜI KHÓA BIỂU HK2 2021 -2022 (CHÍNH THỨC - LẦN 01)
A2: ='TKBGV-C'!A2 -> Bắt đầu từ: 12h45 | E2: =TKBGV_S!H2 -> Thực hiện từ ngày: 17/01/2022 | R2: (TRỢ GIẢNG TIẾNG ANH)
A3: LƯU Ý CÁC TIẾT TRỢ GIẢNG ĐƯỢC ĐÁNH DẤU IN ĐẬM TƯƠNG ỨNG VỚI CÁC TIẾT CỦA GV NƯỚC NGOÀI
A4: Giáo viên | B4: Thứ 2 | G4: Thứ 3 | L4: Thứ 4 | Q4: Thứ 5 | V4: Thứ 6 | AA4: Tổng tiết
B5: 1 | C5: 2 | D5: 3 | E5: 4 | F5: 5 | G5: 1 | H5: 2 | I5: 3 | J5: 4 | K5: 5 | L5: 1 | M5: 2 | N5: 3 | O5: 4 | P5: 5 | Q5: 1 | R5: 2 | S5: 3 | T5: 4 | U5: 5 | V5: 1 | W5: 2 | X5: 3 | Y5: 4 | Z5: 5
A6: TA Cô Khanh | B6: 10A4 | C6: 11Q | D6: HOP | E6: HOP | F6: HOP | I6: 11M | J6: 10D9 | K6: 10D9 | L6: 11E | M6: 11E | N6: 11E | R6: 11M | S6: 11N | T6: 11M | U6: 11N | V6: 11N | W6: 10D9 | X6: 11N | Y6: 11P | Z6: 11K | AA6: 5
A7: TA Cô Huyền | C7: 12K | D7: 12K | E7: 12K | G7: 10A6 | H7: 10D2 | I7: 10D4 | L7: 10A2 | M7: 10D3 | Q7: 10A1 | R7: 10A5 | S7: 10D5 | V7: 10D2 | W7: 10D2 | X7: 10D9 | Y7: HOP | Z7: HOP | AA7: 9
A8: TA Cô Sâm_A | D8: 10A3 | E8: 10A3 | F8: 10A3 | O8: 11A | P8: 11A | Y8: HOP | Z8: HOP | AA8: 0
A9: TA Cô Mẫn | D9: 10D1 | E9: 11K | F9: 10A4 | M9: 10A4 | N9: 10D6 | O9: 11K | P9: 11K | Q9: 11K | R9: 10A4 | T9: 10A3 | U9: 10A4 | V9: 10A4 | W9: 11M | X9: 11K | Y9: HOP | Z9: HOP | AA9: 4
A10: TA Cô Châm | B10: 10A2 | C10: 11P | D10: 10A6 | E10: 10D7 | G10: 11P | H10: 10A2 | J10: 10D8 | K10: 10A6 | L10: 10A6 | N10: 10A6 | O10: 11G | P10: 11G | Q10: 10A2 | S10: 11P | V10: 10A2 | W10: 11P | Y10: 11I | Z10: 11I | AA10: 2
A11: TA Teacher WST | B11: 10A4 | C11: 11Q | D11: 10D1 | E11: 10D7 | G11: 10A6 | H11: 10D2 | I11: 10D4 | J11: 10D8 | L11: 10A2 | M11: 10D3 | N11: 10D6 | Q11: 10A1 | R11: 10A5 | S11: 10D5 | T11: 10A3 | V11: 11N | W11: 11M | X11: 10D9 | Y11: 11P | Z11: 11K | AA11: 20
